BEGIN:VCALENDAR
VERSION:2.0
PRODID:-//Kulturbühne Hinterhalt - ECPv6.15.20//NONSGML v1.0//EN
CALSCALE:GREGORIAN
METHOD:PUBLISH
X-WR-CALNAME:Kulturbühne Hinterhalt
X-ORIGINAL-URL:https://hinterhalt.de
X-WR-CALDESC:Veranstaltungen für Kulturbühne Hinterhalt
REFRESH-INTERVAL;VALUE=DURATION:PT1H
X-Robots-Tag:noindex
X-PUBLISHED-TTL:PT1H
BEGIN:VTIMEZONE
TZID:Europe/Berlin
BEGIN:DAYLIGHT
TZOFFSETFROM:+0100
TZOFFSETTO:+0200
TZNAME:CEST
DTSTART:20210328T010000
END:DAYLIGHT
BEGIN:STANDARD
TZOFFSETFROM:+0200
TZOFFSETTO:+0100
TZNAME:CET
DTSTART:20211031T010000
END:STANDARD
BEGIN:DAYLIGHT
TZOFFSETFROM:+0100
TZOFFSETTO:+0200
TZNAME:CEST
DTSTART:20220327T010000
END:DAYLIGHT
BEGIN:STANDARD
TZOFFSETFROM:+0200
TZOFFSETTO:+0100
TZNAME:CET
DTSTART:20221030T010000
END:STANDARD
BEGIN:DAYLIGHT
TZOFFSETFROM:+0100
TZOFFSETTO:+0200
TZNAME:CEST
DTSTART:20230326T010000
END:DAYLIGHT
BEGIN:STANDARD
TZOFFSETFROM:+0200
TZOFFSETTO:+0100
TZNAME:CET
DTSTART:20231029T010000
END:STANDARD
END:VTIMEZONE
BEGIN:VEVENT
DTSTART;TZID=Europe/Berlin:20220403T183000
DTEND;TZID=Europe/Berlin:20220403T210000
DTSTAMP:20260425T024450
CREATED:20220313T170145Z
LAST-MODIFIED:20220328T163016Z
UID:3871-1649010600-1649019600@hinterhalt.de
SUMMARY:Katherine Zyabluk
DESCRIPTION:Die junge ukrainische Pianistin\, Sängerin und Komponistin Katherine Zyabluk\, Jahrgang 1999\, spielt seit ihrem achten Lebensjahr Klavier. Sie hat in ihrem Geburtsort Kyiv und an der Karol Szymanowski Akademie im polnischen Katowice studiert. Seit 2019 studiert sie an der Musikakademie zu Krakow\, wo sie derzeit auch lebt. Neben ihrem Studium ist Zyabluk auch eine umtriebige Netzwerkerin\, die beim Kontra Jazz Club (Kyiv) und bei Meloport\, der ukrainischen Online-Plattform für Improvisierte Musik\, federführend initiativ wurde.  \n\n\n\nAls Musikerin »führt« sie das Duo Zyabluk & Pavlov\, das Ensemble The Lost & Founders und das KUBE Project.  \n\n\n\nZusammen mit der Bassistin Jaromira Rusnak hat Zyabluk ein Quartett\, das Einflüsse von Jazz und Folklore fusioniert.  \n\n\n\n\n\n\n\nKatherine Zyabluk hat bislang zwei Alben unter eigenem Namen veröffentlicht: „Forest Song“\, eine Auseinandersetzung mit Texten der Poetin Lesja Ukrajinka (1871-1913). Im Mai 2020 veröffentlichte sie dann das nachdenkliche und introspektive „Borders Make You Grow“\, ein Soloalbum\, entstanden unter den Bedingungen der Pandemie-Quarantäne.  \n\n\n\n\n\n\n\n\nMöchten Sie diese Veranstaltung live von daheim aus anschauen? Kein Problem! \n\n\n\nWerden Sie Mitglied der Hinterhalt-Community auf Patreon und unterstützen Sie uns regelmäßig! \n\n\n\nhttps://www.patreon.com/hinterhalt\n\n\n\nFür alle anderen Zuschauer fügen wir die Aufzeichnung zu einem späteren Zeitpunkt zu unserem YouTube Account hinzu und verlinken dorthin. \n\n\n\n\n\n\n\n\nWie bei allen Hinterhalt-Livestreams geht der virtuelle Hut herum. Alle Beteiligten (Ton\, Kamera\, Technik und Künstler) freuen sich über ein kräftiges Klappern der elektronischen Münzen! \n\n\n\nDas funktioniert ganz einfach per PayPal \n\n\n\nwww.paypal.me/kilev \n\n\n\nSpenden kann der geneigte Zuschauer gerne jederzeit per Paypal: \n\n\n\n\nPayPal \n\n\n\n\nAlternativ geht es auch ‚old school‘ per Überweisung auf das Konto des Kulturverein Isar-Loisach e.V. (KIL)IBAN: DE49 7016 9543 0002 7374 77 BIC: GENODEF1HHS \n\n\n\nAlternativ geht es auch ‚old school‘ per Überweisung auf das Konto des Kulturverein Isar-Loisach e.V. (KIL)IBAN: DE49 7016 9543 0002 7374 77 BIC: GENODEF1HHS
URL:https://hinterhalt.de/veranstaltung/%ef%bf%bckatherine-zyabluk/
ATTACH;FMTTYPE=image/jpeg:https://hinterhalt.de/wp-content/uploads/2022/03/Katherine-Zyabluk.jpeg
END:VEVENT
END:VCALENDAR