BEGIN:VCALENDAR
VERSION:2.0
PRODID:-//Kulturbühne Hinterhalt - ECPv6.15.20//NONSGML v1.0//EN
CALSCALE:GREGORIAN
METHOD:PUBLISH
X-WR-CALNAME:Kulturbühne Hinterhalt
X-ORIGINAL-URL:https://hinterhalt.de
X-WR-CALDESC:Veranstaltungen für Kulturbühne Hinterhalt
REFRESH-INTERVAL;VALUE=DURATION:PT1H
X-Robots-Tag:noindex
X-PUBLISHED-TTL:PT1H
BEGIN:VTIMEZONE
TZID:Europe/Berlin
BEGIN:DAYLIGHT
TZOFFSETFROM:+0100
TZOFFSETTO:+0200
TZNAME:CEST
DTSTART:20250330T010000
END:DAYLIGHT
BEGIN:STANDARD
TZOFFSETFROM:+0200
TZOFFSETTO:+0100
TZNAME:CET
DTSTART:20251026T010000
END:STANDARD
BEGIN:DAYLIGHT
TZOFFSETFROM:+0100
TZOFFSETTO:+0200
TZNAME:CEST
DTSTART:20260329T010000
END:DAYLIGHT
BEGIN:STANDARD
TZOFFSETFROM:+0200
TZOFFSETTO:+0100
TZNAME:CET
DTSTART:20261025T010000
END:STANDARD
BEGIN:DAYLIGHT
TZOFFSETFROM:+0100
TZOFFSETTO:+0200
TZNAME:CEST
DTSTART:20270328T010000
END:DAYLIGHT
BEGIN:STANDARD
TZOFFSETFROM:+0200
TZOFFSETTO:+0100
TZNAME:CET
DTSTART:20271031T010000
END:STANDARD
END:VTIMEZONE
BEGIN:VEVENT
DTSTART;TZID=Europe/Berlin:20260110T200000
DTEND;TZID=Europe/Berlin:20260110T223000
DTSTAMP:20260424T123057
CREATED:20250303T073340Z
LAST-MODIFIED:20251126T122523Z
UID:9615-1768075200-1768084200@hinterhalt.de
SUMMARY:Fiveheads
DESCRIPTION:„FiveHeads“ fassen zeitlose Klassiker und moderne Pop/Rock Songs neu auf und geben ihnen frischen Wind.  \n\n\n\nDie Gewinner des Preises für die beste musikalische Darstellung beim Songcontest „Your Voice Your Choice“ 2023 versprechen gute Unterhaltung\, Mitsingmöglichkeiten und Hits zum Tanzen.
URL:https://hinterhalt.de/veranstaltung/4-bands-black-metal-konzert/
LOCATION:Hinterhalt I und II\, Leitenstrasse 40\, Geretsried-Gelting\, 82538
CATEGORIES:Konzert
ATTACH;FMTTYPE=image/jpeg:https://hinterhalt.de/wp-content/uploads/2025/03/th_20251711_072_A5.jpg
END:VEVENT
END:VCALENDAR