BEGIN:VCALENDAR
VERSION:2.0
PRODID:-//Kulturbühne Hinterhalt - ECPv6.15.20//NONSGML v1.0//EN
CALSCALE:GREGORIAN
METHOD:PUBLISH
X-WR-CALNAME:Kulturbühne Hinterhalt
X-ORIGINAL-URL:https://hinterhalt.de
X-WR-CALDESC:Veranstaltungen für Kulturbühne Hinterhalt
REFRESH-INTERVAL;VALUE=DURATION:PT1H
X-Robots-Tag:noindex
X-PUBLISHED-TTL:PT1H
BEGIN:VTIMEZONE
TZID:Europe/Berlin
BEGIN:DAYLIGHT
TZOFFSETFROM:+0100
TZOFFSETTO:+0200
TZNAME:CEST
DTSTART:20230326T010000
END:DAYLIGHT
BEGIN:STANDARD
TZOFFSETFROM:+0200
TZOFFSETTO:+0100
TZNAME:CET
DTSTART:20231029T010000
END:STANDARD
BEGIN:DAYLIGHT
TZOFFSETFROM:+0100
TZOFFSETTO:+0200
TZNAME:CEST
DTSTART:20240331T010000
END:DAYLIGHT
BEGIN:STANDARD
TZOFFSETFROM:+0200
TZOFFSETTO:+0100
TZNAME:CET
DTSTART:20241027T010000
END:STANDARD
BEGIN:DAYLIGHT
TZOFFSETFROM:+0100
TZOFFSETTO:+0200
TZNAME:CEST
DTSTART:20250330T010000
END:DAYLIGHT
BEGIN:STANDARD
TZOFFSETFROM:+0200
TZOFFSETTO:+0100
TZNAME:CET
DTSTART:20251026T010000
END:STANDARD
END:VTIMEZONE
BEGIN:VEVENT
DTSTART;TZID=Europe/Berlin:20241125T170000
DTEND;TZID=Europe/Berlin:20241125T190000
DTSTAMP:20260424T172644
CREATED:20240930T072337Z
LAST-MODIFIED:20241122T090233Z
UID:8578-1732554000-1732561200@hinterhalt.de
SUMMARY:Selbstverteidigungskurs- Aktionstag gegen Gewalt an Frauen
DESCRIPTION:– Selbstverteidigungskurs für junge Mädchen und Frauen \n\n\n\nSelbstverteidigungskurs für junge Mädchen (ab 12) und Frauen mit dem erfahrenen TSV-Kampfsporttrainer Toni Gerl. \n\n\n\nDas Erlernen der Selbstverteidigung ist wie das Anlegen eines Sicherheitsgurtes. Wir hoffen\, dass wir beides nie brauchen werden\, aber falls doch\, so kann es unser Leben retten. \n\n\n\nIn diesem Kurs werden effektive Abwehrtechniken gezeigt und geübt\, um sich gegen mögliche Gefahren und Übergriffe zu verteidigen und zu behaupten. Große Sportlichkeit ist keine Voraussetzung. Jede Teilnehmerin übt innerhalb ihrer persönlichen Grenzen. \n\n\n\nAnlässlich des Aktionstages GEGEN GEWALT AN FRAUEN und im Rahmen des Kulturfestivals PiPaPo wird dieser Selbstverteidigungskurs von (Anton) Toni Gerl kostenfrei angeboten. Der Initiator Kulturverein Isar Loisach e. V. dankt herzlich für dieses Angebot. \n\n\n\nAnmeldung: erbeten unter info@hinterhalt.de \n\n\n\nZeit: 17 – 19 Uhr\, Ankunft 16.45 Uhr \n\n\n\nEintritt: frei; gerne Spenden\, sofern finanziell möglich
URL:https://hinterhalt.de/veranstaltung/aktionstag-gegen-gewalt-an-frauen/
LOCATION:Hinterhalt I\, Leitenstraße 40\, Geretsried\, 82538
CATEGORIES:Konzert
ATTACH;FMTTYPE=image/jpeg:https://hinterhalt.de/wp-content/uploads/2024/09/woman-6133583_1280.jpg
END:VEVENT
END:VCALENDAR