BEGIN:VCALENDAR
VERSION:2.0
PRODID:-//Kulturbühne Hinterhalt - ECPv6.15.20//NONSGML v1.0//EN
CALSCALE:GREGORIAN
METHOD:PUBLISH
X-WR-CALNAME:Kulturbühne Hinterhalt
X-ORIGINAL-URL:https://hinterhalt.de
X-WR-CALDESC:Veranstaltungen für Kulturbühne Hinterhalt
REFRESH-INTERVAL;VALUE=DURATION:PT1H
X-Robots-Tag:noindex
X-PUBLISHED-TTL:PT1H
BEGIN:VTIMEZONE
TZID:Europe/Berlin
BEGIN:DAYLIGHT
TZOFFSETFROM:+0100
TZOFFSETTO:+0200
TZNAME:CEST
DTSTART:20230326T010000
END:DAYLIGHT
BEGIN:STANDARD
TZOFFSETFROM:+0200
TZOFFSETTO:+0100
TZNAME:CET
DTSTART:20231029T010000
END:STANDARD
BEGIN:DAYLIGHT
TZOFFSETFROM:+0100
TZOFFSETTO:+0200
TZNAME:CEST
DTSTART:20240331T010000
END:DAYLIGHT
BEGIN:STANDARD
TZOFFSETFROM:+0200
TZOFFSETTO:+0100
TZNAME:CET
DTSTART:20241027T010000
END:STANDARD
BEGIN:DAYLIGHT
TZOFFSETFROM:+0100
TZOFFSETTO:+0200
TZNAME:CEST
DTSTART:20250330T010000
END:DAYLIGHT
BEGIN:STANDARD
TZOFFSETFROM:+0200
TZOFFSETTO:+0100
TZNAME:CET
DTSTART:20251026T010000
END:STANDARD
END:VTIMEZONE
BEGIN:VEVENT
DTSTART;TZID=Europe/Berlin:20240901T190000
DTEND;TZID=Europe/Berlin:20240901T210000
DTSTAMP:20260424T203625
CREATED:20240723T104905Z
LAST-MODIFIED:20240829T134028Z
UID:8374-1725217200-1725224400@hinterhalt.de
SUMMARY:Aktionstag „Nie wieder Krieg“
DESCRIPTION:Nie wieder Krieg! – 85. Jahrestag des Überfalls der Deutschen Wehrmacht auf Befehl von Adolf Hitler auf Polen und damit Beginn des Zweiten Weltkriegs (Anerkennung der Kapitulation der Deutschen Wehrmacht durch Generaloberst Alfred Jodl am 7./8.Mai 1945). Vermutlich ca. 80 Millionen Tote bedeutete alleine der Zweite Weltkrieg\, zahllose Verletzte\, Obdachlose\, Waisen… unvorstellbares Leid! 1957 – also ein Jahr nach Einführung der Wehrpflicht (Juli 1956; Gründung der Bundeswehr 1955) – wurde der 1.Sept. offiziell zum ersten Mal als „Antikriegstag“ begangen\, organisiert vom Deutschen Gewerkschaftsbund.  \n\n\n\nBis heute gibt es diesen „Antikriegs-Tag“\, allerdings nicht von offizieller Seite. Der Bundestag beschloss im April 2024 gemäß eines gemeinsamen Antrags von SPD\, CDU/CSU\, Bündnis 90/Die Grünen und FDP mit dem Titel „Für eine umfassende Wertschätzung – Einführung eines nationalen Veteranentags“ genau einen solchen (ab 2025 jährlich am 15.Juni).  \n\n\n\nIm Hinterhalt organisieren wir am 1.9. den „Antikriegs-Abend“. Um 19h00 sind wir da\, schauen Hochrechnungen an aus Ostdeutschland und ab 20h00 den Film „Er ist wieder da“ – Er ist wieder da. Dieser Film ist eine Satire\, und „wieder da“ ist ein Diktator – mit Vornamen Adolf (nicht Bernd…). 2\,4 Millionen haben ihn im Erscheinungsjahr gesehen; das Buch dazu von Timur Vermes wurde in 41 Sprachen übersetzt; Timur Vermes ist von uns auch angefragt für diesen Abend. Abschließende Diskussion sehr erwünscht! 
URL:https://hinterhalt.de/veranstaltung/aktionstag-nie-wieder-krieg/
LOCATION:Kulturbühne Hinterhalt\, Leitenstraße 40\, Geretsried\, 82538\, Deutschland
CATEGORIES:Konzert
END:VEVENT
END:VCALENDAR