BEGIN:VCALENDAR
VERSION:2.0
PRODID:-//Kulturbühne Hinterhalt - ECPv6.15.20//NONSGML v1.0//EN
CALSCALE:GREGORIAN
METHOD:PUBLISH
X-WR-CALNAME:Kulturbühne Hinterhalt
X-ORIGINAL-URL:https://hinterhalt.de
X-WR-CALDESC:Veranstaltungen für Kulturbühne Hinterhalt
REFRESH-INTERVAL;VALUE=DURATION:PT1H
X-Robots-Tag:noindex
X-PUBLISHED-TTL:PT1H
BEGIN:VTIMEZONE
TZID:Europe/Berlin
BEGIN:DAYLIGHT
TZOFFSETFROM:+0100
TZOFFSETTO:+0200
TZNAME:CEST
DTSTART:20240331T010000
END:DAYLIGHT
BEGIN:STANDARD
TZOFFSETFROM:+0200
TZOFFSETTO:+0100
TZNAME:CET
DTSTART:20241027T010000
END:STANDARD
BEGIN:DAYLIGHT
TZOFFSETFROM:+0100
TZOFFSETTO:+0200
TZNAME:CEST
DTSTART:20250330T010000
END:DAYLIGHT
BEGIN:STANDARD
TZOFFSETFROM:+0200
TZOFFSETTO:+0100
TZNAME:CET
DTSTART:20251026T010000
END:STANDARD
BEGIN:DAYLIGHT
TZOFFSETFROM:+0100
TZOFFSETTO:+0200
TZNAME:CEST
DTSTART:20260329T010000
END:DAYLIGHT
BEGIN:STANDARD
TZOFFSETFROM:+0200
TZOFFSETTO:+0100
TZNAME:CET
DTSTART:20261025T010000
END:STANDARD
END:VTIMEZONE
BEGIN:VEVENT
DTSTART;TZID=Europe/Berlin:20251205T200000
DTEND;TZID=Europe/Berlin:20251205T223000
DTSTAMP:20260424T154418
CREATED:20250529T072938Z
LAST-MODIFIED:20251029T163742Z
UID:10157-1764964800-1764973800@hinterhalt.de
SUMMARY:Pinsel\, Pauke\, Poesie - Acoustic Night im Hinterhalt – Doppelkonzert mit Alex Donnelly Trio & Muddy What?
DESCRIPTION:Ein Abend – zwei herausragende Acts – und jede Menge musikalische Leidenschaft:Die Kulturbühne Hinterhalt lädt zur Acoustic Night mit dem Alex Donnelly Trio und Muddy What? – ein einmaliges Doppelkonzert voller handgemachter Musik\, ehrlicher Emotion und purer Spielfreude! \n\n\n\nMuddy What? \n\n\n\nDas Geschwisterpaar Ina und Fabian Spang hat sich mit seiner Band MUDDY WHAT? längst einen Namen weit über Deutschlands Grenzen hinaus gemacht. Mit ihrem unverwechselbaren “New Blues” verbinden sie traditionelle Wurzeln mit modernen Sounds\, feinen Songstrukturen und energetischer Spielfreude.Ob auf internationalen Festivals\, in Clubs oder Open-Airs – MUDDY WHAT? begeistern mit Charisma und gefühlvoll raffiniertem Spiel. \n\n\n\nAlex Donnelly \n\n\n\nSeit Jahrzehnten ist Alex Donnelly eine feste Größe der Münchner Livemusik-Szene. Mit seinem Trio präsentiert er feinfühlige Acoustic-Musik zwischen Singer-Songwriter\, Folk\, Pop und Blues – ehrlich\, ausdrucksstark und mit großem Gespür für Melodie und Stimmung.Seine Songs erzählen Geschichten\, die berühren – musikalisch vielseitig\, stilistisch souverän und getragen von Donnellys unverwechselbarer Stimme. \n\n\n\n🎵 Ein Abend voller Facetten \n\n\n\nDiese Acoustic Night verspricht einen Abend voller Klangfarben – mal zart und gefühlvoll\, mal rhythmisch und mitreißend. Zwei Formationen\, die auf ihre Weise zeigen\, wie lebendig und facettenreich handgemachte Musik sein kann.
URL:https://hinterhalt.de/veranstaltung/alex-donelly-konzert-zum-geburtstag/
LOCATION:Kulturbühne Hinterhalt\, Leitenstraße 40\, Geretsried\, 82538\, Deutschland
CATEGORIES:Konzert
ATTACH;FMTTYPE=image/jpeg:https://hinterhalt.de/wp-content/uploads/2025/10/1000045633.jpg
END:VEVENT
END:VCALENDAR