BEGIN:VCALENDAR
VERSION:2.0
PRODID:-//Kulturbühne Hinterhalt - ECPv6.15.20//NONSGML v1.0//EN
CALSCALE:GREGORIAN
METHOD:PUBLISH
X-WR-CALNAME:Kulturbühne Hinterhalt
X-ORIGINAL-URL:https://hinterhalt.de
X-WR-CALDESC:Veranstaltungen für Kulturbühne Hinterhalt
REFRESH-INTERVAL;VALUE=DURATION:PT1H
X-Robots-Tag:noindex
X-PUBLISHED-TTL:PT1H
BEGIN:VTIMEZONE
TZID:Europe/Berlin
BEGIN:DAYLIGHT
TZOFFSETFROM:+0100
TZOFFSETTO:+0200
TZNAME:CEST
DTSTART:20250330T010000
END:DAYLIGHT
BEGIN:STANDARD
TZOFFSETFROM:+0200
TZOFFSETTO:+0100
TZNAME:CET
DTSTART:20251026T010000
END:STANDARD
BEGIN:DAYLIGHT
TZOFFSETFROM:+0100
TZOFFSETTO:+0200
TZNAME:CEST
DTSTART:20260329T010000
END:DAYLIGHT
BEGIN:STANDARD
TZOFFSETFROM:+0200
TZOFFSETTO:+0100
TZNAME:CET
DTSTART:20261025T010000
END:STANDARD
BEGIN:DAYLIGHT
TZOFFSETFROM:+0100
TZOFFSETTO:+0200
TZNAME:CEST
DTSTART:20270328T010000
END:DAYLIGHT
BEGIN:STANDARD
TZOFFSETFROM:+0200
TZOFFSETTO:+0100
TZNAME:CET
DTSTART:20271031T010000
END:STANDARD
END:VTIMEZONE
BEGIN:VEVENT
DTSTART;TZID=Europe/Berlin:20260502T180000
DTEND;TZID=Europe/Berlin:20260601T233000
DTSTAMP:20260422T191803
CREATED:20260218T142238Z
LAST-MODIFIED:20260401T153957Z
UID:11973-1777744800-1780356600@hinterhalt.de
SUMMARY:Ausstellung "Kriegstüchtig"
DESCRIPTION:Anlass der Ausstellung ist die rasant voranschreitende Militarisierung der Zivilgesellschaft\, die Ausrichtung auf die uneingeschränkte Kriegsbereitschaft in alle Lebensbereiche hinein: von der Kita bis in die Universität\, vom Krankenhaus\, vom Betrieb bis zur Abfallwirtschaft. Besonders deutlich wird das im sog. Grünbuch 4.0 (ZMZ\, Zivilmilitärische Zusammenarbeit)\, einer Publikation des „Zukunftsforums Öffentliche Sicherheit“\, dessen Autorenkollektiv sich als „Denkfabrik zur Gestaltung der zukünftigen Entwicklungen der Öffentlichen Sicherheit in Deutschland“ versteht. Die Denker  liefern den Akteuren (insbesondere Fachleuten) der betreffenden Bereiche Handlungsanleitungen. \n\n\n\nKRIEGSTÜCHTIG setzt an dem Unbehagen an\, das in dieser Zeit immer mehr Menschen empfinden. \n\n\n\nWurde den Deutschen vor dem ersten Weltkrieg nicht auch eine Tugend der „Kriegs-tüchtigkeit“ eingeimpft? Mit welchen Folgen? Sie sind begeistert in den Krieg gezogen. Erinnert sei an die Eisenbahnwaggons\, aus denen heraus lachende Soldaten winken. Was dabei herausgekommen ist\, ist bekannt. \n\n\n\nDamals ging es angeblich gegen die Selbstherrschaft des russischen Zaren… Später um den Lebensraum im Osten. Gründe gab es immer. \n\n\n\nWie ist das heute? \n\n\n\nKriegstüchtigkeit\, als eine Tugend vorgestellt\, die es zu erwerben gilt\, bedeutet zu aller erst\, fähig und willens zu sein\, auf professionelle Weise Menschen zu töten\, die man gar nicht kennt\, dies möglichst von Kindesbeinen an. \n\n\n\nIn Talkshows ist auch schon mal die Rede davon\, dass es nötig sein könnte\, für die Freiheit zu sterben. Für welche Freiheit? Für ein Wertesystem\, das es mindestens zulässt\, dass zigtausende Geflüchteter aus Kriegs- und Armutsregionen im Mittelmeer ertrinken. Interessanterweise kommen Sprüche von der Bereitschaft zum Sterben gerne  von Teilnehmern im gesetzteren Lebensalter wie dem einstigen Bundespräsidenten Joachim Gauck. Auch Armin Papperger von Rheinmetall\, der es von sich weist\, ein Kriegsgewinnler zu sein\, spricht davon\, dass seine Panzer die Freiheit verteidigen. \n\n\n\nKriegstüchtigkeit soll alle erfassen\, auch die Kassiererinnen bei Lidl\, die Krankenschwestern und Pfleger in den Kliniken\, und natürlich auch die Arbeiter*innen. Wofür? Was bedeutet für sie alle die ungeheure Hochrüstung? \n\n\n\nDie Ausstellung KRIEGSTÜCHTIG versucht auf ca. 30 bebilderten und betexteten Großpostern\, sowie anhand von Installationen (u.a. ein zu den Klängen von Heinz Rühmanns Lied „Wozu ist die Straße da?“ marschierender Soldat) und  Exponaten vornehmlich in der Farbe Flecktarn\,  zu zeigen\, wo dieses Land heute steht. \n\n\n\nSie zeigt im Übrigen auch den Widerstand gegen die Militarisierung\, die mit einer bedrohlichen Rechtsentwicklung einhergeht. Erfreulichstes Beispiel: Poster\, auf denen die Weigerung dreier Münchner Trambahnfahrer dokumentiert ist\, eine olivfarbene Trambahn mit Bundeswehrwerbung durch München zu kutschieren.
URL:https://hinterhalt.de/veranstaltung/ausstellung-kriegstuechtig/
LOCATION:Hinterhalt II\, Leitenstrasse 40\, Geretsried-Gelting\, Bayern\, 82538\, Deutschland
CATEGORIES:Konzert
ATTACH;FMTTYPE=image/jpeg:https://hinterhalt.de/wp-content/uploads/2026/04/kriegstuechtig-4.jpg
END:VEVENT
END:VCALENDAR