BEGIN:VCALENDAR
VERSION:2.0
PRODID:-//Kulturbühne Hinterhalt - ECPv6.15.20//NONSGML v1.0//EN
CALSCALE:GREGORIAN
METHOD:PUBLISH
X-WR-CALNAME:Kulturbühne Hinterhalt
X-ORIGINAL-URL:https://hinterhalt.de
X-WR-CALDESC:Veranstaltungen für Kulturbühne Hinterhalt
REFRESH-INTERVAL;VALUE=DURATION:PT1H
X-Robots-Tag:noindex
X-PUBLISHED-TTL:PT1H
BEGIN:VTIMEZONE
TZID:Europe/Berlin
BEGIN:DAYLIGHT
TZOFFSETFROM:+0100
TZOFFSETTO:+0200
TZNAME:CEST
DTSTART:20230326T010000
END:DAYLIGHT
BEGIN:STANDARD
TZOFFSETFROM:+0200
TZOFFSETTO:+0100
TZNAME:CET
DTSTART:20231029T010000
END:STANDARD
BEGIN:DAYLIGHT
TZOFFSETFROM:+0100
TZOFFSETTO:+0200
TZNAME:CEST
DTSTART:20240331T010000
END:DAYLIGHT
BEGIN:STANDARD
TZOFFSETFROM:+0200
TZOFFSETTO:+0100
TZNAME:CET
DTSTART:20241027T010000
END:STANDARD
BEGIN:DAYLIGHT
TZOFFSETFROM:+0100
TZOFFSETTO:+0200
TZNAME:CEST
DTSTART:20250330T010000
END:DAYLIGHT
BEGIN:STANDARD
TZOFFSETFROM:+0200
TZOFFSETTO:+0100
TZNAME:CET
DTSTART:20251026T010000
END:STANDARD
END:VTIMEZONE
BEGIN:VEVENT
DTSTART;TZID=Europe/Berlin:20240523T200000
DTEND;TZID=Europe/Berlin:20240523T220000
DTSTAMP:20260424T190654
CREATED:20240116T084451Z
LAST-MODIFIED:20240723T105718Z
UID:7237-1716494400-1716501600@hinterhalt.de
SUMMARY:Kino Wolfratshausen - 75 Jahre Grundgesetz der Bundesrepublik Deutschland
DESCRIPTION:„Die Würde des Menschen ist unantastbar“\n\n\n\nFilmvorführung „Schwarze Adler“ im Kino Wolfratshausen \n\n\n\nDo.\, 23.5.\, ab 19h30 – Kino Wolfratshausen – „Die Würde des Menschen ist unantastbar“ – Geburtstagsveranstaltung zum 75. Geburtstag des Grundgesetzes der Bundesrepublik Deutschland – Begrüßung mit „Chiemseewasser“ (mit und ohne Alkohol)\, Geburtstagskuchen\, ein wenig Musik und Austausch zum Thema.  \n\n\n\nIm Anschluss zeigen wir – aus aus unserer Sicht gegebenem Anlass – den Dokumentarfilm „Schwarze Adler“ von Torsten Körner („Die Unbeugsamen“) im Beisein eines der Protagonisten (angefragt). Der Film ist ein Dokument über die Erfahrungen und Eindrücke der ersten Fußballer/innen mit schwarzen Haaren\, schwarzer Hautfarbe\, die für die deutsche Nationalmannschaft im Trikot mit dem Schwarzen Adler spielten…und was da wohl los gewesen ist in den Stadien?! Was ein Waschmittelkarton der Marke „Persil“ damit zu tun hat\, was „weißer Blick“ bedeuten könnte und warum wir vom Kulturverein Isar Loisach e.V. (KIL) mit Ihnen/Euch\, mit Überraschungsgästen und anderen engagierten Organisationen so und nicht anders feiern…  \n\n\n\nEine Gemeinschaftsveranstaltung des Kulturverein Isar Loisach (KIL)\, der Kulturbühne Hinterhalt\, Das andere Bayern\, bfg mÜnchen\, Regionales Bündnis für Demokratie und Vielfalt. Schön wäre es\, wenn möglichst alle Gäste in möglichst bunten Anziehsachen kommen würden.  \n\n\n\nReservierung ausschließlich über info@kino-wolfratshausen.de; Eintritt Kinotarif (zu entrichten vor Ort im Kino)\, Begrüßungsgetränk und Geburtstagskuchen im Eintrittspreis mit inbegriffen! \n\n\n\nhttps://www.schwarzeadler-film.com
URL:https://hinterhalt.de/veranstaltung/ausweichtermin-helga-brenninger-trio-mit-saskia-koch-bertram-liebmann/
LOCATION:Kino Wolfratshausen\, Bahnhofstraße 10\, Wolfratshausen\, 82515\, Deutschland
CATEGORIES:Konzert
ATTACH;FMTTYPE=image/png:https://hinterhalt.de/wp-content/uploads/2024/01/schwarze-Adler.png
END:VEVENT
END:VCALENDAR