BEGIN:VCALENDAR
VERSION:2.0
PRODID:-//Kulturbühne Hinterhalt - ECPv6.15.20//NONSGML v1.0//EN
CALSCALE:GREGORIAN
METHOD:PUBLISH
X-WR-CALNAME:Kulturbühne Hinterhalt
X-ORIGINAL-URL:https://hinterhalt.de
X-WR-CALDESC:Veranstaltungen für Kulturbühne Hinterhalt
REFRESH-INTERVAL;VALUE=DURATION:PT1H
X-Robots-Tag:noindex
X-PUBLISHED-TTL:PT1H
BEGIN:VTIMEZONE
TZID:Europe/Berlin
BEGIN:DAYLIGHT
TZOFFSETFROM:+0100
TZOFFSETTO:+0200
TZNAME:CEST
DTSTART:20250330T010000
END:DAYLIGHT
BEGIN:STANDARD
TZOFFSETFROM:+0200
TZOFFSETTO:+0100
TZNAME:CET
DTSTART:20251026T010000
END:STANDARD
BEGIN:DAYLIGHT
TZOFFSETFROM:+0100
TZOFFSETTO:+0200
TZNAME:CEST
DTSTART:20260329T010000
END:DAYLIGHT
BEGIN:STANDARD
TZOFFSETFROM:+0200
TZOFFSETTO:+0100
TZNAME:CET
DTSTART:20261025T010000
END:STANDARD
BEGIN:DAYLIGHT
TZOFFSETFROM:+0100
TZOFFSETTO:+0200
TZNAME:CEST
DTSTART:20270328T010000
END:DAYLIGHT
BEGIN:STANDARD
TZOFFSETFROM:+0200
TZOFFSETTO:+0100
TZNAME:CET
DTSTART:20271031T010000
END:STANDARD
END:VTIMEZONE
BEGIN:VEVENT
DTSTART;TZID=Europe/Berlin:20260205T200000
DTEND;TZID=Europe/Berlin:20260205T230000
DTSTAMP:20260424T105633
CREATED:20251105T073725Z
LAST-MODIFIED:20260205T064646Z
UID:11022-1770321600-1770332400@hinterhalt.de
SUMMARY:Verschoben! Balkandina
DESCRIPTION:Regine Noßke – Violine\, Viola\, Martin Deubel – Violine\, Gesang\, Tarbuka\, Martin Ruppenstein – Gitarren\, Gesang\, Stephan Lanius – Kontrabass. \n\n\n\nZwei harmoniesüchtige Geiger\,  auf dem sicheren Fundament von Lokalmatador Martin R. (Musikschule Geretsried!) und Kontrabass-Kobold Stephan bewegen sich im Parallelslalom durch alles\, was Spaß macht\, vom Balkan nach Süd- und selbst mal Nordamerika – unter Auslassung der Benelux-Staaten.
URL:https://hinterhalt.de/veranstaltung/balkandina/
LOCATION:Hinterhalt I\, Leitenstraße 40\, Geretsried\, 82538
CATEGORIES:Konzert
ATTACH;FMTTYPE=image/jpeg:https://hinterhalt.de/wp-content/uploads/2025/11/balkandina-im-hinterhalt-nov24.jpg
END:VEVENT
END:VCALENDAR