BEGIN:VCALENDAR
VERSION:2.0
PRODID:-//Kulturbühne Hinterhalt - ECPv6.15.20//NONSGML v1.0//EN
CALSCALE:GREGORIAN
METHOD:PUBLISH
X-WR-CALNAME:Kulturbühne Hinterhalt
X-ORIGINAL-URL:https://hinterhalt.de
X-WR-CALDESC:Veranstaltungen für Kulturbühne Hinterhalt
REFRESH-INTERVAL;VALUE=DURATION:PT1H
X-Robots-Tag:noindex
X-PUBLISHED-TTL:PT1H
BEGIN:VTIMEZONE
TZID:Europe/Berlin
BEGIN:DAYLIGHT
TZOFFSETFROM:+0100
TZOFFSETTO:+0200
TZNAME:CEST
DTSTART:20240331T010000
END:DAYLIGHT
BEGIN:STANDARD
TZOFFSETFROM:+0200
TZOFFSETTO:+0100
TZNAME:CET
DTSTART:20241027T010000
END:STANDARD
BEGIN:DAYLIGHT
TZOFFSETFROM:+0100
TZOFFSETTO:+0200
TZNAME:CEST
DTSTART:20250330T010000
END:DAYLIGHT
BEGIN:STANDARD
TZOFFSETFROM:+0200
TZOFFSETTO:+0100
TZNAME:CET
DTSTART:20251026T010000
END:STANDARD
BEGIN:DAYLIGHT
TZOFFSETFROM:+0100
TZOFFSETTO:+0200
TZNAME:CEST
DTSTART:20260329T010000
END:DAYLIGHT
BEGIN:STANDARD
TZOFFSETFROM:+0200
TZOFFSETTO:+0100
TZNAME:CET
DTSTART:20261025T010000
END:STANDARD
END:VTIMEZONE
BEGIN:VEVENT
DTSTART;TZID=Europe/Berlin:20250329T200000
DTEND;TZID=Europe/Berlin:20250329T223000
DTSTAMP:20260424T152451
CREATED:20241112T112843Z
LAST-MODIFIED:20241112T134801Z
UID:8983-1743278400-1743287400@hinterhalt.de
SUMMARY:Banda Brasil - MPB
DESCRIPTION:MPB – música popular brasileira \n\n\n\nBanda Brasil verbindet traditionelle\, brasilianische Musik mit der modernen Musik des Landes. Spannende\, emotionsgeladene Songs\, vorgetragen von erstklassigen Musikern der deutsch-brasilianischen Gemeinschaft. Samba\, Bossa Nova\, Salsa\, Funk vom Feinsten. \n\n\n\nChristiane Ruvenal (voc) – seit 2010 in München\, ist unüberhörbar das Herz dieser 2017 gegründeten Formation. Aufgewachsen in Bahia – Nordbrasilien – sang sie schon im jugendlichen Alter mit den bekanntesten Bands aus der Region. Sie studierte so ziemlich alle brasilianischen Stilarten und beherrscht Brasil-Standards natürlich aus dem Eff-Eff. An der Münchner Musikhochschule belegt sie z.Zt. Kurse im Jazzgesang. Unterstützt wird sie dabei von absolut erstklassigen Musikern der Münchner Jazz – Szene.  \n\n\n\n \n\n\n\nTOM Reinbrecht (sax) – spielte und arbeitete unter anderem mit: The New York Voices\, Nathalie Cole\, Paul Carrack\, Victoria Horne\, Dusko Goykovic\, Bobby Shew\, Stefan Gwildis\, Lou Bega\, Hape Kerkeling\, Harold Faltermeyer\, Max Raabe\, Ron Williams\, Johnny Logan – „ein wahrer Phrasierungsmagier und Virtuose der Feinrhythmik –  \n\n\n\n\n„Einer der virtuosesten Saxophonisten weit und breit\, vor allem ein fast schon europaweit kaum erreichter Meister des souligen Tons. \nOliver Hochkeppel\, Süddeutsche Zeitung\n\n\n\n \n\n\n\nTizian Jost (piano) – Jazz-Pianist\, stand in den 35 Jahren als Profi mit wunderbaren Köpfen und großen Meister*innen dieses Genres auf der Bühne.  \n\n\n\nUnzählige Festivals (u.a. Berlin\, New Delhi\, San Javier)\, über 60 CD-Produktionen (davon 13 Produktionen als Leader oder Co-Leader) und Gastspiele auf vier Kontinenten runden seine musikalische Vita ab. Seit 1995 Dozent für das Hauptfach Jazz-Klavier\, seit 2014 Professor an der Hochschule für Musik und Theater\, München ist er nicht nur ein Meister des Jazz-Klaviers\, sondern auch ein Könner der brasilianischen Musik und gefragter Partner für Cross-Over-Projekte\, mit z.B. dem bayerischen Staatsorchester\, der Kammeroper München u.v.m. \n\n\n\n \n\n\n\nPaul Tietze (bass) – nicht nur in der dt. sprachigen Szene ein begehrter Bassist\, besticht durch sein prägnantes\, Time-orientiertes Spiel und ist seit vielen Jahren ein fester Bestandteil von Banda Brasil. Ein Traum für jeden Schlagzeuger. \n\n\n\n \n\n\n\nElmar Schmidt (drums & bandleader) Ein deutscher Doyen des Brasil Sounds\, Impresario und gefragter Schlagzeuger.Bekannt ist er auch als Initiator & Bandleader – organisatorisch wie kompositorisch – schillernder Brasil Formationen. \n\n\n\nwww.banda-brasil.com \n\n\n\nwww.brasil-arts-orquestra.com \n\n\n\nwww.brazil-connection.com \n\n\n\nwww.aquarelas-do-brasil.com \n\n\n\nLängst gilt Elmar Schmidt hierzulande\, in Bezug auf brasilianische Musik-Acts\, als DIE Koryphäe\, wird aber darüber hinaus als international gefragter Studio- und Orchester-Drummer gehandelt.  \n\n\n\nNach Abschluss eines klassischen Musik-Studiums spielte er\, quasi aus dem Stand weg\, mit internationalen Musikgrößen\, wie Chris de Burgh\, Klaus Doldinger\, Jennifer Rush\, Temptations\, Eartha Kitt\, Gloria Gaynor u.v.m.\, tourte mit dem Duke Ellington Musical “Sophisticated Ladies” (feat. DeeDee Bridgewater)\, “RATPACK” – sowie dem “United Jazz & Rock Ensemble” u.v.m. \n\n\n\nErleben Sie speziell arrangierte Lieder der Música Popular Brasileira\, wie die von Alcione\, Joyce\, Lenine\, Rosana\, Elis Regina\, Simone und Rosa Passos und Sergio Mendez. \n\n\n\nDurch ihrer sympathischen Erscheinung\, ihrer positiven „Sonne-Strand-Palmen“-Ausstrahlung und ihrem angenehmen Timbre\, stellen die Künstler immer wieder ihre Liebe zur brasilianischen Musik unter Beweis. \n\n\n\nEinlaß 19 Uhr
URL:https://hinterhalt.de/veranstaltung/banda-brasil-mpb/
LOCATION:Hinterhalt I\, Leitenstraße 40\, Geretsried\, 82538
CATEGORIES:Konzert
ATTACH;FMTTYPE=image/jpeg:https://hinterhalt.de/wp-content/uploads/2024/01/banda-brasil-2024.jpg
END:VEVENT
END:VCALENDAR