BEGIN:VCALENDAR
VERSION:2.0
PRODID:-//Kulturbühne Hinterhalt - ECPv6.15.20//NONSGML v1.0//EN
CALSCALE:GREGORIAN
METHOD:PUBLISH
X-WR-CALNAME:Kulturbühne Hinterhalt
X-ORIGINAL-URL:https://hinterhalt.de
X-WR-CALDESC:Veranstaltungen für Kulturbühne Hinterhalt
REFRESH-INTERVAL;VALUE=DURATION:PT1H
X-Robots-Tag:noindex
X-PUBLISHED-TTL:PT1H
BEGIN:VTIMEZONE
TZID:Europe/Berlin
BEGIN:DAYLIGHT
TZOFFSETFROM:+0100
TZOFFSETTO:+0200
TZNAME:CEST
DTSTART:20230326T010000
END:DAYLIGHT
BEGIN:STANDARD
TZOFFSETFROM:+0200
TZOFFSETTO:+0100
TZNAME:CET
DTSTART:20231029T010000
END:STANDARD
BEGIN:DAYLIGHT
TZOFFSETFROM:+0100
TZOFFSETTO:+0200
TZNAME:CEST
DTSTART:20240331T010000
END:DAYLIGHT
BEGIN:STANDARD
TZOFFSETFROM:+0200
TZOFFSETTO:+0100
TZNAME:CET
DTSTART:20241027T010000
END:STANDARD
BEGIN:DAYLIGHT
TZOFFSETFROM:+0100
TZOFFSETTO:+0200
TZNAME:CEST
DTSTART:20250330T010000
END:DAYLIGHT
BEGIN:STANDARD
TZOFFSETFROM:+0200
TZOFFSETTO:+0100
TZNAME:CET
DTSTART:20251026T010000
END:STANDARD
END:VTIMEZONE
BEGIN:VEVENT
DTSTART;TZID=Europe/Berlin:20240704T200000
DTEND;TZID=Europe/Berlin:20240704T223000
DTSTAMP:20260424T183956
CREATED:20240121T174930Z
LAST-MODIFIED:20240625T144112Z
UID:7262-1720123200-1720132200@hinterhalt.de
SUMMARY:Bandnacht/Jamsession Musikschule Geretsried und Musikschule Chamalières
DESCRIPTION:Bandnacht und Session im Hinterhalt und Festkonzert zum Besuch der Partnerstadt aus Chamalières: Die Freundschaft zwischen Geretsried und Chamalières/Frankreich wird intensiv gepflegt.  \n\n\n\nHeuer bekommen wir Besuch in der ersten Juliwoche. Die Musikschule lädt dazu zur gemeinsamen Bandnacht und Jam-Session mit der „Unglaublichen Jazzband“ (Ltg. Peter Wegele)\, der „Ü-30-Band“ (Ltg. Tobi Weber) und der „Playtime“ (Ltg. Martin Ruppenstein)
URL:https://hinterhalt.de/veranstaltung/bandnacht-jamsession-musikschule-geretsried-und-musikschule-chamalieres/
LOCATION:Kulturbühne Hinterhalt\, Leitenstraße 40\, Geretsried\, 82538\, Deutschland
CATEGORIES:Konzert
ATTACH;FMTTYPE=image/jpeg:https://hinterhalt.de/wp-content/uploads/2024/01/Bandnacht-4.-Juli-Chamalieres-2024.jpg
END:VEVENT
END:VCALENDAR