BEGIN:VCALENDAR
VERSION:2.0
PRODID:-//Kulturbühne Hinterhalt - ECPv6.15.20//NONSGML v1.0//EN
CALSCALE:GREGORIAN
METHOD:PUBLISH
X-WR-CALNAME:Kulturbühne Hinterhalt
X-ORIGINAL-URL:https://hinterhalt.de
X-WR-CALDESC:Veranstaltungen für Kulturbühne Hinterhalt
REFRESH-INTERVAL;VALUE=DURATION:PT1H
X-Robots-Tag:noindex
X-PUBLISHED-TTL:PT1H
BEGIN:VTIMEZONE
TZID:Europe/Berlin
BEGIN:DAYLIGHT
TZOFFSETFROM:+0100
TZOFFSETTO:+0200
TZNAME:CEST
DTSTART:20230326T010000
END:DAYLIGHT
BEGIN:STANDARD
TZOFFSETFROM:+0200
TZOFFSETTO:+0100
TZNAME:CET
DTSTART:20231029T010000
END:STANDARD
BEGIN:DAYLIGHT
TZOFFSETFROM:+0100
TZOFFSETTO:+0200
TZNAME:CEST
DTSTART:20240331T010000
END:DAYLIGHT
BEGIN:STANDARD
TZOFFSETFROM:+0200
TZOFFSETTO:+0100
TZNAME:CET
DTSTART:20241027T010000
END:STANDARD
BEGIN:DAYLIGHT
TZOFFSETFROM:+0100
TZOFFSETTO:+0200
TZNAME:CEST
DTSTART:20250330T010000
END:DAYLIGHT
BEGIN:STANDARD
TZOFFSETFROM:+0200
TZOFFSETTO:+0100
TZNAME:CET
DTSTART:20251026T010000
END:STANDARD
END:VTIMEZONE
BEGIN:VEVENT
DTSTART;TZID=Europe/Berlin:20241208T200000
DTEND;TZID=Europe/Berlin:20241208T223000
DTSTAMP:20260424T173900
CREATED:20240310T185937Z
LAST-MODIFIED:20241204T092606Z
UID:7597-1733688000-1733697000@hinterhalt.de
SUMMARY:Bernie Maisberger FEIA! – Bairische Weltmusik - Friedenskonzert zum Jahresende
DESCRIPTION:Der Name ist Programm. Nicht nur für das Feuer\, (engl. Fire)\, das in jedem von uns brennt\, sondern auch für die Feier\, die wir bei jedem Konzert zelebrieren. \n\n\n\n Wir laden euch ein zum Friedenskonzert \n\n\n\nEin positives und lebensbejahendes Statement mit intelligenten\, fantasievollen Texten\, das zum Feiern\, Mitsingen und Schwelgen einlädt.Die Musik von FEIA! bietet den Facettenreichtum des Lebens in seinen mannigfaltigen Schattierungen. Die Zuhörer tauchen tief ein in jenen Sound\, der in der Mischung aus Rock\, Weltmusik und Folk\, vor allem viel Herz zu bieten hat.Seit vielen Jahren arbeiten die Musiker immer wieder bei verschiedenen Projekten zusammen und fanden sofort einen besonders herzlichen Draht zueinander. Diese musikalische\, wie auch charakterliche Sympathie\, mündete schließlich in das gemeinsame Projekt FEIA! Der bairische Ausdruck steht nicht nur für die Feier\, oder das Feuer (engl. genauso klingend\, Fire)\, sondern auch für die Vorliebe an tiefsinnigen Texten\, sowie leidenschaftlicher und gefühlvoller Musik. Der Bandname FEIA! ist nicht nur ein Synonym für die brennende Energie des Lebens\, FEIA! ist für die Musiker auch ihr individueller Ausdruck\, innerhalb dieses Universums\, aus dem heraus sie selbst hervorgegangen sind.Keep the FEIA! burning \n\n\n\n \n\n\n\nFriedenskonzert zum Jahresende
URL:https://hinterhalt.de/veranstaltung/bernie-maisberger-feia-bairische-weltmusik/
LOCATION:Hinterhalt I\, Leitenstraße 40\, Geretsried\, 82538
CATEGORIES:Konzert
ATTACH;FMTTYPE=image/jpeg:https://hinterhalt.de/wp-content/uploads/2024/03/FEIA.jpg
END:VEVENT
END:VCALENDAR