BEGIN:VCALENDAR
VERSION:2.0
PRODID:-//Kulturbühne Hinterhalt - ECPv6.15.20//NONSGML v1.0//EN
CALSCALE:GREGORIAN
METHOD:PUBLISH
X-WR-CALNAME:Kulturbühne Hinterhalt
X-ORIGINAL-URL:https://hinterhalt.de
X-WR-CALDESC:Veranstaltungen für Kulturbühne Hinterhalt
REFRESH-INTERVAL;VALUE=DURATION:PT1H
X-Robots-Tag:noindex
X-PUBLISHED-TTL:PT1H
BEGIN:VTIMEZONE
TZID:Europe/Berlin
BEGIN:DAYLIGHT
TZOFFSETFROM:+0100
TZOFFSETTO:+0200
TZNAME:CEST
DTSTART:20240331T010000
END:DAYLIGHT
BEGIN:STANDARD
TZOFFSETFROM:+0200
TZOFFSETTO:+0100
TZNAME:CET
DTSTART:20241027T010000
END:STANDARD
BEGIN:DAYLIGHT
TZOFFSETFROM:+0100
TZOFFSETTO:+0200
TZNAME:CEST
DTSTART:20250330T010000
END:DAYLIGHT
BEGIN:STANDARD
TZOFFSETFROM:+0200
TZOFFSETTO:+0100
TZNAME:CET
DTSTART:20251026T010000
END:STANDARD
BEGIN:DAYLIGHT
TZOFFSETFROM:+0100
TZOFFSETTO:+0200
TZNAME:CEST
DTSTART:20260329T010000
END:DAYLIGHT
BEGIN:STANDARD
TZOFFSETFROM:+0200
TZOFFSETTO:+0100
TZNAME:CET
DTSTART:20261025T010000
END:STANDARD
END:VTIMEZONE
BEGIN:VEVENT
DTSTART;TZID=Europe/Berlin:20251211T200000
DTEND;TZID=Europe/Berlin:20251211T223000
DTSTAMP:20260424T140630
CREATED:20250515T091141Z
LAST-MODIFIED:20251029T164653Z
UID:10018-1765483200-1765492200@hinterhalt.de
SUMMARY:Pinsel\, Pauke\, Poesie -Bethlehemrallye – Skurriles aus dem Alltag einer Harfenistin
DESCRIPTION:Kabarettistische Lesung mit Musik \n\n\n\nDie Frau mit der Poleposition bei Petrus und der Lizenz zum Zupfen! \n\n\n\nMittlerweile ist Silke Aichhorn bei der 32. CD-Einspielung und beim 2. Buch über ihre absurden Erlebnisse angekommen\, das reicht ihr aber noch nicht. \n\n\n\nDie Harfenistin begeistert ihr Publikum mit der Harfe- mal anders! – und unterhaltsamer Plauderei. \n\n\n\nLassen Sie sich überraschen von wahren Begebenheiten\, pointiert\, selbstironisch und mit umwerfend trockenem Humor vorgelesen und umrahmt mit virtuosem Harfenspiel von einer der weltweit aktivsten Harfensolistinnen. \n\n\n\nZu hören sind Ohrwürmer sowie Werke von Barock bis Swing\, u.a. „Die Moldau“ von Smetana \n\n\n\n„Solche Konzerte sollte es öfters geben“ oder „Ein Konzert\, wie man es selten erlebt“– so titelt die Presse und genau das zeigt\, was Silke Aichhorn mit ihrem Publikum macht! \n\n\n\nDie Mischung aus Musikalität\, ungemein farbigem Ton\, virtuosem Handwerk kombiniert mit unnachahmlicher Natürlichkeit ist es\, was die Zuhörer begeistert. \n\n\n\nIhre unterhaltsam moderierten Konzerte sind ihr Markenzeichen\, dazu kommt der unbedingte Wille\, Neues und auf der Harfe noch Unbekanntes\, zu präsentieren. \n\n\n\nMit ihrer Diskographie von mittlerweile 32 CDs\, zwei Büchern und aktuell mehr als 150 Videos auf YouTube hat sie in der internationalen Harfenszene ein Alleinstellungsmerkmal. \n\n\n\nSilke Aichhorn lässt sich in keine Schublade packen. Sie ist eine der weltweit aktivsten Harfensolistinnen\, Buchautorin\, Unternehmerin mit eigenem CD-Label/Verlag\, Mutter\, Mentorin beim Deutschen Kulturrat\, Hospizbotschafterin\, Pädagogin- kreativ und energiegeladen\, mit dem Ziel\, das Image der Harfe zu entstauben. \n\n\n\nDer Harfenistin Silke Aichhorn ist es gelungen\, binnen weniger Jahre ihr Instrument im Konzertsaal wieder heimischer werden zu lassen („FAZ“).        www.silkeaichhorn.de \n\n\n\nPresse- und Leserstimmen: \n\n\n\n„Keine Ahnung\, wer beim Staatsbad auf die Idee gekommen ist\, eine Harfenistin für ein Konzert nach Norderney einzuladen. Aber dem Himmel sei Dank\, diesem \n\n\n\nMenschen kann man nur eines: gratulieren! \n\n\n\nWer glaubt\, er findet Harfe doof\, hat vielleicht noch niemals richtig hingehört. Oder\, \n\n\n\nist Silke Aichhorn nicht begegnet. Denn\, unumwunden zugegeben: Die Mischung \n\n\n\nmacht es. In diesem Fall aus zwei Persönlichkeiten. Zum einen die mitunter zickige \n\n\n\nund zart besaitetete Harfe…eine Prinzessin auf der Erbse. Zum anderen die Bayerin\, \n\n\n\ndie zwar feminin\, aber trotzdem von Anfang an irgendwie handfest\, bodenständig \n\n\n\nvon der Bühne herüber- bzw. herunterkommt\, wobei sie auf Augenhöhe bleibt …“ \n\n\n\n„…Wer schon länger keine Gelegenheit dazu hatte\, so richtig von Herzen zu lachen- dann gehen Sie in eine Lesung von Silke Aichhorn… Der Unterhaltungswert ist kolossal… Neben ihrem Renommée als hochgelobte Harfen-Interpretin ist sie ebenso auch eine naturbegabte Plaudertasche\, eine Moderatorin mit Witz\, Natürlichkeit und flockiger Sprachgewandtheit\, die indes niemals eingeübt oder aufgesetzt wirkt…“ \n\n\n\n„Ein Glücksgriff!“ \n\n\n\nWie schon mit ihrem ersten Band „Lebenslänglich Frohlocken“ (aktuell 7000 \n\n\n\nverkaufte Exemplare) nimmt eine der aktivsten europäischen Harfensolistinnen ihre \n\n\n\nLeser mit in den oft sehr unglamourösen Musikeralltag. \n\n\n\nHören Sie\, staunen Sie! \n\n\n\n„Wir sind seit über 50 Jahren verheiratet und streiten selten\, aber es wäre fast eskaliert\, wer als nächster weiterlesen darf…!“ \n\n\n\n„Ich habe die ganze Nacht gelacht\, wann kommt das nächste Buch?“ \n\n\n\n„Mir ging es nicht gut\, aber Ihr Buch hat mich echt aus dem Loch geholt!“ \n\n\n\n„Mein Vater ist 85 und hat noch nie ein Buch gelesen\, aber ihres hat er verschlungen!“ \n\n\n\n„Ich bin schwerst krank\, habe beim Arzt Ihr Buch im Wartezimmer entdeckt\, habe mich vor Lachen fast weggeschmissen und musste mich zurückhalten\, dass ich es nicht gleich mitgehen lasse. Jetzt bestelle ich gleich beide bei Ihnen\, das ist ja die reinste Medizin!“ \n\n\n\nSo eine Harfe kann ein zickiges Instrument sein – aber lange nicht so zickig wie jene Menschen\, die eine Harfenistin buchen: aufgedonnerte Unternehmerinnen\, gockelhafte Mediziner\, verpeilte Hotelmitarbeiter\, lateinisch sprechende Hausmeister\, traurige Hochzeitsgesellschaften und schallend lachende Trauergemeinden – und natürlich der Papst.    \n\n\n\nDurch dieses Publikums-Panoptikum rollt Silke Aichhorn ihre Harfe und schrumpft in ihren Erzählungen die Klassik auf die unendliche Größe des all zu Menschlichen. Ihre Anekdoten sind der humorvoll-geniale Beweis\, dass Musik im Zentrum unserer wahnsinnigen Welt steht und dass sie besonders dann spannend wird\, wenn die außerordentliche Virtuosität einer klugen Harfenistin auf den liebenswürdigen Allerwelts- Dilettantismus trifft.    \n\n\n\nWer Aichhorns Geschichten liest\, lernt viel über den Alltag eines selbstständigen Musikers\, über Musikliebhaber\, vor allen Dingen aber darüber\, wie abenteuerlich das Leben sein kann\, wenn man ohne Dünkel musiziert.    \n\n\n\nEin Muss\, nicht nur für Harfen-Freaks\, sondern für jeden\, der an die Menschlichkeit der Musik glauben will.    \n\n\n\nEin sehr\, sehr lustiges\, amüsantes Schlüsselloch-Buch\, das viel über Missverständnisse und Hoffnungen erzählt\, über Menschen und Musik.   \n\n\n\nAxel Brüggemann – Journalist\, Moderator und Autor \n\n\n\nPflichtlektüre für alle\, die ihre eigene Hochzeit oder Beerdigung planen!    \n\n\n\nAndreas Martin Hofmeir – Professor\, Tubist\, Kabarettist\, Autor\, meint \n\n\n\nDem Buch fehlt ein Warnhinweis: Bitte vermeiden Sie es\, das Buch auf öffentlichen   \n\n\n\nPlätzen oder zum Beispiel im Zug zu lesen\, weil es durch unvermittelt auftretende   Lachanfälle Ihre Umgebung in höchstem Maße irritieren könnte.   \n\n\n\nGabriele H.\, eine besorgte Leserin   \n\n\n\n„Warum auch Harfenengel sich auf heiligem Boden die Füße verbrennen\, und warum Schweine auf der Autobahn himmlischen Harmonien buchstäblich im Weg stehen? Silke Aichhorn kurvt einmal mehr auf Seitentrassen durch den skurrilen Alltag einer hauptberuflichen Harfenistin. Und das oft atemberaubend unterhaltsam.“ \n\n\n\nJörg Lengersdorf\, Geiger\, Moderator \n\n\n\nSilke Aichhorn schreibt so erfrischend-witzig wie das Leben und das Sterben manchmal tatsächlich ist. Immer aus dem Blick des beobachtenden Zaungastes an der Harfe. Endlich eine Möglichkeit Mäuschen zu spielen. Herrlich menschelnd!  \n\n\n\nFranziska Wanninger Kabarettistin\, Autorin\, Schauspielerin und Podcasterin aus Bayern \n\n\n\nMeine große Empfehlung! \n\n\n\nMoritz Eggert Komponist\, Pianist\, Kolumnist\, Präsident d. Dtsch Komponist:innenverbandes \n\n\n\nSilke Aichhorn- Schloßstraße 1- 83278 Traunstein – silke@aichhorn.de  – +49171-416 61 60 \n\n\n\nwww.silkeaichhorn.de \n\n\n\nLebenslänglich Frohlocken (2019) \n\n\n\nBuch ISBN 978-3-98178-802-0 – Hörbuch ISBN 978-3-98178-803-7  – Ebook 4260106090343 \n\n\n\nFrohlocken leichtgemacht!? (2023) \n\n\n\nBuch ISBN 978-3-981788044 – Hörbuch LF ISBN 978-3-981788051 – Ebook 4260106090350 \n\n\n\nEinlass 19:00
URL:https://hinterhalt.de/veranstaltung/bethlehemrallye-skurriles-aus-dem-alltag-einer-harfenistin/
LOCATION:Kulturbühne Hinterhalt\, Leitenstraße 40\, Geretsried\, 82538\, Deutschland
CATEGORIES:Konzert
ATTACH;FMTTYPE=image/jpeg:https://hinterhalt.de/wp-content/uploads/2025/05/Kabarettistische-Lesung-Silke-Aichhorn-rechtefrei-Fotograf-Markus-Aichhorn-2.jpeg
END:VEVENT
END:VCALENDAR