BEGIN:VCALENDAR
VERSION:2.0
PRODID:-//Kulturbühne Hinterhalt - ECPv6.15.20//NONSGML v1.0//EN
CALSCALE:GREGORIAN
METHOD:PUBLISH
X-WR-CALNAME:Kulturbühne Hinterhalt
X-ORIGINAL-URL:https://hinterhalt.de
X-WR-CALDESC:Veranstaltungen für Kulturbühne Hinterhalt
REFRESH-INTERVAL;VALUE=DURATION:PT1H
X-Robots-Tag:noindex
X-PUBLISHED-TTL:PT1H
BEGIN:VTIMEZONE
TZID:Europe/Berlin
BEGIN:DAYLIGHT
TZOFFSETFROM:+0100
TZOFFSETTO:+0200
TZNAME:CEST
DTSTART:20230326T010000
END:DAYLIGHT
BEGIN:STANDARD
TZOFFSETFROM:+0200
TZOFFSETTO:+0100
TZNAME:CET
DTSTART:20231029T010000
END:STANDARD
BEGIN:DAYLIGHT
TZOFFSETFROM:+0100
TZOFFSETTO:+0200
TZNAME:CEST
DTSTART:20240331T010000
END:DAYLIGHT
BEGIN:STANDARD
TZOFFSETFROM:+0200
TZOFFSETTO:+0100
TZNAME:CET
DTSTART:20241027T010000
END:STANDARD
BEGIN:DAYLIGHT
TZOFFSETFROM:+0100
TZOFFSETTO:+0200
TZNAME:CEST
DTSTART:20250330T010000
END:DAYLIGHT
BEGIN:STANDARD
TZOFFSETFROM:+0200
TZOFFSETTO:+0100
TZNAME:CET
DTSTART:20251026T010000
END:STANDARD
END:VTIMEZONE
BEGIN:VEVENT
DTSTART;TZID=Europe/Berlin:20241129T200000
DTEND;TZID=Europe/Berlin:20241129T220000
DTSTAMP:20260424T190440
CREATED:20240201T094745Z
LAST-MODIFIED:20241129T123150Z
UID:7366-1732910400-1732917600@hinterhalt.de
SUMMARY:VERSCHOBEN auf 2025 Bianca Bachmann - TRIEBE - Musik-Kabarett
DESCRIPTION:T R I E B E \n\n\n\nEskapaden von und mit Bianca Bachmann \n\n\n\nMusik: Flori Burgmayr \n\n\n\nDie Schauspielerin\, Sängerin und Kabarettistin Bianca Bachmann\, Frontfrau der Couplet-AG und Darstellerin der BR Brettl-Spitzen seit der ersten Sendung\, bringt nach vielen Jahren ihr zweites Solo-Programm auf die Bühne. \n\n\n\n„TRIEBE“ schlummert schon einige Zeit in ihr und hat sich jetzt nach draußen gebohrt. Darin zeigt sie neben ihrem urbayerischen Humor auch ganz andere Facetten. Gestraft als sentimentale Lehrertochter mit Korrekturzwang ist sie unermüdlich auf der Suche nach Romantik\, Abenteuer und den skurrilen Seiten des Lebens. Auch ihren eigenen\, die sie „der Matz in ihr“ zu verdanken hat. Zusammen mit ihr schlittert sie von einer Eskapade in die nächste. \n\n\n\nGetrieben von einer großen Lust am Ungewöhnlichen hat sie absurd-witzige Episoden zusammengetragen und präsentiert sie mit mitreißender Spielfreude und kraftvoller Stimme. Verschmitzt ironisch verknüpft sie Kasperl und die Großmutter mit ihrem Kindheitsfreund\, einem singenden Löwen\, entlockt einer Häkelanleitung erotische Ekstasen und verfällt auf ihrer Reise immer wieder den „Bad-Boys“\, den vermeintlich männlichsten Helden wie Löwenjägern\, Cowboys oder Kommissaren. \n\n\n\nAlles beginnt mit einer falsch interpretierten blutigen Mordszene auf der Bühne eines Münchner Kellertheaters\, der anschließenden Flucht im Bühnenoutfit und einer Art „Erscheinung“ in der Metzgerzeile\, die sie nach Altötting treibt. Dort hinterlässt sie wundersame Spuren: die Schwarze Madonna trägt plötzlich eine blut­ver­schmierte Glitzerbluse\, die Skulp­tur von Papst Bene­dikt ein  rot besudeltes Plastikschwert. Skandal! \n\n\n\nMit stets überraschenden Wendungen fesselt sie ihr Publikum\, erzählt\, singt und spielt mit großer Lust und gibt dabei alles. Als selbsternannte Dialektbewahrerin frönt sie in einem schrägen „Seefetzen-Medley“ dem Seemanns-Jargon\, verbündet sich mit einer italienischen Kassiererin im Discounter\, die aus guten Gründen kein korrektes Deutsch sprechen mag\, und zelebriert mit den Zuschauern nach Herzenslust das fast vergessene Sudetendeutsch ihrer Großeltern. \n\n\n\n„Ihr ver­schmitz­ter Witz ent­steht (…) wenn die durch­aus spek­ta­ku­lä­ren Epi­so­den auf kuriose Weise zusam­men­fin­den“ (Abendzeitung)
URL:https://hinterhalt.de/veranstaltung/bianca-bachmann-musik-kabarett/
LOCATION:Kulturbühne Hinterhalt\, Leitenstraße 40\, Geretsried\, 82538\, Deutschland
CATEGORIES:Konzert
ATTACH;FMTTYPE=image/jpeg:https://hinterhalt.de/wp-content/uploads/2024/02/BIANCA-BACHMANN-1-┬®-Foto-Boris-Giesl_Kopie.jpg
END:VEVENT
END:VCALENDAR