BEGIN:VCALENDAR
VERSION:2.0
PRODID:-//Kulturbühne Hinterhalt - ECPv6.15.20//NONSGML v1.0//EN
CALSCALE:GREGORIAN
METHOD:PUBLISH
X-WR-CALNAME:Kulturbühne Hinterhalt
X-ORIGINAL-URL:https://hinterhalt.de
X-WR-CALDESC:Veranstaltungen für Kulturbühne Hinterhalt
REFRESH-INTERVAL;VALUE=DURATION:PT1H
X-Robots-Tag:noindex
X-PUBLISHED-TTL:PT1H
BEGIN:VTIMEZONE
TZID:Europe/Berlin
BEGIN:DAYLIGHT
TZOFFSETFROM:+0100
TZOFFSETTO:+0200
TZNAME:CEST
DTSTART:20230326T010000
END:DAYLIGHT
BEGIN:STANDARD
TZOFFSETFROM:+0200
TZOFFSETTO:+0100
TZNAME:CET
DTSTART:20231029T010000
END:STANDARD
BEGIN:DAYLIGHT
TZOFFSETFROM:+0100
TZOFFSETTO:+0200
TZNAME:CEST
DTSTART:20240331T010000
END:DAYLIGHT
BEGIN:STANDARD
TZOFFSETFROM:+0200
TZOFFSETTO:+0100
TZNAME:CET
DTSTART:20241027T010000
END:STANDARD
BEGIN:DAYLIGHT
TZOFFSETFROM:+0100
TZOFFSETTO:+0200
TZNAME:CEST
DTSTART:20250330T010000
END:DAYLIGHT
BEGIN:STANDARD
TZOFFSETFROM:+0200
TZOFFSETTO:+0100
TZNAME:CET
DTSTART:20251026T010000
END:STANDARD
END:VTIMEZONE
BEGIN:VEVENT
DTSTART;TZID=Europe/Berlin:20240320T190000
DTEND;TZID=Europe/Berlin:20240320T220000
DTSTAMP:20260425T010519
CREATED:20240116T084917Z
LAST-MODIFIED:20240116T084920Z
UID:7242-1710961200-1710972000@hinterhalt.de
SUMMARY:BigBand-Konzert
DESCRIPTION:BigBand-Abend mit den Schul-BigBands der Gymnasien Geretsried und IckingDie Leiter der Schul-BigBands sind Benjamin Schäfer (Icking) und Alfred Menzinger (Geretsried)\, die bereits mehrfach mit ihren jeweiligen musikalischen Schülern im Hinterhalt gespielt haben.  \n\n\n\nWir freuen uns sehr\, sie wieder bei uns begrüßen zu dürfen. \n\n\n\nKein LIVE-StreamEinlass 18:30 Uhr
URL:https://hinterhalt.de/veranstaltung/bigband-konzert-2/
LOCATION:Kulturbühne Hinterhalt\, Leitenstraße 40\, Geretsried\, 82538\, Deutschland
CATEGORIES:Konzert
END:VEVENT
END:VCALENDAR