BEGIN:VCALENDAR
VERSION:2.0
PRODID:-//Kulturbühne Hinterhalt - ECPv6.15.20//NONSGML v1.0//EN
CALSCALE:GREGORIAN
METHOD:PUBLISH
X-WR-CALNAME:Kulturbühne Hinterhalt
X-ORIGINAL-URL:https://hinterhalt.de
X-WR-CALDESC:Veranstaltungen für Kulturbühne Hinterhalt
REFRESH-INTERVAL;VALUE=DURATION:PT1H
X-Robots-Tag:noindex
X-PUBLISHED-TTL:PT1H
BEGIN:VTIMEZONE
TZID:Europe/Berlin
BEGIN:DAYLIGHT
TZOFFSETFROM:+0100
TZOFFSETTO:+0200
TZNAME:CEST
DTSTART:20250330T010000
END:DAYLIGHT
BEGIN:STANDARD
TZOFFSETFROM:+0200
TZOFFSETTO:+0100
TZNAME:CET
DTSTART:20251026T010000
END:STANDARD
BEGIN:DAYLIGHT
TZOFFSETFROM:+0100
TZOFFSETTO:+0200
TZNAME:CEST
DTSTART:20260329T010000
END:DAYLIGHT
BEGIN:STANDARD
TZOFFSETFROM:+0200
TZOFFSETTO:+0100
TZNAME:CET
DTSTART:20261025T010000
END:STANDARD
BEGIN:DAYLIGHT
TZOFFSETFROM:+0100
TZOFFSETTO:+0200
TZNAME:CEST
DTSTART:20270328T010000
END:DAYLIGHT
BEGIN:STANDARD
TZOFFSETFROM:+0200
TZOFFSETTO:+0100
TZNAME:CET
DTSTART:20271031T010000
END:STANDARD
END:VTIMEZONE
BEGIN:VEVENT
DTSTART;TZID=Europe/Berlin:20260122T200000
DTEND;TZID=Europe/Berlin:20260122T223000
DTSTAMP:20260424T122632
CREATED:20250624T073531Z
LAST-MODIFIED:20260105T153039Z
UID:10276-1769112000-1769121000@hinterhalt.de
SUMMARY:Bluestrings
DESCRIPTION:Konzert mit der jungen StreicherBigBand Bluestrings \n\n\n\nKreativ – Innovativ – Verspielt – Einmalig \n\n\n\nDie StreicherBigBand – inzwischen mit Kultstatus – der Kreismusikschule Fürstenfeldbruck hat eine unzählige Anzahl von Konzerten im In- und Ausland hinter sich und 5 CDs aufgenommen. Sie wurde 2004 gegründet und tritt derzeit in der Besetzung 7 violinen\, viola\, 3 celli und kb auf.  \n\n\n\nUnter Leitung des Jazzgeigers und Musikpädagogen (Fürstenfeldbruck\, Geretsried)  Frank Wunderer begeistern die Bluestrings in aktueller Besetzung mit mitreißender Spielfreude\, gekonntem Satzspiel und kreativem Solospiel ihr Publikum. Die jungen JazzstreicherInnen kreieren ihren eigenen\, innovativen Sound und überzeugen mit Spielwitz\, ausgefallenen Spieltechniken und Experimentierfreude.  \n\n\n\nDas Programm besteht größenteils aus neuen Arrangements der jungen KünstlerInnen\, die im Hinterhalt ihr Uraufführung feiern dürfen. Die Bluestrings sind mit diesen eigenen Werken ein Unikum\, waren mehrfach erfolgreich bei „Jugend jazzt dabei“ und sind Tassilopreisträger 2016 der SZ. \n\n\n\nEinlass ab 19 Uhr
URL:https://hinterhalt.de/veranstaltung/bluestrings/
LOCATION:Kulturbühne Hinterhalt\, Leitenstraße 40\, Geretsried\, 82538\, Deutschland
CATEGORIES:Konzert
ATTACH;FMTTYPE=image/jpeg:https://hinterhalt.de/wp-content/uploads/2023/03/Bluestrings.jpg
END:VEVENT
END:VCALENDAR