BEGIN:VCALENDAR
VERSION:2.0
PRODID:-//Kulturbühne Hinterhalt - ECPv6.15.20//NONSGML v1.0//EN
CALSCALE:GREGORIAN
METHOD:PUBLISH
X-WR-CALNAME:Kulturbühne Hinterhalt
X-ORIGINAL-URL:https://hinterhalt.de
X-WR-CALDESC:Veranstaltungen für Kulturbühne Hinterhalt
REFRESH-INTERVAL;VALUE=DURATION:PT1H
X-Robots-Tag:noindex
X-PUBLISHED-TTL:PT1H
BEGIN:VTIMEZONE
TZID:Europe/Berlin
BEGIN:DAYLIGHT
TZOFFSETFROM:+0100
TZOFFSETTO:+0200
TZNAME:CEST
DTSTART:20240331T010000
END:DAYLIGHT
BEGIN:STANDARD
TZOFFSETFROM:+0200
TZOFFSETTO:+0100
TZNAME:CET
DTSTART:20241027T010000
END:STANDARD
BEGIN:DAYLIGHT
TZOFFSETFROM:+0100
TZOFFSETTO:+0200
TZNAME:CEST
DTSTART:20250330T010000
END:DAYLIGHT
BEGIN:STANDARD
TZOFFSETFROM:+0200
TZOFFSETTO:+0100
TZNAME:CET
DTSTART:20251026T010000
END:STANDARD
BEGIN:DAYLIGHT
TZOFFSETFROM:+0100
TZOFFSETTO:+0200
TZNAME:CEST
DTSTART:20260329T010000
END:DAYLIGHT
BEGIN:STANDARD
TZOFFSETFROM:+0200
TZOFFSETTO:+0100
TZNAME:CET
DTSTART:20261025T010000
END:STANDARD
END:VTIMEZONE
BEGIN:VEVENT
DTSTART;TZID=Europe/Berlin:20250222T200000
DTEND;TZID=Europe/Berlin:20250222T220000
DTSTAMP:20260424T170514
CREATED:20240928T072023Z
LAST-MODIFIED:20240928T072026Z
UID:8574-1740254400-1740261600@hinterhalt.de
SUMMARY:Carnevale mit The Inhibitiers Allstar Band (TIASB)
DESCRIPTION:Musikerinnen und Musiker aus verschiedenen Münchner Bands (Feedback\, Blue Traces\, Soulchicken Reloaded\, Black Hat Blues Band\, Doc Parker\, MONaco Big Band\, Simply Soul\, Soul & the Gang\, No More Confusion) teilen die Leidenschaft für Rock\, Rhythm & Blues und eine Prise Soul. \n\n\n\nSeit vielen Jahren immer mal wieder auf den Bühnen in Deutschland\, Italien und Österreich unterwegs\, einfach weil es der Band so viel Spaß macht.Hörprobe: https://soundcloud.com/tiasb/fortunate-sonEin Abend voller toller Songs und der Lust an der Musik!
URL:https://hinterhalt.de/veranstaltung/carnevale-mit-the-inhibitiers-allstar-band-tiasb/
LOCATION:Hinterhalt I\, Leitenstraße 40\, Geretsried\, 82538
CATEGORIES:Konzert
ATTACH;FMTTYPE=image/jpeg:https://hinterhalt.de/wp-content/uploads/2023/12/the-inhibitiers-allstars.jpg
END:VEVENT
END:VCALENDAR