BEGIN:VCALENDAR
VERSION:2.0
PRODID:-//Kulturbühne Hinterhalt - ECPv6.15.20//NONSGML v1.0//EN
CALSCALE:GREGORIAN
METHOD:PUBLISH
X-WR-CALNAME:Kulturbühne Hinterhalt
X-ORIGINAL-URL:https://hinterhalt.de
X-WR-CALDESC:Veranstaltungen für Kulturbühne Hinterhalt
REFRESH-INTERVAL;VALUE=DURATION:PT1H
X-Robots-Tag:noindex
X-PUBLISHED-TTL:PT1H
BEGIN:VTIMEZONE
TZID:Europe/Berlin
BEGIN:DAYLIGHT
TZOFFSETFROM:+0100
TZOFFSETTO:+0200
TZNAME:CEST
DTSTART:20250330T010000
END:DAYLIGHT
BEGIN:STANDARD
TZOFFSETFROM:+0200
TZOFFSETTO:+0100
TZNAME:CET
DTSTART:20251026T010000
END:STANDARD
BEGIN:DAYLIGHT
TZOFFSETFROM:+0100
TZOFFSETTO:+0200
TZNAME:CEST
DTSTART:20260329T010000
END:DAYLIGHT
BEGIN:STANDARD
TZOFFSETFROM:+0200
TZOFFSETTO:+0100
TZNAME:CET
DTSTART:20261025T010000
END:STANDARD
BEGIN:DAYLIGHT
TZOFFSETFROM:+0100
TZOFFSETTO:+0200
TZNAME:CEST
DTSTART:20270328T010000
END:DAYLIGHT
BEGIN:STANDARD
TZOFFSETFROM:+0200
TZOFFSETTO:+0100
TZNAME:CET
DTSTART:20271031T010000
END:STANDARD
END:VTIMEZONE
BEGIN:VEVENT
DTSTART;TZID=Europe/Berlin:20261024T200000
DTEND;TZID=Europe/Berlin:20261024T220000
DTSTAMP:20260424T105957
CREATED:20260108T145723Z
LAST-MODIFIED:20260108T145725Z
UID:11516-1792872000-1792879200@hinterhalt.de
SUMMARY:Cico Jazz Orchester
DESCRIPTION:Cico Jazz Orchester – Musik\, die verbindet. \n\n\n\nOb eingefleischter Jazz-Fan oder Neuling in der Welt der Live-Musik\, das Cico Jazz Orchester schafft einen Abend\, der mitreißt\, bewegt und die Herzen der Zuschauer berührt. Ein Konzert\, das nicht nur die Ohren\, sondern auch die Füße in Bewegung bringt – ein Erlebnis\, das noch lange nachklingen wird. \n\n\n\nReservierungen dringend empfohlen – es wird wieder voll! \n\n\n\n\n\n\n\nhttps://www.instagram.com/cicojazzorchester
URL:https://hinterhalt.de/veranstaltung/cico-jazz-orchester-2/
LOCATION:Kulturbühne Hinterhalt\, Leitenstraße 40\, Geretsried\, 82538\, Deutschland
CATEGORIES:Konzert
ATTACH;FMTTYPE=image/jpeg:https://hinterhalt.de/wp-content/uploads/2025/11/Cico-Jazz-Orchester-7.11.2025-1.jpg
END:VEVENT
END:VCALENDAR