BEGIN:VCALENDAR
VERSION:2.0
PRODID:-//Kulturbühne Hinterhalt - ECPv6.15.20//NONSGML v1.0//EN
CALSCALE:GREGORIAN
METHOD:PUBLISH
X-WR-CALNAME:Kulturbühne Hinterhalt
X-ORIGINAL-URL:https://hinterhalt.de
X-WR-CALDESC:Veranstaltungen für Kulturbühne Hinterhalt
REFRESH-INTERVAL;VALUE=DURATION:PT1H
X-Robots-Tag:noindex
X-PUBLISHED-TTL:PT1H
BEGIN:VTIMEZONE
TZID:Europe/Berlin
BEGIN:DAYLIGHT
TZOFFSETFROM:+0100
TZOFFSETTO:+0200
TZNAME:CEST
DTSTART:20250330T010000
END:DAYLIGHT
BEGIN:STANDARD
TZOFFSETFROM:+0200
TZOFFSETTO:+0100
TZNAME:CET
DTSTART:20251026T010000
END:STANDARD
BEGIN:DAYLIGHT
TZOFFSETFROM:+0100
TZOFFSETTO:+0200
TZNAME:CEST
DTSTART:20260329T010000
END:DAYLIGHT
BEGIN:STANDARD
TZOFFSETFROM:+0200
TZOFFSETTO:+0100
TZNAME:CET
DTSTART:20261025T010000
END:STANDARD
BEGIN:DAYLIGHT
TZOFFSETFROM:+0100
TZOFFSETTO:+0200
TZNAME:CEST
DTSTART:20270328T010000
END:DAYLIGHT
BEGIN:STANDARD
TZOFFSETFROM:+0200
TZOFFSETTO:+0100
TZNAME:CET
DTSTART:20271031T010000
END:STANDARD
END:VTIMEZONE
BEGIN:VEVENT
DTSTART;TZID=Europe/Berlin:20260306T200000
DTEND;TZID=Europe/Berlin:20260306T230000
DTSTAMP:20260424T090538
CREATED:20250624T073427Z
LAST-MODIFIED:20251222T162611Z
UID:10273-1772827200-1772838000@hinterhalt.de
SUMMARY:Conny K. & The Boosters - Jazzy Bootiefunk
DESCRIPTION:Wenn Conny Kreitmeier – alias Conny K. – mit ihren Boosters auf der Bühne steht\, fiegen die FUNKen: Energiegeladen und unterhaltsam präsentiert die charismatische Sängerin mit ihrer exzellent besetzten Fresh-Combo – Roland Rost an der Orgel&Keys\, Boris Boskovic am Bass und Tommy Eberhardt am Schlagzeug – Eigenes sowie Bekanntes und Unbekanntes aus Jazz\, Funk und Soul\, alles im gewohntunkonventionellen Stil. \n\n\n\nOb Funkliebhaber\, Jazzfan oder einfach nur Musikbegeisterter – hier geht es zur Sache: Explosiver Gesang\, Hammer-Solis\, mitreißende Improvisationen und unerwartete Ausbrüche über heavy Funkbeats inklusive. Zum Zuhören\, Zuschauen oder Abtanzen – das High-Power-Quartett treibt das Impro- & Groove-Level gnadenlos in die Höhe – und entfacht dabei regelrecht eine wilde Jazzparty. \n\n\n\nConny Kreitmeier steht seit vielen Jahren als Frontfrau\, Arrangeurin\, Texterin und Sängerin auf der Bühne – unter anderem bekannt durch die groteske Rock- und Popshow des Duos Orchester Bürger Kreitmeier\, für die sie mehrfach ausgezeichnet wurde – u.a. mit dem Deutschen Kleinkunstpreis und dem Deutschen Satirepreis. Darüber hinaus ist sie für ihre Beiträge als Gastsängerin der Metal-Funk-Jazz-Band Panzerballett bekannt und war über viele Jahre fester Bestandteil der Kabarettsendung SchleichFernsehen (BR). \n\n\n\nBandbesetzung\n\n\n\nConny K. & The Boosters sind:Conny Kreitmeier: Lead Vocals & Vocal TransformerBoris Boskovic: Bass & Background VocalsTommy Eberhardt: DrumsRoland Rost “Rosi”: Organ & Keys \n\n\n\nWeitere Infos und Social Media:\n\n\n\nHomepage Band: www.boosters-music.deHomepage Conny K.: www.conny-kreitmeier.de \n\n\n\nFacebook: Conny K. & The BoostersYouTube Playlist: Alle VideosSoundCloud: Conny K. & The Boosters – Jazzy Bootiefunk \n\n\n\nEinlass 19:00
URL:https://hinterhalt.de/veranstaltung/conny-k-the-boosters-jazzy-bootiefunk/
LOCATION:Kulturbühne Hinterhalt\, Leitenstraße 40\, Geretsried\, 82538\, Deutschland
CATEGORIES:Konzert
ATTACH;FMTTYPE=image/jpeg:https://hinterhalt.de/wp-content/uploads/2025/06/BO-Flyer-logo-oben-namen-homepage-quer.jpg
END:VEVENT
END:VCALENDAR