BEGIN:VCALENDAR
VERSION:2.0
PRODID:-//Kulturbühne Hinterhalt - ECPv6.15.20//NONSGML v1.0//EN
CALSCALE:GREGORIAN
METHOD:PUBLISH
X-WR-CALNAME:Kulturbühne Hinterhalt
X-ORIGINAL-URL:https://hinterhalt.de
X-WR-CALDESC:Veranstaltungen für Kulturbühne Hinterhalt
REFRESH-INTERVAL;VALUE=DURATION:PT1H
X-Robots-Tag:noindex
X-PUBLISHED-TTL:PT1H
BEGIN:VTIMEZONE
TZID:Europe/Berlin
BEGIN:DAYLIGHT
TZOFFSETFROM:+0100
TZOFFSETTO:+0200
TZNAME:CEST
DTSTART:20230326T010000
END:DAYLIGHT
BEGIN:STANDARD
TZOFFSETFROM:+0200
TZOFFSETTO:+0100
TZNAME:CET
DTSTART:20231029T010000
END:STANDARD
BEGIN:DAYLIGHT
TZOFFSETFROM:+0100
TZOFFSETTO:+0200
TZNAME:CEST
DTSTART:20240331T010000
END:DAYLIGHT
BEGIN:STANDARD
TZOFFSETFROM:+0200
TZOFFSETTO:+0100
TZNAME:CET
DTSTART:20241027T010000
END:STANDARD
BEGIN:DAYLIGHT
TZOFFSETFROM:+0100
TZOFFSETTO:+0200
TZNAME:CEST
DTSTART:20250330T010000
END:DAYLIGHT
BEGIN:STANDARD
TZOFFSETFROM:+0200
TZOFFSETTO:+0100
TZNAME:CET
DTSTART:20251026T010000
END:STANDARD
END:VTIMEZONE
BEGIN:VEVENT
DTSTART;TZID=Europe/Berlin:20240713T200000
DTEND;TZID=Europe/Berlin:20240713T223000
DTSTAMP:20260424T220930
CREATED:20240511T094514Z
LAST-MODIFIED:20240511T094517Z
UID:8106-1720900800-1720909800@hinterhalt.de
SUMMARY:Das Triumvirat - RELEASEPARTY
DESCRIPTION:RELEASEPARTY \n\n\n\nDas Triumvirat\, eine junge Gruppe inkl. Netzwerk\, mit Lust\, etwas auf die Beine (oder Kopf) zu stellen\, präsentiert seine nächste Releaseparty zum ersten Mal für die Öffentlichkeit!Von Melancholischem über HipHop bis Techno und sonst so\, was das Ohr begehrt: Im Programm stehen viele selbstgemachte Spezialitäten\, doch es folgt noch mehr als nur Musik…Jeder soll kommen\, außer alle\, die so richtig Lust auf Verpassen haben! Also freut euch auf ein sattes Überraschungsprogramm!
URL:https://hinterhalt.de/veranstaltung/das-triumvirat-releaseparty/
LOCATION:Kulturbühne Hinterhalt\, Leitenstraße 40\, Geretsried\, 82538\, Deutschland
CATEGORIES:Konzert
ATTACH;FMTTYPE=image/jpeg:https://hinterhalt.de/wp-content/uploads/2024/05/triumvirat.jpg
END:VEVENT
END:VCALENDAR