BEGIN:VCALENDAR
VERSION:2.0
PRODID:-//Kulturbühne Hinterhalt - ECPv6.15.20//NONSGML v1.0//EN
CALSCALE:GREGORIAN
METHOD:PUBLISH
X-WR-CALNAME:Kulturbühne Hinterhalt
X-ORIGINAL-URL:https://hinterhalt.de
X-WR-CALDESC:Veranstaltungen für Kulturbühne Hinterhalt
REFRESH-INTERVAL;VALUE=DURATION:PT1H
X-Robots-Tag:noindex
X-PUBLISHED-TTL:PT1H
BEGIN:VTIMEZONE
TZID:Europe/Berlin
BEGIN:DAYLIGHT
TZOFFSETFROM:+0100
TZOFFSETTO:+0200
TZNAME:CEST
DTSTART:20220327T010000
END:DAYLIGHT
BEGIN:STANDARD
TZOFFSETFROM:+0200
TZOFFSETTO:+0100
TZNAME:CET
DTSTART:20221030T010000
END:STANDARD
BEGIN:DAYLIGHT
TZOFFSETFROM:+0100
TZOFFSETTO:+0200
TZNAME:CEST
DTSTART:20230326T010000
END:DAYLIGHT
BEGIN:STANDARD
TZOFFSETFROM:+0200
TZOFFSETTO:+0100
TZNAME:CET
DTSTART:20231029T010000
END:STANDARD
BEGIN:DAYLIGHT
TZOFFSETFROM:+0100
TZOFFSETTO:+0200
TZNAME:CEST
DTSTART:20240331T010000
END:DAYLIGHT
BEGIN:STANDARD
TZOFFSETFROM:+0200
TZOFFSETTO:+0100
TZNAME:CET
DTSTART:20241027T010000
END:STANDARD
END:VTIMEZONE
BEGIN:VEVENT
DTSTART;TZID=Europe/Berlin:20231028T200000
DTEND;TZID=Europe/Berlin:20231028T230000
DTSTAMP:20260425T214506
CREATED:20230726T070132Z
LAST-MODIFIED:20230726T070525Z
UID:6302-1698523200-1698534000@hinterhalt.de
SUMMARY:D´Bavaresi
DESCRIPTION:D ́Bavaresi sind drei g´standene Männer aus Altbayern – aus Niederbayern\, Oberbayern und der Oberpfalz. Sie haben sich einer Sache verpflichtet: Die Lieder von bayrischen Künstlern neu\, frisch und schräg zu interpretieren. AUSTRO-POP ist ja ganz nett – doch jetzt schlägt die Stunde des BAVARO-POP. D’Bavaresi huldigen Größen wie Spider Murphy Gang\, Willy Michl und Ringsgwandl. Aber auch Relax\, Nicki und Konsorten sind nicht sicher vor ihnen! \n\n\n\nDabei spielen sie nicht nur nach\, sie interpretieren eigen und kreativ. Und garnieren das Programm mit eigenen bekannten und unbekannten Songs. Ein Abend mit d’Bavaresi ist eine abenteuerliche Reise durch die bayerische Musiklandschaft. Geht ins Ohr – und da bleibt´s dann auch! \n\n\n\nZu den Akteuren: \n\n\n\nSebastian Horn aus Oberbayern ist TV Moderator\, Bassist und Sänger der deutschlandweit bekannten Bananafishbones und der bayerischen Kultband Dreiviertelblut. Mit seiner markanten Bass-Stimme hat er einen absoluten Wiedererkennungswert. \n\n\n\nMathias Kellner aus der Oberpfalz ist Liedermacher\, Kabarettist und Schauspieler (Watzmann\, Was weg is is weg\, Leberkäsjunkie) und seit Jahren ein fester Bestandteil der bayerischen Musik- und Kabarettszene. \n\n\n\nOtto Schellinger aus Niederbayern ist als Sideman ein gefragter Mann. So steht der Multiinstrumentalist als Bassist\, Gitarrist\, Schlagzeuger oder Sänger regelmäßig für Künstler wie Claudia Koreck oder Nick Woodland auf der Bühne oder im Studio.
URL:https://hinterhalt.de/veranstaltung/dbavaresi/
LOCATION:Kulturbühne Hinterhalt\, Leitenstraße 40\, Geretsried\, 82538\, Deutschland
CATEGORIES:Konzert
ATTACH;FMTTYPE=image/jpeg:https://hinterhalt.de/wp-content/uploads/2023/07/D-Bavaresi.jpeg
END:VEVENT
END:VCALENDAR