BEGIN:VCALENDAR
VERSION:2.0
PRODID:-//Kulturbühne Hinterhalt - ECPv6.15.20//NONSGML v1.0//EN
CALSCALE:GREGORIAN
METHOD:PUBLISH
X-WR-CALNAME:Kulturbühne Hinterhalt
X-ORIGINAL-URL:https://hinterhalt.de
X-WR-CALDESC:Veranstaltungen für Kulturbühne Hinterhalt
REFRESH-INTERVAL;VALUE=DURATION:PT1H
X-Robots-Tag:noindex
X-PUBLISHED-TTL:PT1H
BEGIN:VTIMEZONE
TZID:Europe/Berlin
BEGIN:DAYLIGHT
TZOFFSETFROM:+0100
TZOFFSETTO:+0200
TZNAME:CEST
DTSTART:20240331T010000
END:DAYLIGHT
BEGIN:STANDARD
TZOFFSETFROM:+0200
TZOFFSETTO:+0100
TZNAME:CET
DTSTART:20241027T010000
END:STANDARD
BEGIN:DAYLIGHT
TZOFFSETFROM:+0100
TZOFFSETTO:+0200
TZNAME:CEST
DTSTART:20250330T010000
END:DAYLIGHT
BEGIN:STANDARD
TZOFFSETFROM:+0200
TZOFFSETTO:+0100
TZNAME:CET
DTSTART:20251026T010000
END:STANDARD
BEGIN:DAYLIGHT
TZOFFSETFROM:+0100
TZOFFSETTO:+0200
TZNAME:CEST
DTSTART:20260329T010000
END:DAYLIGHT
BEGIN:STANDARD
TZOFFSETFROM:+0200
TZOFFSETTO:+0100
TZNAME:CET
DTSTART:20261025T010000
END:STANDARD
END:VTIMEZONE
BEGIN:VEVENT
DTSTART;TZID=Europe/Berlin:20250505T200000
DTEND;TZID=Europe/Berlin:20250505T223000
DTSTAMP:20260424T152541
CREATED:20250326T080359Z
LAST-MODIFIED:20250326T122735Z
UID:9744-1746475200-1746484200@hinterhalt.de
SUMMARY:Derbleckereien mit Richard Oehmann
DESCRIPTION:Ungehörtes und Ungehöriges über Söder\, Aiwanger\, Merz\, Scholz und co.Richard Oehmann\, Autor und Regisseur des Nockherberg-Singspiels\, liest\, blödelt und singt unvertonte Liedtexte\, verworfene Ideen\, sowie ein abgesagtes Singspiel.\n\n\n\n \n\n\n\nRichard Oehmann ist Puppenspieler\, Sprecher\, Autor und Regisseur. Er ist seit 1994 eine Hälfte von Doctor Döblingers geschmackvollem Kasperltheater\, für das er 16 Hörspiel-Alben und eine Musik-CD mitgestaltet\, -gesungen\, -gesprochen\, -inszeniert hat. Er hat ein Kinderbuch\, diverse Kolumnen und drei BR-Hörspiele geschrieben\, zudem ist er Sänger und Texter für die kindische Kapelle Café Unterzucker. Richard Oehmann hat u.a. den Weilheimer Kulturpreis und mit Doctor Döblinger den Schwabinger Kunstpreis und den Bayerischen Dialektpreis erhalten\, außerdem mit dem Café Unterzucker drei Leopoldpreise\, sowie ein Musikstipendium der Stadt München. \n\n\n\n \n\n\n\nSeit 2017 ist Oehmann im Autorenteam beim traditionellen Politiker-Derblecken am Münchner Nockherberg\, seit 2018 gemeinsam mit Stefan Betz federführend als Regisseur und Autor des Nockherberg-Singspiels. Im Laufe der Arbeit wurden immer wieder Texte verworfen\, außerdem sind zwei fast fertige Singspiele nie gezeigt worden\, einmal wegen der Pandemie\, einmal wegen des Überfalls auf die Ukraine. Bei seinen Lesungen schöpft Oehmann nun aus diesem Fundus an unveröffentlichten bis bejubelten Derbleckereien der letzten Jahre\, darunter Liedtexte\, einzelne Szenen\, sowie mindestens eines der abgesagten Singspiele. \n\n\n\n \n\n\n\nBei der Lesung kommen viele politische Figuren der letzte Jahre zu Wort\, von Andi Scheuer („Autoschmuserandi“) bis Hubert Aiwanger („Hubertät“)\, von Annalena Baerbock bis Friedrich Merz\, und natürlich sehr viel Markus Söder\, sei es mit seinem alten „Sieh es ein\, alter Horst\, du musst jetzt gehen“ oder dem neuesten Lied von der „Demut und Bescheidenheit“.
URL:https://hinterhalt.de/veranstaltung/derblecken-als-lesung/
LOCATION:Kulturbühne Hinterhalt\, Leitenstraße 40\, Geretsried\, 82538\, Deutschland
CATEGORIES:Konzert
ATTACH;FMTTYPE=image/jpeg:https://hinterhalt.de/wp-content/uploads/2025/03/4-Derbleckereien-Fotos-Paulaner.jpg
END:VEVENT
END:VCALENDAR