BEGIN:VCALENDAR
VERSION:2.0
PRODID:-//Kulturbühne Hinterhalt - ECPv6.15.20//NONSGML v1.0//EN
CALSCALE:GREGORIAN
METHOD:PUBLISH
X-WR-CALNAME:Kulturbühne Hinterhalt
X-ORIGINAL-URL:https://hinterhalt.de
X-WR-CALDESC:Veranstaltungen für Kulturbühne Hinterhalt
REFRESH-INTERVAL;VALUE=DURATION:PT1H
X-Robots-Tag:noindex
X-PUBLISHED-TTL:PT1H
BEGIN:VTIMEZONE
TZID:Europe/Berlin
BEGIN:DAYLIGHT
TZOFFSETFROM:+0100
TZOFFSETTO:+0200
TZNAME:CEST
DTSTART:20250330T010000
END:DAYLIGHT
BEGIN:STANDARD
TZOFFSETFROM:+0200
TZOFFSETTO:+0100
TZNAME:CET
DTSTART:20251026T010000
END:STANDARD
BEGIN:DAYLIGHT
TZOFFSETFROM:+0100
TZOFFSETTO:+0200
TZNAME:CEST
DTSTART:20260329T010000
END:DAYLIGHT
BEGIN:STANDARD
TZOFFSETFROM:+0200
TZOFFSETTO:+0100
TZNAME:CET
DTSTART:20261025T010000
END:STANDARD
BEGIN:DAYLIGHT
TZOFFSETFROM:+0100
TZOFFSETTO:+0200
TZNAME:CEST
DTSTART:20270328T010000
END:DAYLIGHT
BEGIN:STANDARD
TZOFFSETFROM:+0200
TZOFFSETTO:+0100
TZNAME:CET
DTSTART:20271031T010000
END:STANDARD
END:VTIMEZONE
BEGIN:VEVENT
DTSTART;TZID=Europe/Berlin:20261114T200000
DTEND;TZID=Europe/Berlin:20261114T223000
DTSTAMP:20260424T110808
CREATED:20251126T121054Z
LAST-MODIFIED:20251126T121226Z
UID:11305-1794686400-1794695400@hinterhalt.de
SUMMARY:Desperate Brasswives – GAWOI! 2026
DESCRIPTION:Explosive Frauenpower mit Brasspop und Partysounds \n\n\n\nDie Desperate Brasswives erobern die Bühnen mit ihrer „GAWOI!“-Tour 2026: Eine explosive Mischung aus Brasspop und purer Frauenpower! \n\n\n\nDie Blasinstrumente sind poliert\, die Stimmen geölt und die Bühnen bereit: Die Desperate Brasswives\, das energiegeladene Neunergespann aus Powerfrauen\, steht im neuen Jahr mit ihrer Tour „GAWOI!“ auf der Bühne. \n\n\n\nGAWOI [gavoi]\, Partikel \n\n\n\n\nZusammensetzung aus Gaudi und jawoi\n\n\n\n\nEkstatischer Ausruf; Ausdruck ungehemmter Freude und Zustimmung \n\n\n\nGAWOI – das ist mehr als nur ein Tourname\, es ist der Schlachtruf\, das Manifest und die pure Lebensfreude der Band. Es steht für Gruppendynamik\, Brasspop\, Girl Power und Partyrock! \n\n\n\n„GAWOI“ ist die Essenz dessen\, wofür die Desperate Brasswives stehen: Ungezügelte Energie\, ein unerschütterlicher Zusammenhalt und die Botschaft\, dass wahre Stärke in der Gemeinschaft und im gemeinsamen Feiern liegt. Ihre Konzerte sind keine bloßen Auftritte\, sondern eine Einladung zum Ausrasten\, Mitsingen und Teilhaben an einer einzigartigen Party. \n\n\n\nDie Band\, bestehend aus neun einzigartigen Musiker:innen aus Bayern und Österreich\, hat sich in den letzten Jahren\, mit ihrem unwiderstehlichen Charme und ihrer musikalischen Vielseitigkeit einen Namen gemacht. Sie verschmelzen damit Kraft und Drive von Blasinstrumenten mit eingängigen Popsongs und rockigen Partyhymnen. Auf ihrer Tour präsentieren die Desperate Brasswives eine explosive Mischung aus mitreißenden Eigenkompositionen und neu interpretierten Cover-Songs\, die garantiert jede Tanzfläche zum Beben bringen. \n\n\n\nSeien Sie dabei\, wenn die Desperate Brasswives auf ihrer „GAWOI!“-Tour beweisen\, dass Blechbläser und rockige Beats die perfekte Kombination für eine unvergessliche Nacht sind. Es ist Zeit\, die Partyschuhe zu schnüren und sich von der geballten Ladung an Gruppendynamik\, Brasspop\, Girl Power und Partyrock mitreißen zu lassen! \n\n\n\nEinlass ab 19 Uhr
URL:https://hinterhalt.de/veranstaltung/desperate-brasswives-gawoi-2026/
LOCATION:Kulturbühne Hinterhalt\, Leitenstraße 40\, Geretsried\, 82538\, Deutschland
CATEGORIES:Konzert
ATTACH;FMTTYPE=image/jpeg:https://hinterhalt.de/wp-content/uploads/2025/10/DBW_PRESS02_copyright_by_Alexander_Spitzer.jpg
END:VEVENT
END:VCALENDAR