BEGIN:VCALENDAR
VERSION:2.0
PRODID:-//Kulturbühne Hinterhalt - ECPv6.15.20//NONSGML v1.0//EN
CALSCALE:GREGORIAN
METHOD:PUBLISH
X-WR-CALNAME:Kulturbühne Hinterhalt
X-ORIGINAL-URL:https://hinterhalt.de
X-WR-CALDESC:Veranstaltungen für Kulturbühne Hinterhalt
REFRESH-INTERVAL;VALUE=DURATION:PT1H
X-Robots-Tag:noindex
X-PUBLISHED-TTL:PT1H
BEGIN:VTIMEZONE
TZID:Europe/Berlin
BEGIN:DAYLIGHT
TZOFFSETFROM:+0100
TZOFFSETTO:+0200
TZNAME:CEST
DTSTART:20200329T010000
END:DAYLIGHT
BEGIN:STANDARD
TZOFFSETFROM:+0200
TZOFFSETTO:+0100
TZNAME:CET
DTSTART:20201025T010000
END:STANDARD
BEGIN:DAYLIGHT
TZOFFSETFROM:+0100
TZOFFSETTO:+0200
TZNAME:CEST
DTSTART:20210328T010000
END:DAYLIGHT
BEGIN:STANDARD
TZOFFSETFROM:+0200
TZOFFSETTO:+0100
TZNAME:CET
DTSTART:20211031T010000
END:STANDARD
BEGIN:DAYLIGHT
TZOFFSETFROM:+0100
TZOFFSETTO:+0200
TZNAME:CEST
DTSTART:20220327T010000
END:DAYLIGHT
BEGIN:STANDARD
TZOFFSETFROM:+0200
TZOFFSETTO:+0100
TZNAME:CET
DTSTART:20221030T010000
END:STANDARD
END:VTIMEZONE
BEGIN:VEVENT
DTSTART;TZID=Europe/Berlin:20211016T200000
DTEND;TZID=Europe/Berlin:20211016T213000
DTSTAMP:20260425T130919
CREATED:20210402T113603Z
LAST-MODIFIED:20211013T190605Z
UID:2687-1634414400-1634419800@hinterhalt.de
SUMMARY:Neuer Termin folgt - d'Housemusi
DESCRIPTION:Dieser Name klingt nach Tradition\, Gemütlichkeit und Stubenmusik…   \n\n\n\nDoch die englische Schreibweise ‚House‘ lässt vermuten\, dass es wenn das Trio auf der Bühne steht wohl doch etwas anders zugehen dürfte\, als das bei Musikantentreffen sonst so üblich ist; virtuoser\, freier\, schräger\, wilder. Trotzdem hat das Altbairische durchaus seinen Platz fügt sich wunderbar in den typischen Housemusi Sound mit ein.  \n\n\n\nNach knapp 2 Jahren Pause steht die Gruppe jetzt nach einem Besetzungswechsel endlich wieder auf der Bühne. Mit Sonja Schroth am Gesang \, steirischer Ziach \, Akkordeon und einer wunderbaren Mimik \, ist jetzt eine Frau in dem unvergleichlichen Trio mit dabei. (Womit auch das Thema „Frauenquote“ in da Housemusi hiermit erledigt sein durfte).   \n\n\n\nIn der neuen Besetzung: Toni Fischer (Zither \, Gitarre \, Gesang) \,Sonja Schroth (Akkordeon \, steirische Ziach \, Gesang) und Sepp Müller (Schlagwerk \, Flöte \, Gesang)  \n\n\n\n\n\n\n\nWie bei allen Hinterhalt-Livestreams geht der virtuelle Hut herum. Alle Beteiligten (Ton\, Kamera\, Technik und Künstler) freuen sich über ein kräftiges Klappern der elektronischen Münzen! \n\n\n\nDas funktioniert ganz einfach per PayPal \n\n\n\nwww.paypal.me/kilev \n\n\n\nSpenden kann der geneigte Zuschauer gerne jederzeit per Paypal: \n\n\n\n\nPayPal \n\n\n\n\nAlternativ geht es auch ‚old school‘ per Überweisung auf das Konto des Kulturverein Isar-Loisach e.V. (KIL)IBAN: DE49 7016 9543 0002 7374 77 BIC: GENODEF1HHS \n\n\n\nAlternativ geht es auch ‚old school‘ per Überweisung auf das Konto des Kulturverein Isar-Loisach e.V. (KIL)IBAN: DE49 7016 9543 0002 7374 77 BIC: GENODEF1HHS
URL:https://hinterhalt.de/veranstaltung/dhousemusi/
ATTACH;FMTTYPE=image/jpeg:https://hinterhalt.de/wp-content/uploads/2021/04/A847F796-E995-410F-A83E-41590D99F5DD-scaled-e1617363455809.jpeg
END:VEVENT
END:VCALENDAR