BEGIN:VCALENDAR
VERSION:2.0
PRODID:-//Kulturbühne Hinterhalt - ECPv6.15.20//NONSGML v1.0//EN
CALSCALE:GREGORIAN
METHOD:PUBLISH
X-WR-CALNAME:Kulturbühne Hinterhalt
X-ORIGINAL-URL:https://hinterhalt.de
X-WR-CALDESC:Veranstaltungen für Kulturbühne Hinterhalt
REFRESH-INTERVAL;VALUE=DURATION:PT1H
X-Robots-Tag:noindex
X-PUBLISHED-TTL:PT1H
BEGIN:VTIMEZONE
TZID:Europe/Berlin
BEGIN:DAYLIGHT
TZOFFSETFROM:+0100
TZOFFSETTO:+0200
TZNAME:CEST
DTSTART:20230326T010000
END:DAYLIGHT
BEGIN:STANDARD
TZOFFSETFROM:+0200
TZOFFSETTO:+0100
TZNAME:CET
DTSTART:20231029T010000
END:STANDARD
BEGIN:DAYLIGHT
TZOFFSETFROM:+0100
TZOFFSETTO:+0200
TZNAME:CEST
DTSTART:20240331T010000
END:DAYLIGHT
BEGIN:STANDARD
TZOFFSETFROM:+0200
TZOFFSETTO:+0100
TZNAME:CET
DTSTART:20241027T010000
END:STANDARD
BEGIN:DAYLIGHT
TZOFFSETFROM:+0100
TZOFFSETTO:+0200
TZNAME:CEST
DTSTART:20250330T010000
END:DAYLIGHT
BEGIN:STANDARD
TZOFFSETFROM:+0200
TZOFFSETTO:+0100
TZNAME:CET
DTSTART:20251026T010000
END:STANDARD
END:VTIMEZONE
BEGIN:VEVENT
DTSTART;TZID=Europe/Berlin:20241205T200000
DTEND;TZID=Europe/Berlin:20241205T223000
DTSTAMP:20260424T231040
CREATED:20241108T084118Z
LAST-MODIFIED:20241204T074837Z
UID:8968-1733428800-1733437800@hinterhalt.de
SUMMARY:Verschoben auf 7.3.25! DIE KÜHNEMANN - Chansoneske Liedermacherei
DESCRIPTION:DIE KÜHNEMANN – „ZEITLOS“Liedermacherin von Rock bis ChansonEigene Lieder und gut geklaute Chansons mit viel Power und Leidenschaft vorgetragen.Das ist DIE KÜHNEMANN.Wie wäre es wohl James Dean zu sein? Dann wäre unser Leben leider schon längst vorbei.Wie viel Power steckt eigentlich in der Angst? Ist die schöne neue Welt wirklich so schön?Wo erleben wir eigentlich den Perfekten Tag? Wäre ein Leben ohne „Vielleicht“ einbesseres Leben?Die Kühnemann versteht es auf ihre unnachahmliche Art die unangenehmsten Wahrheiten\,so zu verpacken\, dass dann alles nicht mehr so schlimm ist.Sie entschuldigt sich für ihren Straßenhund aus Rumänien\, erzählt uns von Hans\, demTechniker\, der Zeit seines Lebens einen ziemlich guten Schutzengel gehabt haben muss undsie singt natürlich immer wieder von der Liebe – die zeitloseste Sache der Welt.Das „ZEITLOS“ ist das Los\, das wir alle im Leben ziehen: Gewinn oder Niete\, furchtlos oderängstlich\, vom Pech verfolgt oder vom Glück überrannt. Hol Dir Dein Los ab\, bei der Kühnemann ist für jede und jeden was dabei.Die Kühnemann war viele Jahre ein Drittel der Musikkabarettgruppe Les Derhosn und gründete ein Chansonduo. Das macht sich auch in ihrer Solo Performances bemerkbar.Sie ist nicht nur Lieder-Macherin\, sie spielt und lebt sie auf der Bühne aus.Mit viel Witz und Charme moderiert sie durch das Programm\, begleitet sich mit Western-Gitarre und Loop-Station und ihre unverwechselbare Stimme kann auch zu Tränen rühren.Soeben ist ihre zweite Solo-CD bei dem Indie-Label MON MARI ET MOI erschienen und die Lieder sind so unterschiedlich wie das Leben eben ist. Mal rockig\, romantisch\, traurig und dann wieder mit viel Augenzwinkern.Gar wunderbare Musiker konnte sie für die CD-Produktion gewinnen:Alex Haas (Hochzeitskapelle)\, Saschmo Bibergeil (Dr.Will & the Wizards) Johann Bengen (Monaco Bagage)\, Marc Boysen (Young Chinese Dogs)\, Wolfgang Peyerl + Volker Giesek (Ecco DiLorenzo and his Innersoul)\, Tom Peschl (Nick Woodland Band)\, Boris Ruge\, Hubert Hofherr und Christian Höck\, der Phonoboy saß an den Reglern.www.diekuehnemann.debrief@diekuehnemann.de0179 7706895VIDEO-BEISPIELE:James Dean (Video Clip)https://youtu.be/i8itsD9nJngEntschuldigung für meinen Hund (Video-Clip)https://www.youtube.com/watch?v=62M_4gFEKOA&t=4sEin Lied für Hans – Techniker des Fraunhofer Theaters in München (Video-Clip)https://www.youtube.com/watch?v=3sQmS4cB7kg
URL:https://hinterhalt.de/veranstaltung/die-kuehnemann-chansoneske-liedermacherei-2/
LOCATION:Kulturbühne Hinterhalt\, Leitenstraße 40\, Geretsried\, 82538\, Deutschland
CATEGORIES:Konzert
ATTACH;FMTTYPE=image/jpeg:https://hinterhalt.de/wp-content/uploads/2024/04/Kuehnemann-Zeitlos.jpg
END:VEVENT
END:VCALENDAR