BEGIN:VCALENDAR
VERSION:2.0
PRODID:-//Kulturbühne Hinterhalt - ECPv6.15.20//NONSGML v1.0//EN
CALSCALE:GREGORIAN
METHOD:PUBLISH
X-WR-CALNAME:Kulturbühne Hinterhalt
X-ORIGINAL-URL:https://hinterhalt.de
X-WR-CALDESC:Veranstaltungen für Kulturbühne Hinterhalt
REFRESH-INTERVAL;VALUE=DURATION:PT1H
X-Robots-Tag:noindex
X-PUBLISHED-TTL:PT1H
BEGIN:VTIMEZONE
TZID:Europe/Berlin
BEGIN:DAYLIGHT
TZOFFSETFROM:+0100
TZOFFSETTO:+0200
TZNAME:CEST
DTSTART:20220327T010000
END:DAYLIGHT
BEGIN:STANDARD
TZOFFSETFROM:+0200
TZOFFSETTO:+0100
TZNAME:CET
DTSTART:20221030T010000
END:STANDARD
BEGIN:DAYLIGHT
TZOFFSETFROM:+0100
TZOFFSETTO:+0200
TZNAME:CEST
DTSTART:20230326T010000
END:DAYLIGHT
BEGIN:STANDARD
TZOFFSETFROM:+0200
TZOFFSETTO:+0100
TZNAME:CET
DTSTART:20231029T010000
END:STANDARD
BEGIN:DAYLIGHT
TZOFFSETFROM:+0100
TZOFFSETTO:+0200
TZNAME:CEST
DTSTART:20240331T010000
END:DAYLIGHT
BEGIN:STANDARD
TZOFFSETFROM:+0200
TZOFFSETTO:+0100
TZNAME:CET
DTSTART:20241027T010000
END:STANDARD
END:VTIMEZONE
BEGIN:VEVENT
DTSTART;TZID=Europe/Berlin:20231120T193000
DTEND;TZID=Europe/Berlin:20231120T210000
DTSTAMP:20260425T163544
CREATED:20230811T150604Z
LAST-MODIFIED:20231119T211811Z
UID:6418-1700508600-1700514000@hinterhalt.de
SUMMARY:Statt-Akademie zum Gedenken eines Meisters
DESCRIPTION:Morgen vor 10 Jahren ist er gestorben\, der geniale Kabarettist und Mit-Begründer der Münchner Lach- und Schießgesellschaft Dieter Hildebrandt.Das Nachkriegsfernsehen ist ohne „Notizen aus der Provinz“ und „Scheibenwischer“ nicht vollständig\, und Schwabing ohne die „Lach- und Schießgesellschaft“ ein Jammer. Sein Buch „Nie wieder achtzig!“ erinnert wortgewaltig an ausgewählte Ereignisse in der Bundesrepublik\, bei deren satirischer Beschreibung das „Baden gehen“ des politischen und sonstigen Anstands bestens sichtbar wird.  \n\n\n\nDer Münchner Musiker\, Sänger und Kabarettist\, langjähriges Mitglied des Ensembles der Lach- und Schieß Ecco Meinecke kommt zu unserem Kulturfestival einmal mehr in die Provinz und liest\, singst\, spielt und zitiert zum 10. Todestag von Dieter Hildebrand! Eine Verneigung! \n\n\n\nEinlass 19 Uhr
URL:https://hinterhalt.de/veranstaltung/dieter-hildebrandt/
LOCATION:Kulturbühne Hinterhalt\, Leitenstraße 40\, Geretsried\, 82538\, Deutschland
CATEGORIES:Konzert
END:VEVENT
END:VCALENDAR