BEGIN:VCALENDAR
VERSION:2.0
PRODID:-//Kulturbühne Hinterhalt - ECPv6.15.20//NONSGML v1.0//EN
CALSCALE:GREGORIAN
METHOD:PUBLISH
X-WR-CALNAME:Kulturbühne Hinterhalt
X-ORIGINAL-URL:https://hinterhalt.de
X-WR-CALDESC:Veranstaltungen für Kulturbühne Hinterhalt
REFRESH-INTERVAL;VALUE=DURATION:PT1H
X-Robots-Tag:noindex
X-PUBLISHED-TTL:PT1H
BEGIN:VTIMEZONE
TZID:Europe/Berlin
BEGIN:DAYLIGHT
TZOFFSETFROM:+0100
TZOFFSETTO:+0200
TZNAME:CEST
DTSTART:20240331T010000
END:DAYLIGHT
BEGIN:STANDARD
TZOFFSETFROM:+0200
TZOFFSETTO:+0100
TZNAME:CET
DTSTART:20241027T010000
END:STANDARD
BEGIN:DAYLIGHT
TZOFFSETFROM:+0100
TZOFFSETTO:+0200
TZNAME:CEST
DTSTART:20250330T010000
END:DAYLIGHT
BEGIN:STANDARD
TZOFFSETFROM:+0200
TZOFFSETTO:+0100
TZNAME:CET
DTSTART:20251026T010000
END:STANDARD
BEGIN:DAYLIGHT
TZOFFSETFROM:+0100
TZOFFSETTO:+0200
TZNAME:CEST
DTSTART:20260329T010000
END:DAYLIGHT
BEGIN:STANDARD
TZOFFSETFROM:+0200
TZOFFSETTO:+0100
TZNAME:CET
DTSTART:20261025T010000
END:STANDARD
END:VTIMEZONE
BEGIN:VEVENT
DTSTART;TZID=Europe/Berlin:20251207T150000
DTEND;TZID=Europe/Berlin:20251207T160000
DTSTAMP:20260424T140630
CREATED:20251024T200332Z
LAST-MODIFIED:20251118T170748Z
UID:10891-1765119600-1765123200@hinterhalt.de
SUMMARY:Pinsel\, Pauke\, Poesie - Doctor Döblingers geschmackvolles Kasperltheater
DESCRIPTION:Kasperl und der Zwackilutschku oder Der Herr der tausend Puddings\n\n\n\nDauer ca. 45 Minuten für Kinder ab 4 Jahrevon Josef Parzefall und Richard OehmannEinmal im Jahr feiert Kasperls Heimatstadt Hinterwieselharing den Zwackilutschku-Tag. Dann wird in jedem Haus ein Pudding gekocht\, denn nach einer alten Sage verwandelt sich einer davon in den allwissenden Zwackilutschku. Doch dieses Jahr verschwindet ausgerechnet der Pudding\, den die liebe Großmutter gekocht hat. Wurde er vom verfressenen Kasperl vertilgt\, hat der böse Zauberer Gottlieb Wurst seine Hand im Spiel oder hat sich der Pudding gar in den Zwacklilutschku verwandelt und ist entwischt? \n\n\n\nhttps://www.dr-doeblingers-kasperltheater.de
URL:https://hinterhalt.de/veranstaltung/doctor-doeblingers-geschmackvolles-kasperltheater/
LOCATION:Kulturbühne Hinterhalt\, Leitenstraße 40\, Geretsried\, 82538\, Deutschland
CATEGORIES:Konzert
ATTACH;FMTTYPE=image/jpeg:https://hinterhalt.de/wp-content/uploads/2025/10/PUPPEN-3.jpg
END:VEVENT
END:VCALENDAR