BEGIN:VCALENDAR
VERSION:2.0
PRODID:-//Kulturbühne Hinterhalt - ECPv6.15.20//NONSGML v1.0//EN
CALSCALE:GREGORIAN
METHOD:PUBLISH
X-WR-CALNAME:Kulturbühne Hinterhalt
X-ORIGINAL-URL:https://hinterhalt.de
X-WR-CALDESC:Veranstaltungen für Kulturbühne Hinterhalt
REFRESH-INTERVAL;VALUE=DURATION:PT1H
X-Robots-Tag:noindex
X-PUBLISHED-TTL:PT1H
BEGIN:VTIMEZONE
TZID:Europe/Berlin
BEGIN:DAYLIGHT
TZOFFSETFROM:+0100
TZOFFSETTO:+0200
TZNAME:CEST
DTSTART:20230326T010000
END:DAYLIGHT
BEGIN:STANDARD
TZOFFSETFROM:+0200
TZOFFSETTO:+0100
TZNAME:CET
DTSTART:20231029T010000
END:STANDARD
BEGIN:DAYLIGHT
TZOFFSETFROM:+0100
TZOFFSETTO:+0200
TZNAME:CEST
DTSTART:20240331T010000
END:DAYLIGHT
BEGIN:STANDARD
TZOFFSETFROM:+0200
TZOFFSETTO:+0100
TZNAME:CET
DTSTART:20241027T010000
END:STANDARD
BEGIN:DAYLIGHT
TZOFFSETFROM:+0100
TZOFFSETTO:+0200
TZNAME:CEST
DTSTART:20250330T010000
END:DAYLIGHT
BEGIN:STANDARD
TZOFFSETFROM:+0200
TZOFFSETTO:+0100
TZNAME:CET
DTSTART:20251026T010000
END:STANDARD
END:VTIMEZONE
BEGIN:VEVENT
DTSTART;TZID=Europe/Berlin:20240726T200000
DTEND;TZID=Europe/Berlin:20240726T223000
DTSTAMP:20260424T203603
CREATED:20240302T170830Z
LAST-MODIFIED:20240725T123054Z
UID:7510-1722024000-1722033000@hinterhalt.de
SUMMARY:Verschoben auf 18.10.24 "Draußen-Konzerte“ -Kiesbankband
DESCRIPTION:StilSkuvie. Was ist denn das? Skurril vermischt. Das Leben hält so viele Stimmungen parat\, da brauchst verschiedene Stile – funkig-jazziger Hosenträgerpunkrock mit bajuwarischem Liedermachereinschlag. Skuvie eben. Wir sind die derzeit angesagteste Skuvieband 🙂 \n\n\n\nKiesbankbandprofilAuf einer Kiesbank ist alles im Fluss. Die Flut gestaltet. Die Bank. Mal Fels\, mal Sand\, mal Kies. Mal Holz. Durcheinander. Ordnung durch Chaos. Vielfalt. Das Leben auf\, zwischen und unter dem Geröll inspiriert. Die Kiesbankband. Und prägt den Sound. Skuvie – Skurril-Vermischtes. Mit und ohne Strom. Fette Beats. Griffige Gitarre. Saxotrompete. Mucke für Himmel\, Arsch & Hirn. Texte kantig und klar. Alles echt. Schnörkellos. Natur pur.Öko? Logisch! \n\n\n\nSelbstauskunftGestatten\, wir sind die Kiesbanker. Wir haben Feuer im Gesäß\, Furchen im Gesicht\, Flausen im Kopf und das Herz mittendrin statt nur dabei. Bei unseren Gigs heften wir uns dem Leben an die Fersen und verschieben zusammen mit unserem Publikum den Weltuntergang auf später. Das Wesentliche bringen wir mit unserer Mucke rüber\, hört bitte rein (Soundcloud\, YouTube). So hören wir uns auch live an\, Ehrenwort. \n\n\n\nSelbstauskunft für AltbaiernWea\, wia\, wos san de Kiesbanker? Mia ham Feier im Arsch\, Furchen im Gsicht\, Flausen im Kopf und as Herz mittendrin statt nur dabei. Bei unsre Gigs heftn mia uns dem Leben an de Fersn und vaschiam mit unsam Publikum den Woiduntagang auf schbäda. Des Wesentliche bringan mia mit unsra Mucke rüber. Heads bitte nei (Soundcloud\, YouTube). So hean mia uns a live o\, vasprocha. \n\n\n\nUnser Motto für die zwanziger JahreHimmel\, Arsch & Hirn – Wasser\, Stein & Licht \n\n\n\nwww.kiesbankband.de \n\n\n\n\n\n\n\nBesetzung• Mazze\, Matthias Opielka (Lead-Gitarre)• Thales\, Christian Thalhammer (Sax\, Bass\, Gitarre)• Stern\, Thomas Rieger (Trompete\, Keyboard)• Simon Stöhr (Schlagzeug\, Percussion)• Gue\, Günter Polacek (Gesang\, Gitarre)• Gregor Wolf (Tontechnik\, Sound\, Licht)
URL:https://hinterhalt.de/veranstaltung/draussen-konzerte-kiesbankband/
LOCATION:Dorfladen Gelting e.G.\, Wolfratshauser Strasse 2\, Geretsried\, 82538\, Deutschland
CATEGORIES:Konzert
ATTACH;FMTTYPE=image/png:https://hinterhalt.de/wp-content/uploads/2022/11/Kiesbankband-Logo.png
END:VEVENT
END:VCALENDAR