BEGIN:VCALENDAR
VERSION:2.0
PRODID:-//Kulturbühne Hinterhalt - ECPv6.15.20//NONSGML v1.0//EN
CALSCALE:GREGORIAN
METHOD:PUBLISH
X-WR-CALNAME:Kulturbühne Hinterhalt
X-ORIGINAL-URL:https://hinterhalt.de
X-WR-CALDESC:Veranstaltungen für Kulturbühne Hinterhalt
REFRESH-INTERVAL;VALUE=DURATION:PT1H
X-Robots-Tag:noindex
X-PUBLISHED-TTL:PT1H
BEGIN:VTIMEZONE
TZID:Europe/Berlin
BEGIN:DAYLIGHT
TZOFFSETFROM:+0100
TZOFFSETTO:+0200
TZNAME:CEST
DTSTART:20240331T010000
END:DAYLIGHT
BEGIN:STANDARD
TZOFFSETFROM:+0200
TZOFFSETTO:+0100
TZNAME:CET
DTSTART:20241027T010000
END:STANDARD
BEGIN:DAYLIGHT
TZOFFSETFROM:+0100
TZOFFSETTO:+0200
TZNAME:CEST
DTSTART:20250330T010000
END:DAYLIGHT
BEGIN:STANDARD
TZOFFSETFROM:+0200
TZOFFSETTO:+0100
TZNAME:CET
DTSTART:20251026T010000
END:STANDARD
BEGIN:DAYLIGHT
TZOFFSETFROM:+0100
TZOFFSETTO:+0200
TZNAME:CEST
DTSTART:20260329T010000
END:DAYLIGHT
BEGIN:STANDARD
TZOFFSETFROM:+0200
TZOFFSETTO:+0100
TZNAME:CET
DTSTART:20261025T010000
END:STANDARD
END:VTIMEZONE
BEGIN:VEVENT
DTSTART;TZID=Europe/Berlin:20251127T200000
DTEND;TZID=Europe/Berlin:20251127T230000
DTSTAMP:20260424T140420
CREATED:20250312T091757Z
LAST-MODIFIED:20251126T144842Z
UID:9695-1764273600-1764284400@hinterhalt.de
SUMMARY:VERSCHOBEN! Poesie – Dreieinhalb Wochen im Münchner Frühling
DESCRIPTION:Muss aus organisatorischen Gründen leider in den Frühling verschoben werden – „Pinsel\, Pauke\, Poesie – Überflieger“ – „Dreieinhalb Wochen im Münchner Frühling“ kann leider nicht wie geplant stattfinden. Eine Veranstaltung\, auf die wir uns besonders gefreut hatten. Aber es geht nicht anders. Der neue Termin wird sehr zeitnah bekannt gegeben. Gekaufte Karten behalten ihre Gültigkeit. \n\n\n\nEine Reise in die Zeit der Räterepublik als dokumentarisches Theaterstück mit Live-Musik\, Bild-und Videoprojektionen \n\n\n\nAm 7. April 1919 wird die „Räterepublik Baiern“ in München ausgerufen!Wie erleben die Münchner Bürgerinnen und Bürger den Alltag in der neuen Räterepublik: Herrschen fortan Chaos und Gewalt?  \n\n\n\nIst die Münchner Frau nun „Gemeinschaftseigentum“ –wie in Zeitungsartikeln außerhalb Münchens behauptet wird? Was bedeutet die Existenz eines Revolutionstribunals? Wie agieren die Exponenten der verschiedenen politischen Strömungen? Auf welche Weise versuchen sie die Stimmung in der Bevölkerung zu beeinflussen? Und zu guter Letzt: welches Lied sangen und pfiffen die Menschen in den Cafés und auf den Straßen Münchens? \n\n\n\nIn Dreieinhalb Wochen im Münchner Frühling zeichnet das Kollektiv Herzfeld die spannenden historischen Ereignisse im April 1919 ausschließlich auf Basis von Originaldokumenten\, Bildern und Videos dieser Zeit nach. Wir lassen dabei die Zeitzeugen Thomas Mann\, Victor Klemperer\, Josef Hofmiller\, Erzbischof Faulhaber\, Gustav Landauer u. v. m. „zu Wort kommen“ und versuchen durch mannigfache Perspektivwechsel die Distanz von über hundert Jahren auf ein Minimum zu reduzieren. \n\n\n\n \n\n\n\nWeitere Infos auf www.Muenchner-Fruehling.de \n\n\n\n \n\n\n\n \n\n\n\n»Die Aufführung ist ein Kunstwerk« Dachauer Nachrichten \n\n\n\n \n\n\n\n»Eine packende und mitreißende Zeitreise\, die die Vergangenheit vor den Augen und Ohren des Publikums lebendig werden lässt. Interessanter und sprechender kann Geschichte nicht sein.« Heimat-Info.de \n\n\n\n \n\n\n\n»Großes Theater!«Muh\, Kulturmagazin für bayerische Aspekte \n\n\n\n \n\n\n\n»Eine bemerkenswerte\, vibrierend inszenierte Collage von einem echten politischen Krimi zwischen Gesellschaftsidealen und Gewaltexzessen\, dem ausgerechnet der große Pazifist Gustav Landauer zum Opfer fiel: Traum und Tragik eines Monats in München.«Weilheimer Tagblatt \n\n\n\nEine Textmontage von Reinhard Pabst & Florian WeißSprecher: Renate Groß\, Richard OehmannMusik: Claudia Kaiser\, Martin LicklederVideo/Projektion: Martin PflanzerRegie: Reinhard Pabst \n\n\n\nEine Kollektiv-Herzfeld-Produktion \n\n\n\nEinlass 19:00
URL:https://hinterhalt.de/veranstaltung/dreieinhalb-wochen-im-muenchner-fruehling/
LOCATION:Kulturbühne Hinterhalt\, Leitenstraße 40\, Geretsried\, 82538\, Deutschland
CATEGORIES:Konzert
ATTACH;FMTTYPE=image/jpeg:https://hinterhalt.de/wp-content/uploads/2025/03/Dreieinhalb_Hinterhalt_20251127.jpg
END:VEVENT
END:VCALENDAR