BEGIN:VCALENDAR
VERSION:2.0
PRODID:-//Kulturbühne Hinterhalt - ECPv6.15.20//NONSGML v1.0//EN
CALSCALE:GREGORIAN
METHOD:PUBLISH
X-WR-CALNAME:Kulturbühne Hinterhalt
X-ORIGINAL-URL:https://hinterhalt.de
X-WR-CALDESC:Veranstaltungen für Kulturbühne Hinterhalt
REFRESH-INTERVAL;VALUE=DURATION:PT1H
X-Robots-Tag:noindex
X-PUBLISHED-TTL:PT1H
BEGIN:VTIMEZONE
TZID:Europe/Berlin
BEGIN:DAYLIGHT
TZOFFSETFROM:+0100
TZOFFSETTO:+0200
TZNAME:CEST
DTSTART:20250330T010000
END:DAYLIGHT
BEGIN:STANDARD
TZOFFSETFROM:+0200
TZOFFSETTO:+0100
TZNAME:CET
DTSTART:20251026T010000
END:STANDARD
BEGIN:DAYLIGHT
TZOFFSETFROM:+0100
TZOFFSETTO:+0200
TZNAME:CEST
DTSTART:20260329T010000
END:DAYLIGHT
BEGIN:STANDARD
TZOFFSETFROM:+0200
TZOFFSETTO:+0100
TZNAME:CET
DTSTART:20261025T010000
END:STANDARD
BEGIN:DAYLIGHT
TZOFFSETFROM:+0100
TZOFFSETTO:+0200
TZNAME:CEST
DTSTART:20270328T010000
END:DAYLIGHT
BEGIN:STANDARD
TZOFFSETFROM:+0200
TZOFFSETTO:+0100
TZNAME:CET
DTSTART:20271031T010000
END:STANDARD
END:VTIMEZONE
BEGIN:VEVENT
DTSTART;TZID=Europe/Berlin:20260123T200000
DTEND;TZID=Europe/Berlin:20260123T230000
DTSTAMP:20260424T122636
CREATED:20250624T072336Z
LAST-MODIFIED:20251005T071302Z
UID:10265-1769198400-1769209200@hinterhalt.de
SUMMARY:Duende
DESCRIPTION:Harfe-Schlagzeug-Duo\n\n\n\n„Eine ungewöhnliche Kombination die ungewöhnlich gut funktioniert.“( C h i e m g a u 2 4 ) \n\n\n\nDuende ist ein grenzensprengendes Duo\, das mit der seltenen Kombination aus Harfe\, Schlagzeug und Elektronik neue Klangräume erschließt.Zwischen kammermusikalischer Raffinesse und rhythmischer Energie entstehen Klangwelten voller Kontraste – lyrisch und perkussiv\, spontan und zugleich fein durchdacht.Mit Einflüssen aus Jazz\, klassischer Musik\, türkischer Volksmusik und improvisierter Musik entwickeln sie eine eigene\, unverwechselbare Klangsprache. Bisherige Konzerte führten sie nach Norwegen\, Schweiz und Deutschland. \n\n\n\nInstagram\n\nYouTube\n\nYouTube\n\n\n\nIhr Debüt-Album veröffentlichen sie im Oktober 2025. \n\n\n\n \n\n\n\nEinlass 19:00
URL:https://hinterhalt.de/veranstaltung/duende/
LOCATION:Kulturbühne Hinterhalt\, Leitenstraße 40\, Geretsried\, 82538\, Deutschland
CATEGORIES:Konzert
ATTACH;FMTTYPE=image/jpeg:https://hinterhalt.de/wp-content/uploads/2025/06/Screenshot-2025-06-27-141442.jpg
END:VEVENT
END:VCALENDAR