BEGIN:VCALENDAR
VERSION:2.0
PRODID:-//Kulturbühne Hinterhalt - ECPv6.15.20//NONSGML v1.0//EN
CALSCALE:GREGORIAN
METHOD:PUBLISH
X-WR-CALNAME:Kulturbühne Hinterhalt
X-ORIGINAL-URL:https://hinterhalt.de
X-WR-CALDESC:Veranstaltungen für Kulturbühne Hinterhalt
REFRESH-INTERVAL;VALUE=DURATION:PT1H
X-Robots-Tag:noindex
X-PUBLISHED-TTL:PT1H
BEGIN:VTIMEZONE
TZID:Europe/Berlin
BEGIN:DAYLIGHT
TZOFFSETFROM:+0100
TZOFFSETTO:+0200
TZNAME:CEST
DTSTART:20230326T010000
END:DAYLIGHT
BEGIN:STANDARD
TZOFFSETFROM:+0200
TZOFFSETTO:+0100
TZNAME:CET
DTSTART:20231029T010000
END:STANDARD
BEGIN:DAYLIGHT
TZOFFSETFROM:+0100
TZOFFSETTO:+0200
TZNAME:CEST
DTSTART:20240331T010000
END:DAYLIGHT
BEGIN:STANDARD
TZOFFSETFROM:+0200
TZOFFSETTO:+0100
TZNAME:CET
DTSTART:20241027T010000
END:STANDARD
BEGIN:DAYLIGHT
TZOFFSETFROM:+0100
TZOFFSETTO:+0200
TZNAME:CEST
DTSTART:20250330T010000
END:DAYLIGHT
BEGIN:STANDARD
TZOFFSETFROM:+0200
TZOFFSETTO:+0100
TZNAME:CET
DTSTART:20251026T010000
END:STANDARD
END:VTIMEZONE
BEGIN:VEVENT
DTSTART;TZID=Europe/Berlin:20240128T200000
DTEND;TZID=Europe/Berlin:20240128T223000
DTSTAMP:20260424T171542
CREATED:20240103T171339Z
LAST-MODIFIED:20240127T100931Z
UID:7137-1706472000-1706481000@hinterhalt.de
SUMMARY:Ecco Meinecke - Jahresrückblick
DESCRIPTION:Voila!\n\n\n\nAm Sonntag\, 28.Januar 2023 zeigt der Münchner Kabarettist Ecco Meineke in der Kulturbühne Hinterhalt wieder seinen legendären „Jahresrückblick“ und zwar bereits den von 2024!Wie ist das möglich? \n\n\n\nNun ist es ja so:Zum Ende jedes Jahres treten sich TV-Moderatoren\, Comedians und KabarettistInnen geradezu auf die Füsse\, um auf das vergangene Jahr zurückzublicken. Noch einmal lässt sich das im Laufe von 12 Monaten gesammelte Pointen- und Bildermaterial nostalgisch wieder zu verramschen. \n\n\n\nEcco Meineke\, lange Jahre Ensemblemitglied der Münchner „Lach- und Schieß“\, inzwischen auch mit vier Soloprogrammen („und wir kamen aus dem wasser“\, „Fake!“ und „Liberté! Égalité! Humbatäterä-Tätä!“\, « Das Thema ist gegessen ») in ganz Deutschland unterwegs\,- dreht den Spieß um und gibt sich das ur-kabarettistische Experiment der Super-Aktualität.Seit 9 Jahren nun. \n\n\n\nUnd es sollte mit dem Teufel zugehen\, wenn der Soul- \, Folk- und Jazz-Musiker („Ecco DiLorenzo and his Innersoul\, Jazz Quartett\, Filmmusik „Schuh des Manitu“) – nicht auch den einen oder anderen Song mitbringt! \n\n\n\nEin ganzer Abend über die ersten Wochen des Jahres 2024! \n\n\n\nINSTAGRAM: dertageseccomehr infos www.eccoland.de \n\n\n\n\n\nEinlaß 19 Uhr
URL:https://hinterhalt.de/veranstaltung/ecco-meinecke-jahresrueckblick-2/
LOCATION:Hinterhalt I\, Leitenstraße 40\, Geretsried\, 82538
CATEGORIES:Konzert
ATTACH;FMTTYPE=image/jpeg:https://hinterhalt.de/wp-content/uploads/2020/05/EccoMeineke.jpg
END:VEVENT
END:VCALENDAR