BEGIN:VCALENDAR
VERSION:2.0
PRODID:-//Kulturbühne Hinterhalt - ECPv6.15.20//NONSGML v1.0//EN
CALSCALE:GREGORIAN
METHOD:PUBLISH
X-WR-CALNAME:Kulturbühne Hinterhalt
X-ORIGINAL-URL:https://hinterhalt.de
X-WR-CALDESC:Veranstaltungen für Kulturbühne Hinterhalt
REFRESH-INTERVAL;VALUE=DURATION:PT1H
X-Robots-Tag:noindex
X-PUBLISHED-TTL:PT1H
BEGIN:VTIMEZONE
TZID:Europe/Berlin
BEGIN:DAYLIGHT
TZOFFSETFROM:+0100
TZOFFSETTO:+0200
TZNAME:CEST
DTSTART:20250330T010000
END:DAYLIGHT
BEGIN:STANDARD
TZOFFSETFROM:+0200
TZOFFSETTO:+0100
TZNAME:CET
DTSTART:20251026T010000
END:STANDARD
BEGIN:DAYLIGHT
TZOFFSETFROM:+0100
TZOFFSETTO:+0200
TZNAME:CEST
DTSTART:20260329T010000
END:DAYLIGHT
BEGIN:STANDARD
TZOFFSETFROM:+0200
TZOFFSETTO:+0100
TZNAME:CET
DTSTART:20261025T010000
END:STANDARD
BEGIN:DAYLIGHT
TZOFFSETFROM:+0100
TZOFFSETTO:+0200
TZNAME:CEST
DTSTART:20270328T010000
END:DAYLIGHT
BEGIN:STANDARD
TZOFFSETFROM:+0200
TZOFFSETTO:+0100
TZNAME:CET
DTSTART:20271031T010000
END:STANDARD
END:VTIMEZONE
BEGIN:VEVENT
DTSTART;TZID=Europe/Berlin:20261023T200000
DTEND;TZID=Europe/Berlin:20261023T223000
DTSTAMP:20260424T121000
CREATED:20251105T101144Z
LAST-MODIFIED:20260418T155844Z
UID:11055-1792785600-1792794600@hinterhalt.de
SUMMARY:Faltsch Wagoni - Die RhythmusPoeten
DESCRIPTION:Faltsch Wagoni mit ihrem Programm \n\n\n\nDie letzten Ironesen\n\n\n\nFaltsch Wagoni auf Zeit-Geisterbahn-Fahrt mit wunderbar wortwitzigen Songs\, Gedichten und Dialogen. Thomas und Silvana Prosperi sind Zweifler – keine Verzweifler. Sie blicken auf das „Land des Schwächelns“ mit selbstironischer Skepsis und heiterer Zuversicht. Sie glauben daran\, dass es möglich ist\, eine kritische Weltsicht zu haben\, ohne in dumpfe\, hasserfüllte Besserwisserei zu verfallen. Ihr Leitmotiv: Immer schön rebellisch bleiben – aber mit Stil. \n\n\n\nSüddeutsche Zeitung: Zeitlos gut.Die einzigartigen Faltsch Wagoni und ihr neues Programm „die letzten Ironesen“. Bei Faltsch Wagoni kann man wieder entdecken\, dass sich Geduld und Aufmerksamkeit lohnen\, weil man dafür Nachhaltigeres als ein paar schnelle Gags mitbekommt. \n\n\n\nMünchner Feuilleton: Brillantes Programm. \n\n\n\nAZ München: Ironie und intelligenter Witz sind nicht das\, was die aktuellen Debatten prägt\, weshalb die sprachlich wie musikalisch schillernden Chansons und die pointensatten Streitgespräche so wertvoll sind. \n\n\n\n\n\n\n\nEinlass ab 19 Uhr
URL:https://hinterhalt.de/veranstaltung/faltsch-wagoni/
LOCATION:Kulturbühne Hinterhalt\, Leitenstraße 40\, Geretsried\, 82538\, Deutschland
CATEGORIES:Konzert
ATTACH;FMTTYPE=image/jpeg:https://hinterhalt.de/wp-content/uploads/2025/11/Faltsch-Wagoni-9.10.2025-1.jpg
END:VEVENT
END:VCALENDAR