BEGIN:VCALENDAR
VERSION:2.0
PRODID:-//Kulturbühne Hinterhalt - ECPv6.15.20//NONSGML v1.0//EN
CALSCALE:GREGORIAN
METHOD:PUBLISH
X-WR-CALNAME:Kulturbühne Hinterhalt
X-ORIGINAL-URL:https://hinterhalt.de
X-WR-CALDESC:Veranstaltungen für Kulturbühne Hinterhalt
REFRESH-INTERVAL;VALUE=DURATION:PT1H
X-Robots-Tag:noindex
X-PUBLISHED-TTL:PT1H
BEGIN:VTIMEZONE
TZID:Europe/Berlin
BEGIN:DAYLIGHT
TZOFFSETFROM:+0100
TZOFFSETTO:+0200
TZNAME:CEST
DTSTART:20240331T010000
END:DAYLIGHT
BEGIN:STANDARD
TZOFFSETFROM:+0200
TZOFFSETTO:+0100
TZNAME:CET
DTSTART:20241027T010000
END:STANDARD
BEGIN:DAYLIGHT
TZOFFSETFROM:+0100
TZOFFSETTO:+0200
TZNAME:CEST
DTSTART:20250330T010000
END:DAYLIGHT
BEGIN:STANDARD
TZOFFSETFROM:+0200
TZOFFSETTO:+0100
TZNAME:CET
DTSTART:20251026T010000
END:STANDARD
BEGIN:DAYLIGHT
TZOFFSETFROM:+0100
TZOFFSETTO:+0200
TZNAME:CEST
DTSTART:20260329T010000
END:DAYLIGHT
BEGIN:STANDARD
TZOFFSETFROM:+0200
TZOFFSETTO:+0100
TZNAME:CET
DTSTART:20261025T010000
END:STANDARD
END:VTIMEZONE
BEGIN:VEVENT
DTSTART;TZID=Europe/Berlin:20250730T200000
DTEND;TZID=Europe/Berlin:20250730T230000
DTSTAMP:20260425T042951
CREATED:20250728T120512Z
LAST-MODIFIED:20250728T120725Z
UID:10275-1753905600-1753916400@hinterhalt.de
SUMMARY:Fernanda Santanna
DESCRIPTION:She is a Brazilian singer and songwriter who stands out in the new music scene\, impressing and captivating audiences with her charisma\, unique interpretations and strong vocal expression. \n\n\n\nHer debut album\, entitled „Brasilidade“\, featured the participation of singer Samuel Rosa (lead singer of the band Skank) and contributions from prominent musicians such as Nema Antunes\, Dudu Viana\, Gabriel Grossi and Bebê Kramer. She received an invitation from the duo Yami\, composed of Italian musician Federico Puppi and renowned percussionist Marco Lobo from Bahia. Together\, they recorded the single „Mamãe Oxum“\, which also featured the participation of Cameroonian singer Njame Sitson. She performed concerts across Europe\, enchanting audiences in Germany\, the Netherlands\, France\, Switzerland and Italy (2019\, 2022 and 2024). Her presence on digital music platforms includes releases and collaborations with various artists\, reaching listeners worldwide in more than 70 countries.Fernanda invites you to navigate the waters of Brazilian music\, exploring multiple styles that range from samba and bossa nova to jazz. With undisputed mastery of her country’s musical genres\, the singer presents a repertoire that mixes novelties and tradition\, bringing the freshness of her original songs and reinterpretations of renowned composers such as Tom Jobim\, Vinícius de Moraes\, Baden Powell\, Milton Nascimento\, Caetano Veloso\, Gilberto Gil\, among others. \n\n\n\nFernanda Santanna – VocWill Magalhães – GitMatthias Bublath – KeysBerval Moraes – BassChristian Lettner – Drums \n\n\n\nFernanda Santanna – You Tube \n\n\n\nFernanda Santanna canta Elis – Shorts \n\n\n\nFernanda Santanna canta Elis – Videos \n\n\n\nhttps://linktr.ee/fernandasantanna \n\n\n\nhttps://www.instagram.com/fernanda.santanna \n\n\n\nEinlass 19:00
URL:https://hinterhalt.de/veranstaltung/fernanda-santanna-2/
LOCATION:Kulturbühne Hinterhalt\, Leitenstraße 40\, Geretsried\, 82538\, Deutschland
CATEGORIES:Konzert
ATTACH;FMTTYPE=image/jpeg:https://hinterhalt.de/wp-content/uploads/2025/05/Fernanda-Santanna-Credito-Jeff-Porto.jpg
END:VEVENT
END:VCALENDAR