BEGIN:VCALENDAR
VERSION:2.0
PRODID:-//Kulturbühne Hinterhalt - ECPv6.15.20//NONSGML v1.0//EN
CALSCALE:GREGORIAN
METHOD:PUBLISH
X-WR-CALNAME:Kulturbühne Hinterhalt
X-ORIGINAL-URL:https://hinterhalt.de
X-WR-CALDESC:Veranstaltungen für Kulturbühne Hinterhalt
REFRESH-INTERVAL;VALUE=DURATION:PT1H
X-Robots-Tag:noindex
X-PUBLISHED-TTL:PT1H
BEGIN:VTIMEZONE
TZID:Europe/Berlin
BEGIN:DAYLIGHT
TZOFFSETFROM:+0100
TZOFFSETTO:+0200
TZNAME:CEST
DTSTART:20250330T010000
END:DAYLIGHT
BEGIN:STANDARD
TZOFFSETFROM:+0200
TZOFFSETTO:+0100
TZNAME:CET
DTSTART:20251026T010000
END:STANDARD
BEGIN:DAYLIGHT
TZOFFSETFROM:+0100
TZOFFSETTO:+0200
TZNAME:CEST
DTSTART:20260329T010000
END:DAYLIGHT
BEGIN:STANDARD
TZOFFSETFROM:+0200
TZOFFSETTO:+0100
TZNAME:CET
DTSTART:20261025T010000
END:STANDARD
BEGIN:DAYLIGHT
TZOFFSETFROM:+0100
TZOFFSETTO:+0200
TZNAME:CEST
DTSTART:20270328T010000
END:DAYLIGHT
BEGIN:STANDARD
TZOFFSETFROM:+0200
TZOFFSETTO:+0100
TZNAME:CET
DTSTART:20271031T010000
END:STANDARD
END:VTIMEZONE
BEGIN:VEVENT
DTSTART;TZID=Europe/Berlin:20260830T200000
DTEND;TZID=Europe/Berlin:20260830T220000
DTSTAMP:20260424T085647
CREATED:20260423T112623Z
LAST-MODIFIED:20260423T112627Z
UID:12661-1788120000-1788127200@hinterhalt.de
SUMMARY:Fernanda Santanna singt Brazilian Divas
DESCRIPTION:Fernanda Santanna präsentiert „Brazilian Divas“\, ein besonderes Konzert\, das die Kraft und Vielfalt bedeutender weiblicher Stimmen der brasilianischen Musik feiert. \n\n\n\nIn diesem Programm lädt die Sängerin das Publikum zu einer musikalischen Reise durch das Repertoire von Künstlerinnen ein\, die Generationen geprägt und die Identität der brasilianischen Musik mitgestaltet haben. Zu hören sind Lieder\, die durch Namen wie Elis Regina\, Gal Costa\, Rita Lee\, Clara Nunes\, Maria Bethânia\, Cássia Eller und Marisa Monte berühmt wurden\, sowie weitere prägende Referenzen. \n\n\n\nMehr als ein Tribut ist „Brazilian Divas“ eine Hommage an die weibliche Präsenz in der Musik — an Künstlerinnen\, die gesungen\, geschaffen und neue Wege eröffnet haben. Mit ausdrucksstarken und persönlichen Interpretationen verleiht Fernanda Santanna dem Repertoire eine eigene künstlerische Handschrift und schafft ein lebendiges Konzerterlebnis. \n\n\n\nFür diesen besonderen Abend wird sie von einem internationalen Ensemble begleitet: Will Magalhães (musikalische Leitung und Gitarre)\, Berval Moraes (Bass)\, Christian Lettner (Schlagzeug) und Matthias Bublath (Keyboard).
URL:https://hinterhalt.de/veranstaltung/fernanda-santanna-singt-brazilian-divas/
LOCATION:Kulturbühne Hinterhalt\, Leitenstraße 40\, Geretsried\, 82538\, Deutschland
CATEGORIES:Konzert
ATTACH;FMTTYPE=image/png:https://hinterhalt.de/wp-content/uploads/2026/04/Fernanda-Santanna.png
END:VEVENT
END:VCALENDAR