BEGIN:VCALENDAR
VERSION:2.0
PRODID:-//Kulturbühne Hinterhalt - ECPv6.15.20//NONSGML v1.0//EN
CALSCALE:GREGORIAN
METHOD:PUBLISH
X-WR-CALNAME:Kulturbühne Hinterhalt
X-ORIGINAL-URL:https://hinterhalt.de
X-WR-CALDESC:Veranstaltungen für Kulturbühne Hinterhalt
REFRESH-INTERVAL;VALUE=DURATION:PT1H
X-Robots-Tag:noindex
X-PUBLISHED-TTL:PT1H
BEGIN:VTIMEZONE
TZID:Europe/Berlin
BEGIN:DAYLIGHT
TZOFFSETFROM:+0100
TZOFFSETTO:+0200
TZNAME:CEST
DTSTART:20230326T010000
END:DAYLIGHT
BEGIN:STANDARD
TZOFFSETFROM:+0200
TZOFFSETTO:+0100
TZNAME:CET
DTSTART:20231029T010000
END:STANDARD
BEGIN:DAYLIGHT
TZOFFSETFROM:+0100
TZOFFSETTO:+0200
TZNAME:CEST
DTSTART:20240331T010000
END:DAYLIGHT
BEGIN:STANDARD
TZOFFSETFROM:+0200
TZOFFSETTO:+0100
TZNAME:CET
DTSTART:20241027T010000
END:STANDARD
BEGIN:DAYLIGHT
TZOFFSETFROM:+0100
TZOFFSETTO:+0200
TZNAME:CEST
DTSTART:20250330T010000
END:DAYLIGHT
BEGIN:STANDARD
TZOFFSETFROM:+0200
TZOFFSETTO:+0100
TZNAME:CET
DTSTART:20251026T010000
END:STANDARD
END:VTIMEZONE
BEGIN:VEVENT
DTSTART;TZID=Europe/Berlin:20240321T200000
DTEND;TZID=Europe/Berlin:20240321T220000
DTSTAMP:20260424T221605
CREATED:20240214T093443Z
LAST-MODIFIED:20240321T112350Z
UID:7409-1711051200-1711058400@hinterhalt.de
SUMMARY:Georg Unterholzner
DESCRIPTION:Neue bayerische Art und Weisen \n\n\n\nGitarre\, Waldhorn und Gesang. Passt das zusammen? \n\n\n\nGeorg Unterholzner (Liedermacher aus Ascholding) und Christian Panzer (Hornist bei den Nürnberger Symphonikern) beweisen\, dass dies sehr gut funktioniert. \n\n\n\n\n\n\n\nKennengelernt haben sich die beiden an der Musikhochschule München\, und seit dem musizieren sie auch miteinander. Als „Schorschi“ ist Georg Unterholzner mittlerweile fester Bestandteil der bayerischen Heimatsoundszene. Gemeinsam mit Christian Panzer präsentiert er nun ein ganz neues Programm – Neue bayerische Art und Weisen. Sie spielen Songs aus dem Repertoire des Liedermachers. Und interpretieren alpenländische Weisen auf ganz eigene Art\, wobei sich mit einzigartigem Klang Instrumente ergänzen\, die unterschiedlicher nicht sein könnten.
URL:https://hinterhalt.de/veranstaltung/georg-unterholzner/
LOCATION:Kulturbühne Hinterhalt\, Leitenstraße 40\, Geretsried\, 82538\, Deutschland
CATEGORIES:Konzert
ATTACH;FMTTYPE=image/png:https://hinterhalt.de/wp-content/uploads/2024/02/Georg-Unterholzner.png
END:VEVENT
END:VCALENDAR