BEGIN:VCALENDAR
VERSION:2.0
PRODID:-//Kulturbühne Hinterhalt - ECPv6.15.20//NONSGML v1.0//EN
CALSCALE:GREGORIAN
METHOD:PUBLISH
X-WR-CALNAME:Kulturbühne Hinterhalt
X-ORIGINAL-URL:https://hinterhalt.de
X-WR-CALDESC:Veranstaltungen für Kulturbühne Hinterhalt
REFRESH-INTERVAL;VALUE=DURATION:PT1H
X-Robots-Tag:noindex
X-PUBLISHED-TTL:PT1H
BEGIN:VTIMEZONE
TZID:Europe/Berlin
BEGIN:DAYLIGHT
TZOFFSETFROM:+0100
TZOFFSETTO:+0200
TZNAME:CEST
DTSTART:20200329T010000
END:DAYLIGHT
BEGIN:STANDARD
TZOFFSETFROM:+0200
TZOFFSETTO:+0100
TZNAME:CET
DTSTART:20201025T010000
END:STANDARD
BEGIN:DAYLIGHT
TZOFFSETFROM:+0100
TZOFFSETTO:+0200
TZNAME:CEST
DTSTART:20210328T010000
END:DAYLIGHT
BEGIN:STANDARD
TZOFFSETFROM:+0200
TZOFFSETTO:+0100
TZNAME:CET
DTSTART:20211031T010000
END:STANDARD
BEGIN:DAYLIGHT
TZOFFSETFROM:+0100
TZOFFSETTO:+0200
TZNAME:CEST
DTSTART:20220327T010000
END:DAYLIGHT
BEGIN:STANDARD
TZOFFSETFROM:+0200
TZOFFSETTO:+0100
TZNAME:CET
DTSTART:20221030T010000
END:STANDARD
END:VTIMEZONE
BEGIN:VEVENT
DTSTART;TZID=Europe/Berlin:20211124T193000
DTEND;TZID=Europe/Berlin:20211124T220000
DTSTAMP:20260424T191056
CREATED:20210711T131303Z
LAST-MODIFIED:20211117T220920Z
UID:3140-1637782200-1637791200@hinterhalt.de
SUMMARY:Geretsrieder Kulturtage PiPaPo - Filmabend - 30.Todestag von Freddie Mercury
DESCRIPTION:„Ich werde eine Legende sein! – Freddy Mercury und 30 Jahre Unsterblichkeit“ \n\n\n\nDer Abend ist ein Gedenken an eines der ersten Aids-Opfer (und eines der prominentesten)\, das am 24.11.1991 – also vor 30 Jahren – im Alter von nur 45 Jahren an einer Virus- Infektion gestorben ist. Farrokh Bulsara\, besser bekannt als Freddy Mercury\, starb tags darauf\, als er zuvor in einer Pressekonferenz seine schwere Erkrankung bekannt gemacht hatte.  \n\n\n\nEinführung durch Nicola Bardola (Autor des Bestsellers „Mercury in München – seine besten Jahre“; angefragt).  \n\n\n\nIm Anschluss der Film „Bohemian Rhapsody“.
URL:https://hinterhalt.de/veranstaltung/geretsrieder-kulturtage-pipapo-filmabend-30-todestag-von-freddie-mercury/
LOCATION:Kino Wolfratshausen\, Bahnhofstraße 10\, Wolfratshausen\, 82515\, Deutschland
ATTACH;FMTTYPE=image/jpeg:https://hinterhalt.de/wp-content/uploads/2021/11/PiPaPo_F-Merc_KinoWolfratshausen.jpg
END:VEVENT
END:VCALENDAR