BEGIN:VCALENDAR
VERSION:2.0
PRODID:-//Kulturbühne Hinterhalt - ECPv6.15.20//NONSGML v1.0//EN
CALSCALE:GREGORIAN
METHOD:PUBLISH
X-WR-CALNAME:Kulturbühne Hinterhalt
X-ORIGINAL-URL:https://hinterhalt.de
X-WR-CALDESC:Veranstaltungen für Kulturbühne Hinterhalt
REFRESH-INTERVAL;VALUE=DURATION:PT1H
X-Robots-Tag:noindex
X-PUBLISHED-TTL:PT1H
BEGIN:VTIMEZONE
TZID:Europe/Berlin
BEGIN:DAYLIGHT
TZOFFSETFROM:+0100
TZOFFSETTO:+0200
TZNAME:CEST
DTSTART:20200329T010000
END:DAYLIGHT
BEGIN:STANDARD
TZOFFSETFROM:+0200
TZOFFSETTO:+0100
TZNAME:CET
DTSTART:20201025T010000
END:STANDARD
BEGIN:DAYLIGHT
TZOFFSETFROM:+0100
TZOFFSETTO:+0200
TZNAME:CEST
DTSTART:20210328T010000
END:DAYLIGHT
BEGIN:STANDARD
TZOFFSETFROM:+0200
TZOFFSETTO:+0100
TZNAME:CET
DTSTART:20211031T010000
END:STANDARD
BEGIN:DAYLIGHT
TZOFFSETFROM:+0100
TZOFFSETTO:+0200
TZNAME:CEST
DTSTART:20220327T010000
END:DAYLIGHT
BEGIN:STANDARD
TZOFFSETFROM:+0200
TZOFFSETTO:+0100
TZNAME:CET
DTSTART:20221030T010000
END:STANDARD
END:VTIMEZONE
BEGIN:VEVENT
DTSTART;TZID=Europe/Berlin:20211117T200000
DTEND;TZID=Europe/Berlin:20211117T220000
DTSTAMP:20260425T053515
CREATED:20210616T193509Z
LAST-MODIFIED:20211105T152422Z
UID:3044-1637179200-1637186400@hinterhalt.de
SUMMARY:Magisches PiPaPo – Andreas Maier verzaubert
DESCRIPTION:Beginn 20 Uhr\, Einlass 19 Uhr \n\n\n\nAndreas Maier (aus Wolfratshausen) ist Zauberkünstler aus Leidenschaft. Mit moderner Zauberkunst\, verschmitztem Humor und feinem Gespür fasziniert er Zuschauer in Theatern\, bei Hochzeiten und Firmenevents oder auf Kreuzfahrten und Festivals. \n\n\n\n\n\n\n\nWas als Hobby mit dem klassischen Zauberkasten begann ist schließlich zur Berufung geworden. Seit fast 20 Jahren steht Andreas Maier auf der Bühne und beschäftigt sich mit der Kunst der Zauberei in all ihren Facetten. \n\n\n\nErleben Sie an diesem Abend Zauberkunst zum Lachen\, Staunen und Nachdenken. Mit Fingerfertigkeit\, Humor und Magie begleitet Sie Andreas Maier auf einem Abend voller faszinierender Momente. \n\n\n\nSie reisen durch die Zeit bis ans Ende der Realität und erleben was Phantasie alles bewirkt. \n\n\n\nWie bei allen Hinterhalt-Livestreams geht der virtuelle Hut herum. Alle Beteiligten (Ton\, Kamera\, Technik und Künstler) freuen sich über ein kräftiges Klappern der elektronischen Münzen! \n\n\n\nDas funktioniert ganz einfach per PayPal \n\n\n\nwww.paypal.me/kilev \n\n\n\nSpenden kann der geneigte Zuschauer gerne jederzeit per Paypal: \n\n\n\n\nPayPal \n\n\n\n\nAlternativ geht es auch ‚old school‘ per Überweisung auf das Konto des Kulturverein Isar-Loisach e.V. (KIL)IBAN: DE49 7016 9543 0002 7374 77 BIC: GENODEF1HHS \n\n\n\nAlternativ geht es auch ‚old school‘ per Überweisung auf das Konto des Kulturverein Isar-Loisach e.V. (KIL)IBAN: DE49 7016 9543 0002 7374 77 BIC: GENODEF1HHS
URL:https://hinterhalt.de/veranstaltung/geretsrieder-kulturtage-pipapo/
ATTACH;FMTTYPE=image/jpeg:https://hinterhalt.de/wp-content/uploads/2021/06/PiPaPo.jpg
END:VEVENT
END:VCALENDAR