BEGIN:VCALENDAR
VERSION:2.0
PRODID:-//Kulturbühne Hinterhalt - ECPv6.15.20//NONSGML v1.0//EN
CALSCALE:GREGORIAN
METHOD:PUBLISH
X-WR-CALNAME:Kulturbühne Hinterhalt
X-ORIGINAL-URL:https://hinterhalt.de
X-WR-CALDESC:Veranstaltungen für Kulturbühne Hinterhalt
REFRESH-INTERVAL;VALUE=DURATION:PT1H
X-Robots-Tag:noindex
X-PUBLISHED-TTL:PT1H
BEGIN:VTIMEZONE
TZID:Europe/Berlin
BEGIN:DAYLIGHT
TZOFFSETFROM:+0100
TZOFFSETTO:+0200
TZNAME:CEST
DTSTART:20200329T010000
END:DAYLIGHT
BEGIN:STANDARD
TZOFFSETFROM:+0200
TZOFFSETTO:+0100
TZNAME:CET
DTSTART:20201025T010000
END:STANDARD
BEGIN:DAYLIGHT
TZOFFSETFROM:+0100
TZOFFSETTO:+0200
TZNAME:CEST
DTSTART:20210328T010000
END:DAYLIGHT
BEGIN:STANDARD
TZOFFSETFROM:+0200
TZOFFSETTO:+0100
TZNAME:CET
DTSTART:20211031T010000
END:STANDARD
BEGIN:DAYLIGHT
TZOFFSETFROM:+0100
TZOFFSETTO:+0200
TZNAME:CEST
DTSTART:20220327T010000
END:DAYLIGHT
BEGIN:STANDARD
TZOFFSETFROM:+0200
TZOFFSETTO:+0100
TZNAME:CET
DTSTART:20221030T010000
END:STANDARD
END:VTIMEZONE
BEGIN:VEVENT
DTSTART;TZID=Europe/Berlin:20211022T200000
DTEND;TZID=Europe/Berlin:20211022T213000
DTSTAMP:20260425T144545
CREATED:20210318T202831Z
LAST-MODIFIED:20211022T161717Z
UID:2630-1634932800-1634938200@hinterhalt.de
SUMMARY:Caritas - Wir feiern Geburtstag\, feiert doch mit!
DESCRIPTION:Zum 35 jährigen Jubiläum laden wir\, Mitarbeiter des Sozialpsychiatrischen Dienstes der Caritas\, mit unseren Klienten\, zu einem Livestream ein. Mit selbstgetexteten Lyrics\, Musik und Gesang gestatten uns die Künstler einen Einblick in ihr bewegtes Leben.  \n\n\n\nMit diesem Livestream zeigen wir einen positiven Umgang mit psychischer Gesundheit und holen ein Tabuthema ans Tageslicht\, mit Geschichten aus dem wahren Leben und inspirierenden Liedern.  \n\n\n\nSchaltet ein\, seid dabei\, wir freuen uns auf Euch! \n\n\n\n\n\n\n\nWie bei allen Hinterhalt-Livestreams geht der virtuelle Hut herum. Alle Beteiligten (Ton\, Kamera\, Technik und Künstler) freuen sich über ein kräftiges Klappern der elektronischen Münzen! \n\n\n\nDas funktioniert ganz einfach per PayPal \n\n\n\nwww.paypal.me/kilev \n\n\n\nSpenden kann der geneigte Zuschauer gerne jederzeit per Paypal: \n\n\n\n\nPayPal \n\n\n\n\nAlternativ geht es auch ‚old school‘ per Überweisung auf das Konto des Kulturverein Isar-Loisach e.V. (KIL)IBAN: DE49 7016 9543 0002 7374 77 BIC: GENODEF1HHS \n\n\n\nAlternativ geht es auch ‚old school‘ per Überweisung auf das Konto des Kulturverein Isar-Loisach e.V. (KIL)IBAN: DE49 7016 9543 0002 7374 77 BIC: GENODEF1HHS
URL:https://hinterhalt.de/veranstaltung/geschlossene-gesellschaft-2/
ATTACH;FMTTYPE=image/gif:https://hinterhalt.de/wp-content/uploads/2021/01/logoanim.gif
END:VEVENT
END:VCALENDAR