BEGIN:VCALENDAR
VERSION:2.0
PRODID:-//Kulturbühne Hinterhalt - ECPv6.15.20//NONSGML v1.0//EN
CALSCALE:GREGORIAN
METHOD:PUBLISH
X-WR-CALNAME:Kulturbühne Hinterhalt
X-ORIGINAL-URL:https://hinterhalt.de
X-WR-CALDESC:Veranstaltungen für Kulturbühne Hinterhalt
REFRESH-INTERVAL;VALUE=DURATION:PT1H
X-Robots-Tag:noindex
X-PUBLISHED-TTL:PT1H
BEGIN:VTIMEZONE
TZID:Europe/Berlin
BEGIN:DAYLIGHT
TZOFFSETFROM:+0100
TZOFFSETTO:+0200
TZNAME:CEST
DTSTART:20220327T010000
END:DAYLIGHT
BEGIN:STANDARD
TZOFFSETFROM:+0200
TZOFFSETTO:+0100
TZNAME:CET
DTSTART:20221030T010000
END:STANDARD
BEGIN:DAYLIGHT
TZOFFSETFROM:+0100
TZOFFSETTO:+0200
TZNAME:CEST
DTSTART:20230326T010000
END:DAYLIGHT
BEGIN:STANDARD
TZOFFSETFROM:+0200
TZOFFSETTO:+0100
TZNAME:CET
DTSTART:20231029T010000
END:STANDARD
BEGIN:DAYLIGHT
TZOFFSETFROM:+0100
TZOFFSETTO:+0200
TZNAME:CEST
DTSTART:20240331T010000
END:DAYLIGHT
BEGIN:STANDARD
TZOFFSETFROM:+0200
TZOFFSETTO:+0100
TZNAME:CET
DTSTART:20241027T010000
END:STANDARD
END:VTIMEZONE
BEGIN:VEVENT
DTSTART;TZID=Europe/Berlin:20230623T180000
DTEND;TZID=Europe/Berlin:20230623T233000
DTSTAMP:20260424T220748
CREATED:20230521T184411Z
LAST-MODIFIED:20230521T184415Z
UID:6190-1687543200-1687563000@hinterhalt.de
SUMMARY:Geschlossene Gesellschaft
DESCRIPTION:Kai HiHa I oder II
URL:https://hinterhalt.de/veranstaltung/geschlossene-gesellschaft-79/
LOCATION:Kulturbühne Hinterhalt\, Leitenstraße 40\, Geretsried\, 82538\, Deutschland
CATEGORIES:Geschlossene Gesellschaft
ATTACH;FMTTYPE=image/gif:https://hinterhalt.de/wp-content/uploads/2021/01/logoanim.gif
END:VEVENT
END:VCALENDAR