BEGIN:VCALENDAR
VERSION:2.0
PRODID:-//Kulturbühne Hinterhalt - ECPv6.15.20//NONSGML v1.0//EN
CALSCALE:GREGORIAN
METHOD:PUBLISH
X-WR-CALNAME:Kulturbühne Hinterhalt
X-ORIGINAL-URL:https://hinterhalt.de
X-WR-CALDESC:Veranstaltungen für Kulturbühne Hinterhalt
REFRESH-INTERVAL;VALUE=DURATION:PT1H
X-Robots-Tag:noindex
X-PUBLISHED-TTL:PT1H
BEGIN:VTIMEZONE
TZID:Europe/Berlin
BEGIN:DAYLIGHT
TZOFFSETFROM:+0100
TZOFFSETTO:+0200
TZNAME:CEST
DTSTART:20230326T010000
END:DAYLIGHT
BEGIN:STANDARD
TZOFFSETFROM:+0200
TZOFFSETTO:+0100
TZNAME:CET
DTSTART:20231029T010000
END:STANDARD
BEGIN:DAYLIGHT
TZOFFSETFROM:+0100
TZOFFSETTO:+0200
TZNAME:CEST
DTSTART:20240331T010000
END:DAYLIGHT
BEGIN:STANDARD
TZOFFSETFROM:+0200
TZOFFSETTO:+0100
TZNAME:CET
DTSTART:20241027T010000
END:STANDARD
BEGIN:DAYLIGHT
TZOFFSETFROM:+0100
TZOFFSETTO:+0200
TZNAME:CEST
DTSTART:20250330T010000
END:DAYLIGHT
BEGIN:STANDARD
TZOFFSETFROM:+0200
TZOFFSETTO:+0100
TZNAME:CET
DTSTART:20251026T010000
END:STANDARD
END:VTIMEZONE
BEGIN:VEVENT
DTSTART;TZID=Europe/Berlin:20241201T180000
DTEND;TZID=Europe/Berlin:20241201T210000
DTSTAMP:20260424T214513
CREATED:20240624T121436Z
LAST-MODIFIED:20241127T104204Z
UID:8292-1733076000-1733086800@hinterhalt.de
SUMMARY:Grad°jetzt: Gegen die Angst
DESCRIPTION:Eine Liveshow für alle\, die sich jemals ängstlich oder machtlos angesichts der Klimakrise gefühlt haben. Journalistin Louisa Schneider besuchte 5 Orte unseres Planeten\, sogenannte Kipppunkte\, und begegnete dort mutigen Menschen\, die heute schon am meisten betroffen sind aber furchtlos in die Welt von morgen aufbrechen. Louisa nimmt uns mit in den Regenwald\, wir lernen vom Schamanen der indigenen Yanomami\, rücken zusammen mit den Menschen Senegals\, lauschen den Geschichten der Inuit und tauchen tief zum Great Barrier Reef. \n\n\n\nEintritt frei! Ein Projekt mit Greenpeace\, Louisa Schneider und Markus Mauthe. \n\n\n\nAnsprechpartnerIn bei Fragen: \n\n\n\nAssunta Tammelleo\, Hinterhalt\, assunta@hinterhalt.deRudi Seibt\, Wolfratshausen\, 01577 89 29 282\, rudi.seibt@gruene-toelz-wor.de \n\n\n\n– Unsere Live-Reportagen: https://www.greenpeace.de/Fotoshows– Grad.jetzt\, unser neues Projekt: https://www.instagram.com/grad.jetzt/
URL:https://hinterhalt.de/veranstaltung/grad-jetzt-greenpeace-filmabend/
LOCATION:Kulturbühne Hinterhalt\, Leitenstraße 40\, Geretsried\, 82538\, Deutschland
CATEGORIES:Konzert
ATTACH;FMTTYPE=image/jpeg:https://hinterhalt.de/wp-content/uploads/2024/06/grad-jetzt.jpg
END:VEVENT
END:VCALENDAR