BEGIN:VCALENDAR
VERSION:2.0
PRODID:-//Kulturbühne Hinterhalt - ECPv6.15.20//NONSGML v1.0//EN
CALSCALE:GREGORIAN
METHOD:PUBLISH
X-WR-CALNAME:Kulturbühne Hinterhalt
X-ORIGINAL-URL:https://hinterhalt.de
X-WR-CALDESC:Veranstaltungen für Kulturbühne Hinterhalt
REFRESH-INTERVAL;VALUE=DURATION:PT1H
X-Robots-Tag:noindex
X-PUBLISHED-TTL:PT1H
BEGIN:VTIMEZONE
TZID:Europe/Berlin
BEGIN:DAYLIGHT
TZOFFSETFROM:+0100
TZOFFSETTO:+0200
TZNAME:CEST
DTSTART:20230326T010000
END:DAYLIGHT
BEGIN:STANDARD
TZOFFSETFROM:+0200
TZOFFSETTO:+0100
TZNAME:CET
DTSTART:20231029T010000
END:STANDARD
BEGIN:DAYLIGHT
TZOFFSETFROM:+0100
TZOFFSETTO:+0200
TZNAME:CEST
DTSTART:20240331T010000
END:DAYLIGHT
BEGIN:STANDARD
TZOFFSETFROM:+0200
TZOFFSETTO:+0100
TZNAME:CET
DTSTART:20241027T010000
END:STANDARD
BEGIN:DAYLIGHT
TZOFFSETFROM:+0100
TZOFFSETTO:+0200
TZNAME:CEST
DTSTART:20250330T010000
END:DAYLIGHT
BEGIN:STANDARD
TZOFFSETFROM:+0200
TZOFFSETTO:+0100
TZNAME:CET
DTSTART:20251026T010000
END:STANDARD
END:VTIMEZONE
BEGIN:VEVENT
DTSTART;TZID=Europe/Berlin:20241130T200000
DTEND;TZID=Europe/Berlin:20241130T230000
DTSTAMP:20260424T190440
CREATED:20240428T080641Z
LAST-MODIFIED:20241103T124222Z
UID:8059-1732996800-1733007600@hinterhalt.de
SUMMARY:Groove Department HiHa I
DESCRIPTION:Gerade das macht den besonderen Reiz der Interpretationen aus: Eine reiche Dramaturgie – abwechslungsreich und überraschend.  \nSZ 02.09.2019\n\n\n\nFünf Bläser\, zwei Sängerinnen\, ein Sänger und eine Rhythmusgruppe\, die weiß\, wo der Groove zuhause ist.  \n\n\n\nDas ist Groove Department \, erfahrene Live-Musiker\, die sich über 12 Jahre in namhaften Locations in und um München einen der vorderen Plätze der Münchener Funk & Soul Bands erspielt haben. Im Programm finden sich für jedermann bekannte\, tanzbare Klassiker des Genres\, garniert mit solistischen Intermezzi und bemerkenswerten Arrangements. \n\n\n\nwww.groove-department.de \n\n\n\n\n\n\n\nEinlaß 19 Uhr
URL:https://hinterhalt.de/veranstaltung/groove-department-4/
LOCATION:Kulturbühne Hinterhalt\, Leitenstraße 40\, Geretsried\, 82538\, Deutschland
CATEGORIES:Konzert
ATTACH;FMTTYPE=image/jpeg:https://hinterhalt.de/wp-content/uploads/2023/12/Groove-Department.jpg
END:VEVENT
END:VCALENDAR