BEGIN:VCALENDAR
VERSION:2.0
PRODID:-//Kulturbühne Hinterhalt - ECPv6.15.20//NONSGML v1.0//EN
CALSCALE:GREGORIAN
METHOD:PUBLISH
X-WR-CALNAME:Kulturbühne Hinterhalt
X-ORIGINAL-URL:https://hinterhalt.de
X-WR-CALDESC:Veranstaltungen für Kulturbühne Hinterhalt
REFRESH-INTERVAL;VALUE=DURATION:PT1H
X-Robots-Tag:noindex
X-PUBLISHED-TTL:PT1H
BEGIN:VTIMEZONE
TZID:Europe/Berlin
BEGIN:DAYLIGHT
TZOFFSETFROM:+0100
TZOFFSETTO:+0200
TZNAME:CEST
DTSTART:20250330T010000
END:DAYLIGHT
BEGIN:STANDARD
TZOFFSETFROM:+0200
TZOFFSETTO:+0100
TZNAME:CET
DTSTART:20251026T010000
END:STANDARD
BEGIN:DAYLIGHT
TZOFFSETFROM:+0100
TZOFFSETTO:+0200
TZNAME:CEST
DTSTART:20260329T010000
END:DAYLIGHT
BEGIN:STANDARD
TZOFFSETFROM:+0200
TZOFFSETTO:+0100
TZNAME:CET
DTSTART:20261025T010000
END:STANDARD
BEGIN:DAYLIGHT
TZOFFSETFROM:+0100
TZOFFSETTO:+0200
TZNAME:CEST
DTSTART:20270328T010000
END:DAYLIGHT
BEGIN:STANDARD
TZOFFSETFROM:+0200
TZOFFSETTO:+0100
TZNAME:CET
DTSTART:20271031T010000
END:STANDARD
END:VTIMEZONE
BEGIN:VEVENT
DTSTART;TZID=Europe/Berlin:20260626T200000
DTEND;TZID=Europe/Berlin:20260626T230000
DTSTAMP:20260424T103637
CREATED:20251024T201329Z
LAST-MODIFIED:20251029T161815Z
UID:10899-1782504000-1782514800@hinterhalt.de
SUMMARY:Guitar Night
DESCRIPTION:Guitar Night – ein Abend voller Gitarrenmusik \n\n\n\nDas Konzept ist inspiriert von der legendären Guitar Night im Jazz Club Donte’s in North Hollywood\, wo in den 70er Jahren Gitarrengrößen wie Joe Pass und John Pisano regelmäßig gemeinsam auftraten. \n\n\n\nWir greifen diese Idee auf und bringen sie in ein modernes Konzertformat:Drei Gitarristen mit ganz unterschiedlichen stilistischen Wurzeln – Wolfgang Zenk (Progressive Rock & Fusion)\, Kurt Härtl (Pop & Blues-Gitarre) und Michael Vochezer (Jazz\, Funk & Blues) – treffen auf eine eingespielte Rhythm Section.Im Mittelpunkt stehen Spielfreude\, Kommunikation auf der Bühne und stilistische Vielfalt – von jazzigen Harmonien bis zu groovenden Fusion-Sounds. \n\n\n\n🎶 Auf dem Programm:Tribute-Stücke an Legenden wie Larry Carlton & Lee Ritenour\, dazu frische Eigenkompositionen – alles eingebettet in Jazz-Rock\, Fusion und Smooth Jazz. \n\n\n\n\n\n\n\n\n\n\n\n\n\n\n\nEinlass 19:00
URL:https://hinterhalt.de/veranstaltung/guitar-night/
LOCATION:Kulturbühne Hinterhalt\, Leitenstraße 40\, Geretsried\, 82538\, Deutschland
CATEGORIES:Konzert
ATTACH;FMTTYPE=image/jpeg:https://hinterhalt.de/wp-content/uploads/2025/10/Screenshot-2025-10-24-221306.jpg
END:VEVENT
END:VCALENDAR