BEGIN:VCALENDAR
VERSION:2.0
PRODID:-//Kulturbühne Hinterhalt - ECPv6.15.20//NONSGML v1.0//EN
CALSCALE:GREGORIAN
METHOD:PUBLISH
X-WR-CALNAME:Kulturbühne Hinterhalt
X-ORIGINAL-URL:https://hinterhalt.de
X-WR-CALDESC:Veranstaltungen für Kulturbühne Hinterhalt
REFRESH-INTERVAL;VALUE=DURATION:PT1H
X-Robots-Tag:noindex
X-PUBLISHED-TTL:PT1H
BEGIN:VTIMEZONE
TZID:Europe/Berlin
BEGIN:DAYLIGHT
TZOFFSETFROM:+0100
TZOFFSETTO:+0200
TZNAME:CEST
DTSTART:20220327T010000
END:DAYLIGHT
BEGIN:STANDARD
TZOFFSETFROM:+0200
TZOFFSETTO:+0100
TZNAME:CET
DTSTART:20221030T010000
END:STANDARD
BEGIN:DAYLIGHT
TZOFFSETFROM:+0100
TZOFFSETTO:+0200
TZNAME:CEST
DTSTART:20230326T010000
END:DAYLIGHT
BEGIN:STANDARD
TZOFFSETFROM:+0200
TZOFFSETTO:+0100
TZNAME:CET
DTSTART:20231029T010000
END:STANDARD
BEGIN:DAYLIGHT
TZOFFSETFROM:+0100
TZOFFSETTO:+0200
TZNAME:CEST
DTSTART:20240331T010000
END:DAYLIGHT
BEGIN:STANDARD
TZOFFSETFROM:+0200
TZOFFSETTO:+0100
TZNAME:CET
DTSTART:20241027T010000
END:STANDARD
END:VTIMEZONE
BEGIN:VEVENT
DTSTART;TZID=Europe/Berlin:20231112T190000
DTEND;TZID=Europe/Berlin:20231112T210000
DTSTAMP:20260424T203344
CREATED:20230810T135047Z
LAST-MODIFIED:20231105T131115Z
UID:6379-1699815600-1699822800@hinterhalt.de
SUMMARY:Heimat einfach anders - Brustmann/Schäfer/Horn – Konzert
DESCRIPTION:Sebastian Horn\, Sänger und Texter von „Dreiviertelblut“ und „Bananafishbones“ stammt aus einer Familie\, in der leidenschaftlich bayrische Volkslieder gesungen wurden. Sebastian ist dann mit 14 Jahren in die Rockmusik abgebogen\, hat jetzt aber Lust bekommen\, sich diesem Familienerbe zuzuwenden. \n\n\n\nJosef Brustmann\, Wort- und Musikkabarettist\, kommt von der Klassik und der Volksmusik. Er ist lange mit dem Bairisch Diatonischen Jodelwahnsinn getourt und hat als Solokünstler sowohl bei seinen textlichen als auch musikalischen Erfindungen noch nie ein bayrisches Blatt vor den Mund genommen. \n\n\n\n\n\nBenni Schäfer\, mit 15 noch Punker\, dann leidenschaftlicher Jazzer\, ist heute ein höchst gefragter Bassist\, unter anderem bei „Dreiviertelblut“ und Josefs Band „Brustmanns Lust“ und hat Sebastian und Josef miteinander und sich selbst verbandelt. \n\n\n\nDrei ganz verschiedene musikalische Biographien\, die all ihre Erfahrung und all ihr Können in einem brandneuen Projekt zusammenschmeißen: Kein Männerdreigesang\, vielmehr ein Drei-Männer- Gesang – mächtig und schön – zu Zither\, Gitarre und Bass! \n\n\n\n„Wir singen eigene neue Lieder\, die uns unser Leben schreibt\, und wir singen natürlich auch alte bayrische Volkslieder\, weil die genial schön sind – ein unschätzbares und schwer unterschätztes Erbgut. Dabei lassen wir die alten Lieder so\, wie sie sind – leuchten da aber möglichst viele unbekannte Ecken aus. \n\n\n\nWenn Volksmusik in Medien stattfindet\, wird sie auf das Unterhaltsame und Lustige reduziert; dabei hat sie oft auch etwas sehr Geheimnisvolles\, Magisches\, Abgrundtiefes\, Erotisches. Und diese ganze Bandbreite wollen wir haben\, die ganze Schönheit und urwüchsige Kraft\, die da drinsteckt\, aufzeigen.“ \n\n\n\n \n\n\n\nEinlaß ab 18 Uhr
URL:https://hinterhalt.de/veranstaltung/heimat-einfach-anders/
LOCATION:Hinterhalt I\, Leitenstraße 40\, Geretsried\, 82538
CATEGORIES:Konzert
ATTACH;FMTTYPE=image/jpeg:https://hinterhalt.de/wp-content/uploads/2023/08/Brustmann-Schaefer-Horn-2.jpg
END:VEVENT
END:VCALENDAR