BEGIN:VCALENDAR
VERSION:2.0
PRODID:-//Kulturbühne Hinterhalt - ECPv6.15.20//NONSGML v1.0//EN
CALSCALE:GREGORIAN
METHOD:PUBLISH
X-WR-CALNAME:Kulturbühne Hinterhalt
X-ORIGINAL-URL:https://hinterhalt.de
X-WR-CALDESC:Veranstaltungen für Kulturbühne Hinterhalt
REFRESH-INTERVAL;VALUE=DURATION:PT1H
X-Robots-Tag:noindex
X-PUBLISHED-TTL:PT1H
BEGIN:VTIMEZONE
TZID:Europe/Berlin
BEGIN:DAYLIGHT
TZOFFSETFROM:+0100
TZOFFSETTO:+0200
TZNAME:CEST
DTSTART:20250330T010000
END:DAYLIGHT
BEGIN:STANDARD
TZOFFSETFROM:+0200
TZOFFSETTO:+0100
TZNAME:CET
DTSTART:20251026T010000
END:STANDARD
BEGIN:DAYLIGHT
TZOFFSETFROM:+0100
TZOFFSETTO:+0200
TZNAME:CEST
DTSTART:20260329T010000
END:DAYLIGHT
BEGIN:STANDARD
TZOFFSETFROM:+0200
TZOFFSETTO:+0100
TZNAME:CET
DTSTART:20261025T010000
END:STANDARD
BEGIN:DAYLIGHT
TZOFFSETFROM:+0100
TZOFFSETTO:+0200
TZNAME:CEST
DTSTART:20270328T010000
END:DAYLIGHT
BEGIN:STANDARD
TZOFFSETFROM:+0200
TZOFFSETTO:+0100
TZNAME:CET
DTSTART:20271031T010000
END:STANDARD
END:VTIMEZONE
BEGIN:VEVENT
DTSTART;TZID=Europe/Berlin:20260121T200000
DTEND;TZID=Europe/Berlin:20260121T223000
DTSTAMP:20260424T122744
CREATED:20251110T182103Z
LAST-MODIFIED:20260121T091100Z
UID:11136-1769025600-1769034600@hinterhalt.de
SUMMARY:VERSCHOBEN! HILDE& HENRY
DESCRIPTION:Ein Abend über eine ungewöhnliche Freundschaft mit Musik eine literarisch musikalische Lesung von und mit \n\n\n\nJulia v. Miller und Dieter Holesch an der Gitarre \n\n\n\nHildegard Knef und Henry Miller treffen sich Ende der 60er Jahre und werden Freunde. Die Knef wohnt in dieser Zeit\, frisch verheiratet\, am Starnberger See. Beide malen und schreiben und haben mehr gemeinsam\, als man auf den ersten Blick vermutet. Sie waren rastlos\, vielseitig begabt\, konnten nicht mit Geld umgehen und waren aus unterschiedlichen Gründen gesellschaftlich Geächtete… Julia Miller wirft einen Schlagschatten auf diese faszinierende deutsch amerikanische Verbindung. Texte\, Briefe\, Zeitungsartikel\, dazwischen frisch interpretierte Chansons der Knef machen Hilde & Henry lebendig und mit ihnen eine ganze Ära zwischen Tradition und Aufbruch. \n\n\n\nJulia von Miller – Text und Gesang Dieter Holesch – Gitarre \n\n\n\nEinlass ab 19 Uhr
URL:https://hinterhalt.de/veranstaltung/hilde-henry/
LOCATION:Kulturbühne Hinterhalt\, Leitenstraße 40\, Geretsried\, 82538\, Deutschland
CATEGORIES:Konzert
ATTACH;FMTTYPE=image/jpeg:https://hinterhalt.de/wp-content/uploads/2025/11/Standard-Life.jpeg
END:VEVENT
END:VCALENDAR