BEGIN:VCALENDAR
VERSION:2.0
PRODID:-//Kulturbühne Hinterhalt - ECPv6.15.20//NONSGML v1.0//EN
CALSCALE:GREGORIAN
METHOD:PUBLISH
X-WR-CALNAME:Kulturbühne Hinterhalt
X-ORIGINAL-URL:https://hinterhalt.de
X-WR-CALDESC:Veranstaltungen für Kulturbühne Hinterhalt
REFRESH-INTERVAL;VALUE=DURATION:PT1H
X-Robots-Tag:noindex
X-PUBLISHED-TTL:PT1H
BEGIN:VTIMEZONE
TZID:Europe/Berlin
BEGIN:DAYLIGHT
TZOFFSETFROM:+0100
TZOFFSETTO:+0200
TZNAME:CEST
DTSTART:20240331T010000
END:DAYLIGHT
BEGIN:STANDARD
TZOFFSETFROM:+0200
TZOFFSETTO:+0100
TZNAME:CET
DTSTART:20241027T010000
END:STANDARD
BEGIN:DAYLIGHT
TZOFFSETFROM:+0100
TZOFFSETTO:+0200
TZNAME:CEST
DTSTART:20250330T010000
END:DAYLIGHT
BEGIN:STANDARD
TZOFFSETFROM:+0200
TZOFFSETTO:+0100
TZNAME:CET
DTSTART:20251026T010000
END:STANDARD
BEGIN:DAYLIGHT
TZOFFSETFROM:+0100
TZOFFSETTO:+0200
TZNAME:CEST
DTSTART:20260329T010000
END:DAYLIGHT
BEGIN:STANDARD
TZOFFSETFROM:+0200
TZOFFSETTO:+0100
TZNAME:CET
DTSTART:20261025T010000
END:STANDARD
END:VTIMEZONE
BEGIN:VEVENT
DTSTART;TZID=Europe/Berlin:20250127T180000
DTEND;TZID=Europe/Berlin:20250127T193000
DTSTAMP:20260424T182735
CREATED:20250106T153629Z
LAST-MODIFIED:20250119T191329Z
UID:9285-1738000800-1738006200@hinterhalt.de
SUMMARY:Holocaust-Gedenktag - Filvorführung "ENDSTATION SEESHAUPT" im Kino Wolfratshausen
DESCRIPTION:Zum 80. Jahrestag der Befreiung des Vernichtungs- und Konzentrationslagers Auschwitz.Zum Holocaust-Gedenktag am 27. Januar 2025 soll mit Filmen und Sonderveranstaltungen an diesen dunklen Teil unserer Geschichte erinnert werden. \n\n\n\nDer Film erzählt die Geschichte des Todeszuges\, der im April 1945 mit ca. 4000 KZ-Häftlingen aus dem Dachauer Außenlager Mühldorf auf eine fünftägige Irrfahrt durch Bayern geschickt wurde\, mit dem Ziel\, die Häftlinge in den Alpen vor den anrückenden\, alliierten Truppen zu verbergen.  \n\n\n\nProtagonist des Filmes ist Louis Sneh\, ein Überlebender des Holocaust\, der damals 17 Jahre alt war. Während er heute mit einem Zug die Strecke entlang fährt\, erzählt Louis Sneh von seinem Leidensweg\, seiner Deportation\, seiner Zeit im Außenlager Mühldorf-Mettenheim\, von der Fahrt im kalten Güterwagon\, von Hunger\, Krankheit und Tod\, von den Ereignissen und Zwischenfällen in Ampfing\, Poing\, München\, Beuerberg\, Penzberg und Tutzing. Luis Sneh berichtet auch von seiner Befreiung aus dem Zug durch die amerikanischen Truppen am 30. April 1945 im oberbayerischen Seeshaupt.  \n\n\n\nVon Beginn der 1960er Jahre an\, nachdem er sich in Santa Monika/Kalifornien eine Existenz als Generalvertreter für Leica aufgebaut und eine Familie gegründet hatte\, reiste Louis Sneh jedes Jahr alleine nach Seeshaupt\, um dort am Bahnhof seinen zweiten Geburtstag zu feiern. \n\n\n\nEin weiterer Protagonist des Filmes ist Dr. Max Mannheimer\, der über Auschwitz und Dachau in das KZ-Außenlager Mühldorf kam und mit Flecktyphus diese Zugfahrt überstand. Seit 1988 war Max Mannheimer Vorsitzender der Lagergemeinschaft Dachau und leistete bis zu seinem Tod im Herbst 2016 eine unermüdliche Erinnerungsarbeit. Er hielt Vorträge vor Erwachsenen sowie in Schulen\, wo er den Jugendlichen von den Schrecken des Nationalsozialismus sowie seine Geschichte erzählte. \n\n\n\nENDSTATION SEESHAUPT wurde in das Archiv von Yad Vashem in Jerusalem aufgenommen und weltweit in Universitäten und Schulen gezeigt. Ein Film über den Holocaust\, der erinnert\, der aber auch Hoffnung macht auf Versöhnung und Frieden. \n\n\n\nHier geht’s zum Kinotrailer von ENDSTATION SEESHAUPT:  https://www.youtube.com/watch?v=xwqcIZoUG44
URL:https://hinterhalt.de/veranstaltung/holocaust-gedenktag-filvorfuehrung-endstation-seeshaupt-im-kino-wolfratshausen/
LOCATION:Kino Wolfratshausen\, Bahnhofstraße 10\, Wolfratshausen\, 82515\, Deutschland
CATEGORIES:Konzert
ATTACH;FMTTYPE=image/jpeg:https://hinterhalt.de/wp-content/uploads/2025/01/endstation-Seeshaupt.jpg
END:VEVENT
END:VCALENDAR