BEGIN:VCALENDAR
VERSION:2.0
PRODID:-//Kulturbühne Hinterhalt - ECPv6.15.20//NONSGML v1.0//EN
CALSCALE:GREGORIAN
METHOD:PUBLISH
X-WR-CALNAME:Kulturbühne Hinterhalt
X-ORIGINAL-URL:https://hinterhalt.de
X-WR-CALDESC:Veranstaltungen für Kulturbühne Hinterhalt
REFRESH-INTERVAL;VALUE=DURATION:PT1H
X-Robots-Tag:noindex
X-PUBLISHED-TTL:PT1H
BEGIN:VTIMEZONE
TZID:Europe/Berlin
BEGIN:DAYLIGHT
TZOFFSETFROM:+0100
TZOFFSETTO:+0200
TZNAME:CEST
DTSTART:20260329T010000
END:DAYLIGHT
BEGIN:STANDARD
TZOFFSETFROM:+0200
TZOFFSETTO:+0100
TZNAME:CET
DTSTART:20261025T010000
END:STANDARD
BEGIN:DAYLIGHT
TZOFFSETFROM:+0100
TZOFFSETTO:+0200
TZNAME:CEST
DTSTART:20270328T010000
END:DAYLIGHT
BEGIN:STANDARD
TZOFFSETFROM:+0200
TZOFFSETTO:+0100
TZNAME:CET
DTSTART:20271031T010000
END:STANDARD
BEGIN:DAYLIGHT
TZOFFSETFROM:+0100
TZOFFSETTO:+0200
TZNAME:CEST
DTSTART:20280326T010000
END:DAYLIGHT
BEGIN:STANDARD
TZOFFSETFROM:+0200
TZOFFSETTO:+0100
TZNAME:CET
DTSTART:20281029T010000
END:STANDARD
END:VTIMEZONE
BEGIN:VEVENT
DTSTART;TZID=Europe/Berlin:20270313T200000
DTEND;TZID=Europe/Berlin:20270313T230000
DTSTAMP:20260422T175710
CREATED:20260422T102717Z
LAST-MODIFIED:20260422T134354Z
UID:12658-1804968000-1804978800@hinterhalt.de
SUMMARY:Jakarta Blues Band
DESCRIPTION:„Musik aus einer Zeit\, als die Verstärker klein waren und die Autos noch Flossen hatten“ \n\n\n\nDie sechs Musiker aus dem Münchner Umland sind im Hinterhalt regelmäßige und gern gesehene Gäste. Mit höchster Spielfreude zelebrieren sie alle Facetten des Blues und beweisen immer wieder aufs Neue\, dass Blues Lebensfreude pur vermittelt. Bei der Jakarta Blues Band heißt es bei strammen Shuffles und treibendem Jump Blues „Shake It\, Baby !“. Die Musiker bieten perfekte handgemachte Musik\, bei der man einfach nicht stillhalten kann. Mit Liebe und Respekt lassen sie einen Sound aufleben\, der mit seiner ursprünglichen Kraft und Emotionalität die Zuhörer in seinen Bann zieht. T-Bone Walker\, B.B. King und Otis Rush heißen die Vorbilder. Nach dem Urteil gutsortierter Blues-Fans ist die Band verdammt nah dran am Sound ihrer Helden. Kaum ein Gitarrist pflegt den Chicago-Blues-Stil so authentisch wie Markus Stegbauer\, der Lead-Gitarrist und Sänger der Band\, der sich vor allem in die Lines von Otis Rush und B.B. King hineinfuchst wie kein Zweiter und sie als Inspiration für eigene Soli einsetzt. \n\n\n\nMit ihrem abwechslungsreichen Programm hat sich die Band in Südbayern mittlerweile einen erstklassigen Ruf erspielt. Wir freuen uns\, dass sie auch wieder im Hinterhalt sind! \n\n\n\nPressestimmen zu vergangenen Auftritten: \n\n\n\nSüddeutsche Zeitung\, Dachau: „Gesteigert wird das noch von der Jakarta Blues Band\, die mit ihrem groovigen und swingenden Sound die Stimmung zum Kochen bringt. Pfiffe\, Begeisterungsrufe und frenetischer Applaus: Erfahrung – die Musiker sind schon leicht ergraut – macht den Meister.“ \n\n\n\nStefan Fritz\, Bavaria News\, „Die Bandbreite reicht vom Slow-Blues – wie dem „I can´t quit you baby“ (W. Dixon) bis hin zu mitreißenden Tanznummern z.B. Albert Kings „Let´s have a natural Ball“. Womit dann auch spätestens das alte Vorurteil vom Tisch gewischt wäre\, Blues sei nur etwas für Melancholiker! Und das Stammpublikum (…) lässt sich nicht lange bitten\, geht bereits nach den ersten Stücken begeistert mit und steigert sich im Verlauf des fast dreistündigen Konzerts zu wahren Ovationen. (…) Und bei „Up The Line“ liefern sich Florian Niklas jazziges Saxophon mit der geschmeidig plaudernden Leadgitarre von Markus Stegbauer ein geradezu spaßiges Frage-Antwort-Spiel.“ \n\n\n\nBurghauser Anzeiger\, „Mit Sommerwetter und einem fulminanten Auftritt der Jakarta Blues Band ging die diesjährige Reihe von „Jazz am Bichl“ zu Ende. Und es war ein würdiger Abschluss für diese Konzertreihe. Fetter\, satter\, manchmal lauter\, manchmal leise\, manchmal frecher\, manchmal trauriger Blues unterhielt die Besucher drei volle Stunden. Und die Besucher dankten es den Künstlern und der veranstaltenden IG Jazz einmal mehr mit einem vollen Platz. Egal\, ob Sitz- oder Stehplätze am oder am Rand des Bichls: Alles war restlos belegt\, und es gab fast kein Durchkommen mehr“  \n\n\n\nhttps://de-de.facebook.com/JakartaBluesBand \n\n\n\nwww.jakartabluesband.de
URL:https://hinterhalt.de/veranstaltung/jakarta-blues-band-4/
LOCATION:Hinterhalt I\, Leitenstraße 40\, Geretsried\, 82538
CATEGORIES:Konzert
ATTACH;FMTTYPE=image/jpeg:https://hinterhalt.de/wp-content/uploads/2025/07/HiHa25_JakartaBluesBand_C_Bernd-Satzinger_70.jpg
END:VEVENT
END:VCALENDAR