BEGIN:VCALENDAR
VERSION:2.0
PRODID:-//Kulturbühne Hinterhalt - ECPv6.15.20//NONSGML v1.0//EN
CALSCALE:GREGORIAN
METHOD:PUBLISH
X-WR-CALNAME:Kulturbühne Hinterhalt
X-ORIGINAL-URL:https://hinterhalt.de
X-WR-CALDESC:Veranstaltungen für Kulturbühne Hinterhalt
REFRESH-INTERVAL;VALUE=DURATION:PT1H
X-Robots-Tag:noindex
X-PUBLISHED-TTL:PT1H
BEGIN:VTIMEZONE
TZID:Europe/Berlin
BEGIN:DAYLIGHT
TZOFFSETFROM:+0100
TZOFFSETTO:+0200
TZNAME:CEST
DTSTART:20210328T010000
END:DAYLIGHT
BEGIN:STANDARD
TZOFFSETFROM:+0200
TZOFFSETTO:+0100
TZNAME:CET
DTSTART:20211031T010000
END:STANDARD
BEGIN:DAYLIGHT
TZOFFSETFROM:+0100
TZOFFSETTO:+0200
TZNAME:CEST
DTSTART:20220327T010000
END:DAYLIGHT
BEGIN:STANDARD
TZOFFSETFROM:+0200
TZOFFSETTO:+0100
TZNAME:CET
DTSTART:20221030T010000
END:STANDARD
BEGIN:DAYLIGHT
TZOFFSETFROM:+0100
TZOFFSETTO:+0200
TZNAME:CEST
DTSTART:20230326T010000
END:DAYLIGHT
BEGIN:STANDARD
TZOFFSETFROM:+0200
TZOFFSETTO:+0100
TZNAME:CET
DTSTART:20231029T010000
END:STANDARD
END:VTIMEZONE
BEGIN:VEVENT
DTSTART;TZID=Europe/Berlin:20220326T200000
DTEND;TZID=Europe/Berlin:20220326T223000
DTSTAMP:20260425T055132
CREATED:20220114T201751Z
LAST-MODIFIED:20220316T212408Z
UID:3680-1648324800-1648333800@hinterhalt.de
SUMMARY:Jakarta Blues Band
DESCRIPTION:„Musik aus einer Zeit\, als die Verstärker klein waren und die Autos noch Flossen hatten“ \n\n\n\nMit höchster Spielfreude zelebriert die Jakarta Blues Band aus dem Münchner Umland alle Facetten des Blues und beweist immer wieder aufs Neue\, dass Blues Lebensfreude pur vermittelt. Bei der Jakarta Blues Band heißt es bei strammen Shuffles und treibendem Jump Blues „Shake It\, Baby !“. Die Musiker bieten perfekte handgemachte Musik\, bei der man einfach nicht stillhalten kann. Mit Liebe und Respekt lassen sie einen Sound aufleben\, der mit seiner ursprünglichen Kraft und Emotionalität die Zuhörer in seinen Bann zieht. T-Bone Walker\, B.B. King und Otis Rush heißen die Vorbilder. Nach dem Urteil gutsortierter Blues-Fans ist die Band verdammt nah dran am Sound ihrer Helden. \n\n\n\nKaum ein Gitarrist pflegt den Chicago-Blues-Stil so authentisch wie Markus Stegbauer\, der Lead-Gitarrist und Sänger der Band\, der sich vor allem in die Lines von Otis Rush und B.B. King hineinfuchst wie kein Zweiter und sie als Inspiration für eigene Soli einsetzt. \n\n\n\nMit ihrem abwechslungsreichen Programm hat sich die Band in Südbayern mittlerweile einen erstklassigen Ruf erspielt. \n\n\n\n\n\n\n\nDas Konzert wird aufgezeichnet und kann im Anschluß auf dem Hinterhalt Youtube-Kanal angeschaut werden. \n\n\n\n\n\n\n\nSpenden kann der geneigte Zuschauer gerne jederzeit per Paypal: \n\n\n\nSpenden kann der geneigte Zuschauer gerne jederzeit per Paypal: \n\n\n\n\nPayPal \n\n\n\n\nAlternativ geht es auch ‚old school‘ per Überweisung auf das Konto des Kulturverein Isar-Loisach e.V. (KIL)IBAN: DE49 7016 9543 0002 7374 77 BIC: GENODEF1HHS \n\n\n\nAlternativ geht es auch ‚old school‘ per Überweisung auf das Konto des Kulturverein Isar-Loisach e.V. (KIL)IBAN: DE49 7016 9543 0002 7374 77 BIC: GENODEF1HHS
URL:https://hinterhalt.de/veranstaltung/jakarta-blues-band/
ATTACH;FMTTYPE=image/jpeg:https://hinterhalt.de/wp-content/uploads/2022/01/Jakarta-Blues-Band_live-kl-.jpg
END:VEVENT
END:VCALENDAR