BEGIN:VCALENDAR
VERSION:2.0
PRODID:-//Kulturbühne Hinterhalt - ECPv6.15.20//NONSGML v1.0//EN
CALSCALE:GREGORIAN
METHOD:PUBLISH
X-WR-CALNAME:Kulturbühne Hinterhalt
X-ORIGINAL-URL:https://hinterhalt.de
X-WR-CALDESC:Veranstaltungen für Kulturbühne Hinterhalt
REFRESH-INTERVAL;VALUE=DURATION:PT1H
X-Robots-Tag:noindex
X-PUBLISHED-TTL:PT1H
BEGIN:VTIMEZONE
TZID:Europe/Berlin
BEGIN:DAYLIGHT
TZOFFSETFROM:+0100
TZOFFSETTO:+0200
TZNAME:CEST
DTSTART:20220327T010000
END:DAYLIGHT
BEGIN:STANDARD
TZOFFSETFROM:+0200
TZOFFSETTO:+0100
TZNAME:CET
DTSTART:20221030T010000
END:STANDARD
BEGIN:DAYLIGHT
TZOFFSETFROM:+0100
TZOFFSETTO:+0200
TZNAME:CEST
DTSTART:20230326T010000
END:DAYLIGHT
BEGIN:STANDARD
TZOFFSETFROM:+0200
TZOFFSETTO:+0100
TZNAME:CET
DTSTART:20231029T010000
END:STANDARD
BEGIN:DAYLIGHT
TZOFFSETFROM:+0100
TZOFFSETTO:+0200
TZNAME:CEST
DTSTART:20240331T010000
END:DAYLIGHT
BEGIN:STANDARD
TZOFFSETFROM:+0200
TZOFFSETTO:+0100
TZNAME:CET
DTSTART:20241027T010000
END:STANDARD
END:VTIMEZONE
BEGIN:VEVENT
DTSTART;TZID=Europe/Berlin:20230723T193000
DTEND;TZID=Europe/Berlin:20230723T220000
DTSTAMP:20260425T041932
CREATED:20230723T100652Z
LAST-MODIFIED:20230723T113222Z
UID:6281-1690140600-1690149600@hinterhalt.de
SUMMARY:Jan Wannemacher „Solo“
DESCRIPTION:ACHTUNG! Auf der Bühne des Flussfestivals an der Alten Floßlände in Wolfratshausen! \n\n\n\n\n\nZiemlich spontan auf der einen Seite – und andererseits auch wieder nicht spontan! Hocherfreut sind wir von der Kulturbühne Hinterhalt über das Konzert des Newcomers aus Münsing – Jan Wannemacher – der unlängst seine erste „EP“ im voll besetzten Geltinger „Hinterhalt“ vorstellen konnte. Jan ist gebürtig aus Wasserburg am Inn und inzwischen sozusagen ein „Wahl“-Münsinger; er lebt dort seit geraumer Zeit mit Frau und Kind. Über einen Auftritt auf dem Wolfratshauser Flussfestival hatte er vor vielen Monaten bereits schon mit der damaligen Kulturmanagerin Marlene Schretzenmaier gesprochen. Andreas Kutter als ihr Nachfolger im Amt fand die Idee zum Abschlusskonzert des Festivals großartig und war sofort dabei. Er kennt den Jan musikalisch bereits ganz gut\, denn der hat auch in der Wolfratshauser Innenstadt an Samstagen als Liedermacher Straßenmusik gemacht. Außerdem hat er auf Einladung der Stadträtin Jenny Layton den „Stadtstrand“ neben dem Japanischen Garten – zur Freude aller Besucher – musikalisch eingeweiht.  \n\n\n\nDas Konzert zum Abschluss des Flussfestivals – im Anschluss an den Familientag am Loisachufer – ist für Besucher kostenlos\, alle sind herzlich willkommen mit der ganzen Familie\, Freunden\, Bekannten und überhaupt! \n\n\n\n \n\n\n\nMitten aus dem Leben sind die Lieder des bayerischen Liedermachers und Gitarristen Jan Wannemacher\, in denen er sich unbeschwert Alltagsthemen wie z.B. dem elendigen Heuschnupfen\, dem imaginären Teufel auf der Schulter oder der verzwickten Partnersuche widmet. Sympathisch\, humorvoll und mitreißend lädt sein eingängiger Mundart-Pop zum Mitsingen und Tanzen ein und sorgt einfach für gute Laune.Ob rein akustisch nur mit der Gitarre oder verstärkt mit Loop-Station – Jan spielt mit einer Leichtigkeit und Freude\, die so herrlich ehrlich und ungezwungen daherkommt.Sein Credo für Texte und Melodien lautet: „Zuhören\, loslassen\, eintauchen\, mitmachen“ und das hin und wieder mit einem Augenzwinkern. So bleiben seine kurzweiligen Konzerte stets in beschwingt entspannter Erinnerung.
URL:https://hinterhalt.de/veranstaltung/jan-wannemacher-solo/
CATEGORIES:Konzert
ATTACH;FMTTYPE=image/jpeg:https://hinterhalt.de/wp-content/uploads/2023/07/Jan-Wannemacher.jpg
END:VEVENT
END:VCALENDAR