BEGIN:VCALENDAR
VERSION:2.0
PRODID:-//Kulturbühne Hinterhalt - ECPv6.15.20//NONSGML v1.0//EN
CALSCALE:GREGORIAN
METHOD:PUBLISH
X-WR-CALNAME:Kulturbühne Hinterhalt
X-ORIGINAL-URL:https://hinterhalt.de
X-WR-CALDESC:Veranstaltungen für Kulturbühne Hinterhalt
REFRESH-INTERVAL;VALUE=DURATION:PT1H
X-Robots-Tag:noindex
X-PUBLISHED-TTL:PT1H
BEGIN:VTIMEZONE
TZID:Europe/Berlin
BEGIN:DAYLIGHT
TZOFFSETFROM:+0100
TZOFFSETTO:+0200
TZNAME:CEST
DTSTART:20260329T010000
END:DAYLIGHT
BEGIN:STANDARD
TZOFFSETFROM:+0200
TZOFFSETTO:+0100
TZNAME:CET
DTSTART:20261025T010000
END:STANDARD
BEGIN:DAYLIGHT
TZOFFSETFROM:+0100
TZOFFSETTO:+0200
TZNAME:CEST
DTSTART:20270328T010000
END:DAYLIGHT
BEGIN:STANDARD
TZOFFSETFROM:+0200
TZOFFSETTO:+0100
TZNAME:CET
DTSTART:20271031T010000
END:STANDARD
BEGIN:DAYLIGHT
TZOFFSETFROM:+0100
TZOFFSETTO:+0200
TZNAME:CEST
DTSTART:20280326T010000
END:DAYLIGHT
BEGIN:STANDARD
TZOFFSETFROM:+0200
TZOFFSETTO:+0100
TZNAME:CET
DTSTART:20281029T010000
END:STANDARD
END:VTIMEZONE
BEGIN:VEVENT
DTSTART;TZID=Europe/Berlin:20270206T200000
DTEND;TZID=Europe/Berlin:20270206T230000
DTSTAMP:20260424T134313
CREATED:20260105T155512Z
LAST-MODIFIED:20260118T155858Z
UID:11500-1801944000-1801954800@hinterhalt.de
SUMMARY:Katrin & Werner Unterlercher -„Weitblick“
DESCRIPTION:Katrin und Werner Unterlercher stehen seit Jahren für „Saitenmusik der innovativen Art“ und lassen in der Grundbesetzung Volksharfe und Kontrabass klangliche Funken sprühen. Sie schaffen es auf Anhieb diese nach wenigen Takten auf ihr Publikum überspringen zu lassen. Für das aus Tirol stammende Ehepaar genügt ein Blick zueinander – und die Musik funktioniert. Man kann behaupten\, dass die beiden mit ihren Instrumenten „denken und fühlen“ und es übersteigt manch Fassungsvermögen\, was das Duo an Brillianz und Klangvolumen auf die Bühnenbretter bringt. In Erweiterung ihres Instrumentariums auf E-Bass\, Hackbrett\, Gitarre und gewitzten Gesangseinlagen lässt sich ihre Musik schwer in eine Schublade stecken\, bisher entwickelten sie ihren ganz eigenen Musikstil. Vom Tango bis zum Walzer über Jazz und moderner Gegenwartsmusik reichen ihre Eigenkompositionen. Kurzweilig und vielfältig. Die Harfe schwebt\, der Bass erdet.Es klingt modern und vertraut\, nachhaltig und innovativ. Diese Musik istZukunftsmusik. Voller Lebensfreude. \n\n\n\nwww.katrinunterlercher.at
URL:https://hinterhalt.de/veranstaltung/katrin-werner-unterlercher-2/
LOCATION:Hinterhalt I\, Leitenstraße 40\, Geretsried\, 82538
CATEGORIES:Konzert
ATTACH;FMTTYPE=image/jpeg:https://hinterhalt.de/wp-content/uploads/2026/01/Katrin-Werner-Unterlercher.jpg
END:VEVENT
END:VCALENDAR