BEGIN:VCALENDAR
VERSION:2.0
PRODID:-//Kulturbühne Hinterhalt - ECPv6.15.20//NONSGML v1.0//EN
CALSCALE:GREGORIAN
METHOD:PUBLISH
X-WR-CALNAME:Kulturbühne Hinterhalt
X-ORIGINAL-URL:https://hinterhalt.de
X-WR-CALDESC:Veranstaltungen für Kulturbühne Hinterhalt
REFRESH-INTERVAL;VALUE=DURATION:PT1H
X-Robots-Tag:noindex
X-PUBLISHED-TTL:PT1H
BEGIN:VTIMEZONE
TZID:Europe/Berlin
BEGIN:DAYLIGHT
TZOFFSETFROM:+0100
TZOFFSETTO:+0200
TZNAME:CEST
DTSTART:20220327T010000
END:DAYLIGHT
BEGIN:STANDARD
TZOFFSETFROM:+0200
TZOFFSETTO:+0100
TZNAME:CET
DTSTART:20221030T010000
END:STANDARD
BEGIN:DAYLIGHT
TZOFFSETFROM:+0100
TZOFFSETTO:+0200
TZNAME:CEST
DTSTART:20230326T010000
END:DAYLIGHT
BEGIN:STANDARD
TZOFFSETFROM:+0200
TZOFFSETTO:+0100
TZNAME:CET
DTSTART:20231029T010000
END:STANDARD
BEGIN:DAYLIGHT
TZOFFSETFROM:+0100
TZOFFSETTO:+0200
TZNAME:CEST
DTSTART:20240331T010000
END:DAYLIGHT
BEGIN:STANDARD
TZOFFSETFROM:+0200
TZOFFSETTO:+0100
TZNAME:CET
DTSTART:20241027T010000
END:STANDARD
END:VTIMEZONE
BEGIN:VEVENT
DTSTART;TZID=Europe/Berlin:20230430T200000
DTEND;TZID=Europe/Berlin:20230430T223000
DTSTAMP:20260424T192321
CREATED:20221128T174223Z
LAST-MODIFIED:20230130T121407Z
UID:5428-1682884800-1682893800@hinterhalt.de
SUMMARY:Kiesbankband
DESCRIPTION:Die Kiesbankband aus dem Niemandsland zwischen Chiemgau und Inntal bringt mit leidenschaftlichem Liedermacherrock zu bairisch-deutschen Texten ihr Publikum in Wallung.Bei ihren Gigs heften sie sich dem Leben an die Fersen und verschieben zusammen mit ihren Fans den Weltuntergang auf später.Die kraftvoll-würzige Musik wird mit launig-humoresker Kante losgelassen und abgetanzt – ein wahrer „Energieschub für Himmel\, Arsch & Hirn“\, dem Motto der Band für die zwanziger Jahre.Hol Dir Deine Extraportion Lust & Laune am 30. April in Geretsried/Gelting im Hinterhalt. Die Kiesbanker Simon\, Mazze\, Thales\, Stern und Gue können´s freuen sich darauf\, Dich auf ihrem musikalischen Schlenker quer durch den Lebensnerv mitzunehmen. \n\n\n\n\n\n\n\nBesetzung• Mazze\, Matthias Opielka (Lead-Gitarre)• Thales\, Christian Thalhammer (Sax\, Bass\, Gitarre)• Stern\, Thomas Rieger (Trompete\, Keyboard)• Simon Stöhr (Schlagzeug\, Percussion)• Gue\, Günter Polacek (Gesang\, Gitarre)• Gregor Wolf (Tontechnik\, Sound\, Licht)
URL:https://hinterhalt.de/veranstaltung/kiesbankband/
LOCATION:Kulturbühne Hinterhalt\, Leitenstraße 40\, Geretsried\, 82538\, Deutschland
CATEGORIES:Konzert
ATTACH;FMTTYPE=image/png:https://hinterhalt.de/wp-content/uploads/2022/11/Kiesbankband-Logo.png
END:VEVENT
END:VCALENDAR