BEGIN:VCALENDAR
VERSION:2.0
PRODID:-//Kulturbühne Hinterhalt - ECPv6.15.20//NONSGML v1.0//EN
CALSCALE:GREGORIAN
METHOD:PUBLISH
X-WR-CALNAME:Kulturbühne Hinterhalt
X-ORIGINAL-URL:https://hinterhalt.de
X-WR-CALDESC:Veranstaltungen für Kulturbühne Hinterhalt
REFRESH-INTERVAL;VALUE=DURATION:PT1H
X-Robots-Tag:noindex
X-PUBLISHED-TTL:PT1H
BEGIN:VTIMEZONE
TZID:Europe/Berlin
BEGIN:DAYLIGHT
TZOFFSETFROM:+0100
TZOFFSETTO:+0200
TZNAME:CEST
DTSTART:20230326T010000
END:DAYLIGHT
BEGIN:STANDARD
TZOFFSETFROM:+0200
TZOFFSETTO:+0100
TZNAME:CET
DTSTART:20231029T010000
END:STANDARD
BEGIN:DAYLIGHT
TZOFFSETFROM:+0100
TZOFFSETTO:+0200
TZNAME:CEST
DTSTART:20240331T010000
END:DAYLIGHT
BEGIN:STANDARD
TZOFFSETFROM:+0200
TZOFFSETTO:+0100
TZNAME:CET
DTSTART:20241027T010000
END:STANDARD
BEGIN:DAYLIGHT
TZOFFSETFROM:+0100
TZOFFSETTO:+0200
TZNAME:CEST
DTSTART:20250330T010000
END:DAYLIGHT
BEGIN:STANDARD
TZOFFSETFROM:+0200
TZOFFSETTO:+0100
TZNAME:CET
DTSTART:20251026T010000
END:STANDARD
END:VTIMEZONE
BEGIN:VEVENT
DTSTART;TZID=Europe/Berlin:20240219T193000
DTEND;TZID=Europe/Berlin:20240219T220000
DTSTAMP:20260424T203625
CREATED:20240205T085549Z
LAST-MODIFIED:20240219T074341Z
UID:7376-1708371000-1708380000@hinterhalt.de
SUMMARY:Kino WOR – „Die Unbeugsamen“
DESCRIPTION:Film-Abend „Kopf über Stöckelschuh‘“ mit Akkordeon\, Ansage und Apero – „Die Unbeugsamen“ – Es geht los\, meine Damen und Herren! Ob es wirklich an der Zeit ist\, die Herren aus den Parlamenten zu jagen oder ob vielleicht besser doch nicht? Der KIL e.V. lädt auf alle Fälle ins Kino; runter vom Sofa mit dem Hintern\, also auch „Arsch huh!“ an alle Männer und Frauen und sonstige…  \n\n\n\n05 Jahre ist es genau an diesem 19.2. (!) her\, dass die erste vom Volk gewählte Abgeordnete im Deutschen Parlament eine Rede gehalten hat. Das war quasi im ersten deutschen Parlament\, das diesen Namen – aus heutiger Sicht – verdient. Seit 1919 gibt es in Deutschland das aktive und passive Wahlrecht für Frauen. Die erste Rednerin – eine von 37 gewählten weiblichen Abgeordneten (Frauenanteil knapp 9 % immerhin) – war die engagierte Marie Juchacz (u.a. Mit-Begründerin der AWO und später obendrein im Widerstand gegen das nationalsozialistische Regime).  \n\n\n\nEinlass 19h30\, Akkordeon spielt Anja Awiszus\, Ansage und Apero im Kino-Eintritt inbegriffen\, Film-Start 20h00. Der Film „Die Unbeugsamen“ von Torsten Körner zeigt die Arbeit und die vielfach unter Beweis gestellte Resilienz der weiblichen Abgeordneten im Bundestag nach dem zweiten Weltkrieg. Sehenswert! Reservierungen ausschließlich über KINO WOR.
URL:https://hinterhalt.de/veranstaltung/kino-wor-die-unbeugsamen/
LOCATION:Kino Wolfratshausen\, Bahnhofstraße 10\, Wolfratshausen\, 82515\, Deutschland
CATEGORIES:Konzert
END:VEVENT
END:VCALENDAR